BEGIN:VCALENDAR
VERSION:2.0
PRODID:-//별빛좋은펜션 - ECPv6.10.1.1//NONSGML v1.0//EN
CALSCALE:GREGORIAN
METHOD:PUBLISH
X-ORIGINAL-URL:https://xn--sk4b78fdsau01b.kr
X-WR-CALDESC:별빛좋은펜션 이벤트
REFRESH-INTERVAL;VALUE=DURATION:PT1H
X-Robots-Tag:noindex
X-PUBLISHED-TTL:PT1H
BEGIN:VTIMEZONE
TZID:Asia/Seoul
BEGIN:STANDARD
TZOFFSETFROM:+0900
TZOFFSETTO:+0900
TZNAME:KST
DTSTART:20260101T000000
END:STANDARD
END:VTIMEZONE
BEGIN:VEVENT
DTSTART;VALUE=DATE:20260523
DTEND;VALUE=DATE:20260524
DTSTAMP:20260422T000837
CREATED:20260414T050234Z
LAST-MODIFIED:20260414T050234Z
UID:2148-1779494400-1779580799@xn--sk4b78fdsau01b.kr
SUMMARY:프리미엄 - 2명\, 바베큐 X // 고O진 AB
DESCRIPTION:방: 프리미엄\n인원: 2명\n바베큐: X\n예약자: 고O진 AB
URL:https://xn--sk4b78fdsau01b.kr/event/%ed%94%84%eb%a6%ac%eb%af%b8%ec%97%84-2%eb%aa%85-%eb%b0%94%eb%b2%a0%ed%81%90-x-%ea%b3%a0o%ec%a7%84-ab/
END:VEVENT
BEGIN:VEVENT
DTSTART;VALUE=DATE:20260523
DTEND;VALUE=DATE:20260524
DTSTAMP:20260422T000837
CREATED:20260418T032328Z
LAST-MODIFIED:20260418T032328Z
UID:2164-1779494400-1779580799@xn--sk4b78fdsau01b.kr
SUMMARY:패밀리 - 2명\, 바베큐 O // 유O소 무통장
DESCRIPTION:방: 패밀리\n인원: 2명\n바베큐: O\n예약자: 유O소 무통장
URL:https://xn--sk4b78fdsau01b.kr/event/%ed%8c%a8%eb%b0%80%eb%a6%ac-2%eb%aa%85-%eb%b0%94%eb%b2%a0%ed%81%90-o-%ec%9c%a0o%ec%86%8c-%eb%ac%b4%ed%86%b5%ec%9e%a5/
END:VEVENT
BEGIN:VEVENT
DTSTART;VALUE=DATE:20260523
DTEND;VALUE=DATE:20260524
DTSTAMP:20260422T000837
CREATED:20260419T123757Z
LAST-MODIFIED:20260419T123757Z
UID:2172-1779494400-1779580799@xn--sk4b78fdsau01b.kr
SUMMARY:별빛01 - 2명\, 바베큐 X // 유O소 무통장
DESCRIPTION:방: 별빛01\n인원: 2명\n바베큐: X\n예약자: 유O소 무통장
URL:https://xn--sk4b78fdsau01b.kr/event/%eb%b3%84%eb%b9%9b01-2%eb%aa%85-%eb%b0%94%eb%b2%a0%ed%81%90-x-%ec%9c%a0o%ec%86%8c-%eb%ac%b4%ed%86%b5%ec%9e%a5/
END:VEVENT
END:VCALENDAR