BEGIN:VCALENDAR
VERSION:2.0
PRODID:-//별빛좋은펜션 - ECPv6.10.1.1//NONSGML v1.0//EN
CALSCALE:GREGORIAN
METHOD:PUBLISH
X-WR-CALNAME:별빛좋은펜션
X-ORIGINAL-URL:https://xn--sk4b78fdsau01b.kr
X-WR-CALDESC:별빛좋은펜션 이벤트
REFRESH-INTERVAL;VALUE=DURATION:PT1H
X-Robots-Tag:noindex
X-PUBLISHED-TTL:PT1H
BEGIN:VTIMEZONE
TZID:Asia/Seoul
BEGIN:STANDARD
TZOFFSETFROM:+0900
TZOFFSETTO:+0900
TZNAME:KST
DTSTART:20260101T000000
END:STANDARD
END:VTIMEZONE
BEGIN:VEVENT
DTSTART;VALUE=DATE:20260430
DTEND;VALUE=DATE:20260501
DTSTAMP:20260422T031358
CREATED:20260405T125236Z
LAST-MODIFIED:20260405T125236Z
UID:2106-1777507200-1777593599@xn--sk4b78fdsau01b.kr
SUMMARY:프리미엄 - 2명\, 바베큐 O // 김O연 (2박)
DESCRIPTION:방: 프리미엄\n인원: 2명\n바베큐: O\n예약자: 김O연 (2박)
URL:https://xn--sk4b78fdsau01b.kr/event/%ed%94%84%eb%a6%ac%eb%af%b8%ec%97%84-2%eb%aa%85-%eb%b0%94%eb%b2%a0%ed%81%90-o-%ea%b9%80o%ec%97%b0-2%eb%b0%95/
END:VEVENT
END:VCALENDAR