BEGIN:VCALENDAR
VERSION:2.0
PRODID:-//별빛좋은펜션 - ECPv6.10.1.1//NONSGML v1.0//EN
CALSCALE:GREGORIAN
METHOD:PUBLISH
X-ORIGINAL-URL:https://xn--sk4b78fdsau01b.kr
X-WR-CALDESC:별빛좋은펜션 이벤트
REFRESH-INTERVAL;VALUE=DURATION:PT1H
X-Robots-Tag:noindex
X-PUBLISHED-TTL:PT1H
BEGIN:VTIMEZONE
TZID:Asia/Seoul
BEGIN:STANDARD
TZOFFSETFROM:+0900
TZOFFSETTO:+0900
TZNAME:KST
DTSTART:20260101T000000
END:STANDARD
END:VTIMEZONE
BEGIN:VEVENT
DTSTART;VALUE=DATE:20260413
DTEND;VALUE=DATE:20260414
DTSTAMP:20260421T221051
CREATED:20260329T053303Z
LAST-MODIFIED:20260329T053303Z
UID:2084-1776038400-1776124799@xn--sk4b78fdsau01b.kr
SUMMARY:별빛01 - 2명\, 바베큐 X // 김O영 무통장
DESCRIPTION:방: 별빛01\n인원: 2명\n바베큐: X\n예약자: 김O영 무통장
URL:https://xn--sk4b78fdsau01b.kr/event/%eb%b3%84%eb%b9%9b01-2%eb%aa%85-%eb%b0%94%eb%b2%a0%ed%81%90-x-%ea%b9%80o%ec%98%81-%eb%ac%b4%ed%86%b5%ec%9e%a5/
END:VEVENT
END:VCALENDAR