BEGIN:VCALENDAR
VERSION:2.0
PRODID:-//별빛좋은펜션 - ECPv6.10.1.1//NONSGML v1.0//EN
CALSCALE:GREGORIAN
METHOD:PUBLISH
X-WR-CALNAME:별빛좋은펜션
X-ORIGINAL-URL:https://xn--sk4b78fdsau01b.kr
X-WR-CALDESC:별빛좋은펜션 이벤트
REFRESH-INTERVAL;VALUE=DURATION:PT1H
X-Robots-Tag:noindex
X-PUBLISHED-TTL:PT1H
BEGIN:VTIMEZONE
TZID:Asia/Seoul
BEGIN:STANDARD
TZOFFSETFROM:+0900
TZOFFSETTO:+0900
TZNAME:KST
DTSTART:20250101T000000
END:STANDARD
END:VTIMEZONE
BEGIN:VEVENT
DTSTART;VALUE=DATE:20251031
DTEND;VALUE=DATE:20251101
DTSTAMP:20260422T062735
CREATED:20251015T011501Z
LAST-MODIFIED:20251015T011501Z
UID:1944-1761868800-1761955199@xn--sk4b78fdsau01b.kr
SUMMARY:별빛01 - 2명\, 바베큐 X // 고O호 (단체)
DESCRIPTION:방: 별빛01\n인원: 2명\n바베큐: X\n예약자: 고O호 (단체)
URL:https://xn--sk4b78fdsau01b.kr/event/%eb%b3%84%eb%b9%9b01-2%eb%aa%85-%eb%b0%94%eb%b2%a0%ed%81%90-x-%ea%b3%a0o%ed%98%b8-%eb%8b%a8%ec%b2%b4/
END:VEVENT
BEGIN:VEVENT
DTSTART;VALUE=DATE:20251031
DTEND;VALUE=DATE:20251101
DTSTAMP:20260422T062735
CREATED:20251015T011519Z
LAST-MODIFIED:20251015T011519Z
UID:1946-1761868800-1761955199@xn--sk4b78fdsau01b.kr
SUMMARY:별빛02 - 2명\, 바베큐 X // 고O호 (단체)
DESCRIPTION:방: 별빛02\n인원: 2명\n바베큐: X\n예약자: 고O호 (단체)
URL:https://xn--sk4b78fdsau01b.kr/event/%eb%b3%84%eb%b9%9b02-2%eb%aa%85-%eb%b0%94%eb%b2%a0%ed%81%90-x-%ea%b3%a0o%ed%98%b8-%eb%8b%a8%ec%b2%b4/
END:VEVENT
BEGIN:VEVENT
DTSTART;VALUE=DATE:20251031
DTEND;VALUE=DATE:20251101
DTSTAMP:20260422T062735
CREATED:20251015T011537Z
LAST-MODIFIED:20251015T011537Z
UID:1948-1761868800-1761955199@xn--sk4b78fdsau01b.kr
SUMMARY:패밀리 - 2명\, 바베큐 X // 고O호 (단체)
DESCRIPTION:방: 패밀리\n인원: 2명\n바베큐: X\n예약자: 고O호 (단체)
URL:https://xn--sk4b78fdsau01b.kr/event/%ed%8c%a8%eb%b0%80%eb%a6%ac-2%eb%aa%85-%eb%b0%94%eb%b2%a0%ed%81%90-x-%ea%b3%a0o%ed%98%b8-%eb%8b%a8%ec%b2%b4/
END:VEVENT
BEGIN:VEVENT
DTSTART;VALUE=DATE:20251031
DTEND;VALUE=DATE:20251101
DTSTAMP:20260422T062735
CREATED:20251015T011555Z
LAST-MODIFIED:20251015T011555Z
UID:1950-1761868800-1761955199@xn--sk4b78fdsau01b.kr
SUMMARY:프리미엄 - 2명\, 바베큐 X // 고O호 (단체)
DESCRIPTION:방: 프리미엄\n인원: 2명\n바베큐: X\n예약자: 고O호 (단체)
URL:https://xn--sk4b78fdsau01b.kr/event/%ed%94%84%eb%a6%ac%eb%af%b8%ec%97%84-2%eb%aa%85-%eb%b0%94%eb%b2%a0%ed%81%90-x-%ea%b3%a0o%ed%98%b8-%eb%8b%a8%ec%b2%b4/
END:VEVENT
END:VCALENDAR