BEGIN:VCALENDAR
VERSION:2.0
PRODID:-//별빛좋은펜션 - ECPv6.10.1.1//NONSGML v1.0//EN
CALSCALE:GREGORIAN
METHOD:PUBLISH
X-WR-CALNAME:별빛좋은펜션
X-ORIGINAL-URL:https://xn--sk4b78fdsau01b.kr
X-WR-CALDESC:별빛좋은펜션 이벤트
REFRESH-INTERVAL;VALUE=DURATION:PT1H
X-Robots-Tag:noindex
X-PUBLISHED-TTL:PT1H
BEGIN:VTIMEZONE
TZID:Asia/Seoul
BEGIN:STANDARD
TZOFFSETFROM:+0900
TZOFFSETTO:+0900
TZNAME:KST
DTSTART:20250101T000000
END:STANDARD
END:VTIMEZONE
BEGIN:VEVENT
DTSTART;VALUE=DATE:20251006
DTEND;VALUE=DATE:20251007
DTSTAMP:20260422T093337
CREATED:20250807T093837Z
LAST-MODIFIED:20250807T093837Z
UID:1796-1759708800-1759795199@xn--sk4b78fdsau01b.kr
SUMMARY:패밀리 - 3명\, 바베큐 O // 황O영
DESCRIPTION:방: 패밀리\n인원: 3명\n바베큐: O\n예약자: 황O영
URL:https://xn--sk4b78fdsau01b.kr/event/%ed%8c%a8%eb%b0%80%eb%a6%ac-3%eb%aa%85-%eb%b0%94%eb%b2%a0%ed%81%90-o-%ed%99%a9o%ec%98%81/
END:VEVENT
BEGIN:VEVENT
DTSTART;VALUE=DATE:20251006
DTEND;VALUE=DATE:20251007
DTSTAMP:20260422T093337
CREATED:20250921T053943Z
LAST-MODIFIED:20250921T053944Z
UID:1898-1759708800-1759795199@xn--sk4b78fdsau01b.kr
SUMMARY:별빛02 - 2명\, 바베큐 X // 이O민
DESCRIPTION:방: 별빛02\n인원: 2명\n바베큐: X\n예약자: 이O민
URL:https://xn--sk4b78fdsau01b.kr/event/%eb%b3%84%eb%b9%9b02-2%eb%aa%85-%eb%b0%94%eb%b2%a0%ed%81%90-x-%ec%9d%b4o%eb%af%bc/
END:VEVENT
END:VCALENDAR