BEGIN:VCALENDAR
VERSION:2.0
PRODID:-//별빛좋은펜션 - ECPv6.10.1.1//NONSGML v1.0//EN
CALSCALE:GREGORIAN
METHOD:PUBLISH
X-WR-CALNAME:별빛좋은펜션
X-ORIGINAL-URL:https://xn--sk4b78fdsau01b.kr
X-WR-CALDESC:별빛좋은펜션 이벤트
REFRESH-INTERVAL;VALUE=DURATION:PT1H
X-Robots-Tag:noindex
X-PUBLISHED-TTL:PT1H
BEGIN:VTIMEZONE
TZID:Asia/Seoul
BEGIN:STANDARD
TZOFFSETFROM:+0900
TZOFFSETTO:+0900
TZNAME:KST
DTSTART:20250101T000000
END:STANDARD
END:VTIMEZONE
BEGIN:VEVENT
DTSTART;VALUE=DATE:20250913
DTEND;VALUE=DATE:20250914
DTSTAMP:20260424T200101
CREATED:20250803T055302Z
LAST-MODIFIED:20250803T055302Z
UID:1788-1757721600-1757807999@xn--sk4b78fdsau01b.kr
SUMMARY:패밀리 - 4명\, 바베큐 X // 장O화
DESCRIPTION:방: 패밀리\n인원: 4명\n바베큐: X\n예약자: 장O화
URL:https://xn--sk4b78fdsau01b.kr/event/%ed%8c%a8%eb%b0%80%eb%a6%ac-4%eb%aa%85-%eb%b0%94%eb%b2%a0%ed%81%90-x-%ec%9e%a5o%ed%99%94/
END:VEVENT
BEGIN:VEVENT
DTSTART;VALUE=DATE:20250913
DTEND;VALUE=DATE:20250914
DTSTAMP:20260424T200101
CREATED:20250902T154823Z
LAST-MODIFIED:20250902T154824Z
UID:1864-1757721600-1757807999@xn--sk4b78fdsau01b.kr
SUMMARY:별빛01 - 1명\, 바베큐 O // 장O락
DESCRIPTION:방: 별빛01\n인원: 1명\n바베큐: O\n예약자: 장O락
URL:https://xn--sk4b78fdsau01b.kr/event/%eb%b3%84%eb%b9%9b01-1%eb%aa%85-%eb%b0%94%eb%b2%a0%ed%81%90-o-%ec%9e%a5o%eb%9d%bd/
END:VEVENT
BEGIN:VEVENT
DTSTART;VALUE=DATE:20250913
DTEND;VALUE=DATE:20250914
DTSTAMP:20260424T200101
CREATED:20250907T132137Z
LAST-MODIFIED:20250907T132137Z
UID:1872-1757721600-1757807999@xn--sk4b78fdsau01b.kr
SUMMARY:프리미엄 - 2명\, 바베큐 X // 장O미 (2박)
DESCRIPTION:방: 프리미엄\n인원: 2명\n바베큐: X\n예약자: 장O미 (2박)
URL:https://xn--sk4b78fdsau01b.kr/event/%ed%94%84%eb%a6%ac%eb%af%b8%ec%97%84-2%eb%aa%85-%eb%b0%94%eb%b2%a0%ed%81%90-x-%ec%9e%a5o%eb%af%b8-2%eb%b0%95-2/
END:VEVENT
BEGIN:VEVENT
DTSTART;VALUE=DATE:20250913
DTEND;VALUE=DATE:20250914
DTSTAMP:20260424T200101
CREATED:20250912T021405Z
LAST-MODIFIED:20250912T021405Z
UID:1882-1757721600-1757807999@xn--sk4b78fdsau01b.kr
SUMMARY:별빛02 - 3명\, 바베큐 O // 박O욱
DESCRIPTION:방: 별빛02\n인원: 3명\n바베큐: O\n예약자: 박O욱
URL:https://xn--sk4b78fdsau01b.kr/event/%eb%b3%84%eb%b9%9b02-3%eb%aa%85-%eb%b0%94%eb%b2%a0%ed%81%90-o-%eb%b0%95o%ec%9a%b1/
END:VEVENT
END:VCALENDAR