BEGIN:VCALENDAR
VERSION:2.0
PRODID:-//별빛좋은펜션 - ECPv6.10.1.1//NONSGML v1.0//EN
CALSCALE:GREGORIAN
METHOD:PUBLISH
X-WR-CALNAME:별빛좋은펜션
X-ORIGINAL-URL:https://xn--sk4b78fdsau01b.kr
X-WR-CALDESC:별빛좋은펜션 이벤트
REFRESH-INTERVAL;VALUE=DURATION:PT1H
X-Robots-Tag:noindex
X-PUBLISHED-TTL:PT1H
BEGIN:VTIMEZONE
TZID:Asia/Seoul
BEGIN:STANDARD
TZOFFSETFROM:+0900
TZOFFSETTO:+0900
TZNAME:KST
DTSTART:20250101T000000
END:STANDARD
END:VTIMEZONE
BEGIN:VEVENT
DTSTART;VALUE=DATE:20250912
DTEND;VALUE=DATE:20250913
DTSTAMP:20260422T123623
CREATED:20250726T131623Z
LAST-MODIFIED:20250726T131623Z
UID:1766-1757635200-1757721599@xn--sk4b78fdsau01b.kr
SUMMARY:별빛01 - 3명\, 바베큐 X // 엄O희
DESCRIPTION:방: 별빛01\n인원: 3명\n바베큐: X\n예약자: 엄O희
URL:https://xn--sk4b78fdsau01b.kr/event/%eb%b3%84%eb%b9%9b01-3%eb%aa%85-%eb%b0%94%eb%b2%a0%ed%81%90-x-%ec%97%84o%ed%9d%ac/
END:VEVENT
BEGIN:VEVENT
DTSTART;VALUE=DATE:20250912
DTEND;VALUE=DATE:20250913
DTSTAMP:20260422T123623
CREATED:20250726T131703Z
LAST-MODIFIED:20250726T131703Z
UID:1768-1757635200-1757721599@xn--sk4b78fdsau01b.kr
SUMMARY:별빛02 - 3명\, 바베큐 X // 엄O희
DESCRIPTION:방: 별빛02\n인원: 3명\n바베큐: X\n예약자: 엄O희
URL:https://xn--sk4b78fdsau01b.kr/event/%eb%b3%84%eb%b9%9b02-3%eb%aa%85-%eb%b0%94%eb%b2%a0%ed%81%90-x-%ec%97%84o%ed%9d%ac/
END:VEVENT
BEGIN:VEVENT
DTSTART;VALUE=DATE:20250912
DTEND;VALUE=DATE:20250913
DTSTAMP:20260422T123623
CREATED:20250907T132112Z
LAST-MODIFIED:20250907T132112Z
UID:1870-1757635200-1757721599@xn--sk4b78fdsau01b.kr
SUMMARY:프리미엄 - 2명\, 바베큐 X // 장O미 (2박)
DESCRIPTION:방: 프리미엄\n인원: 2명\n바베큐: X\n예약자: 장O미 (2박)
URL:https://xn--sk4b78fdsau01b.kr/event/%ed%94%84%eb%a6%ac%eb%af%b8%ec%97%84-2%eb%aa%85-%eb%b0%94%eb%b2%a0%ed%81%90-x-%ec%9e%a5o%eb%af%b8-2%eb%b0%95/
END:VEVENT
END:VCALENDAR