BEGIN:VCALENDAR
VERSION:2.0
PRODID:-//별빛좋은펜션 - ECPv6.10.1.1//NONSGML v1.0//EN
CALSCALE:GREGORIAN
METHOD:PUBLISH
X-ORIGINAL-URL:https://xn--sk4b78fdsau01b.kr
X-WR-CALDESC:별빛좋은펜션 이벤트
REFRESH-INTERVAL;VALUE=DURATION:PT1H
X-Robots-Tag:noindex
X-PUBLISHED-TTL:PT1H
BEGIN:VTIMEZONE
TZID:Asia/Seoul
BEGIN:STANDARD
TZOFFSETFROM:+0900
TZOFFSETTO:+0900
TZNAME:KST
DTSTART:20250101T000000
END:STANDARD
END:VTIMEZONE
BEGIN:VEVENT
DTSTART;VALUE=DATE:20250801
DTEND;VALUE=DATE:20250802
DTSTAMP:20260422T140359
CREATED:20250613T070909Z
LAST-MODIFIED:20250613T070909Z
UID:1572-1754006400-1754092799@xn--sk4b78fdsau01b.kr
SUMMARY:별빛02 - 3명\, 바베큐 X // 김O린 2박
DESCRIPTION:방: 별빛02\n인원: 3명\n바베큐: X\n예약자: 김O린 2박
URL:https://xn--sk4b78fdsau01b.kr/event/%eb%b3%84%eb%b9%9b02-3%eb%aa%85-%eb%b0%94%eb%b2%a0%ed%81%90-x-%ea%b9%80o%eb%a6%b0-2%eb%b0%95-2/
END:VEVENT
BEGIN:VEVENT
DTSTART;VALUE=DATE:20250801
DTEND;VALUE=DATE:20250802
DTSTAMP:20260422T140359
CREATED:20250623T132754Z
LAST-MODIFIED:20250623T132754Z
UID:1593-1754006400-1754092799@xn--sk4b78fdsau01b.kr
SUMMARY:별빛01 - 2명\, 바베큐 X // 신O정 (3박)
DESCRIPTION:방: 별빛01\n인원: 2명\n바베큐: X\n예약자: 신O정 (3박)
URL:https://xn--sk4b78fdsau01b.kr/event/%eb%b3%84%eb%b9%9b01-2%eb%aa%85-%eb%b0%94%eb%b2%a0%ed%81%90-x-%ec%8b%a0o%ec%a0%95-3%eb%b0%95-3/
END:VEVENT
BEGIN:VEVENT
DTSTART;VALUE=DATE:20250801
DTEND;VALUE=DATE:20250802
DTSTAMP:20260422T140359
CREATED:20250715T053043Z
LAST-MODIFIED:20250715T053043Z
UID:1733-1754006400-1754092799@xn--sk4b78fdsau01b.kr
SUMMARY:프리미엄 - 2명\, 바베큐 X // 배O랑 AB
DESCRIPTION:방: 프리미엄\n인원: 2명\n바베큐: X\n예약자: 배O랑 AB
URL:https://xn--sk4b78fdsau01b.kr/event/%ed%94%84%eb%a6%ac%eb%af%b8%ec%97%84-2%eb%aa%85-%eb%b0%94%eb%b2%a0%ed%81%90-x-%eb%b0%b0o%eb%9e%91-ab/
END:VEVENT
END:VCALENDAR