BEGIN:VCALENDAR
VERSION:2.0
PRODID:-//별빛좋은펜션 - ECPv6.10.1.1//NONSGML v1.0//EN
CALSCALE:GREGORIAN
METHOD:PUBLISH
X-WR-CALNAME:별빛좋은펜션
X-ORIGINAL-URL:https://xn--sk4b78fdsau01b.kr
X-WR-CALDESC:별빛좋은펜션 이벤트
REFRESH-INTERVAL;VALUE=DURATION:PT1H
X-Robots-Tag:noindex
X-PUBLISHED-TTL:PT1H
BEGIN:VTIMEZONE
TZID:Asia/Seoul
BEGIN:STANDARD
TZOFFSETFROM:+0900
TZOFFSETTO:+0900
TZNAME:KST
DTSTART:20250101T000000
END:STANDARD
END:VTIMEZONE
BEGIN:VEVENT
DTSTART;VALUE=DATE:20250726
DTEND;VALUE=DATE:20250727
DTSTAMP:20260422T154119
CREATED:20250528T155910Z
LAST-MODIFIED:20250528T155910Z
UID:1546-1753488000-1753574399@xn--sk4b78fdsau01b.kr
SUMMARY:패밀리 - 4명\, 바베큐 X // 김O훈(2박)
DESCRIPTION:방: 패밀리\n인원: 4명\n바베큐: X\n예약자: 김O훈(2박)
URL:https://xn--sk4b78fdsau01b.kr/event/%ed%8c%a8%eb%b0%80%eb%a6%ac-4%eb%aa%85-%eb%b0%94%eb%b2%a0%ed%81%90-x-%ea%b9%80o%ed%9b%882%eb%b0%95/
END:VEVENT
BEGIN:VEVENT
DTSTART;VALUE=DATE:20250726
DTEND;VALUE=DATE:20250727
DTSTAMP:20260422T154119
CREATED:20250703T081821Z
LAST-MODIFIED:20250703T081821Z
UID:1653-1753488000-1753574399@xn--sk4b78fdsau01b.kr
SUMMARY:프리미엄 - 2명\, 바베큐 X // 이O연 (2박)
DESCRIPTION:방: 프리미엄\n인원: 2명\n바베큐: X\n예약자: 이O연 (2박)
URL:https://xn--sk4b78fdsau01b.kr/event/%ed%94%84%eb%a6%ac%eb%af%b8%ec%97%84-2%eb%aa%85-%eb%b0%94%eb%b2%a0%ed%81%90-x-%ec%9d%b4o%ec%97%b0-2%eb%b0%95/
END:VEVENT
BEGIN:VEVENT
DTSTART;VALUE=DATE:20250726
DTEND;VALUE=DATE:20250727
DTSTAMP:20260422T154119
CREATED:20250716T234310Z
LAST-MODIFIED:20250716T234310Z
UID:1741-1753488000-1753574399@xn--sk4b78fdsau01b.kr
SUMMARY:별빛02 - 2명\, 바베큐 X // 정O지 (2박)
DESCRIPTION:방: 별빛02\n인원: 2명\n바베큐: X\n예약자: 정O지 (2박)
URL:https://xn--sk4b78fdsau01b.kr/event/%eb%b3%84%eb%b9%9b02-2%eb%aa%85-%eb%b0%94%eb%b2%a0%ed%81%90-x-%ec%a0%95o%ec%a7%80-2%eb%b0%95/
END:VEVENT
BEGIN:VEVENT
DTSTART;VALUE=DATE:20250726
DTEND;VALUE=DATE:20250727
DTSTAMP:20260422T154119
CREATED:20250718T143937Z
LAST-MODIFIED:20250718T143937Z
UID:1749-1753488000-1753574399@xn--sk4b78fdsau01b.kr
SUMMARY:별빛01 - 2명\, 바베큐 O // 박O규
DESCRIPTION:방: 별빛01\n인원: 2명\n바베큐: O\n예약자: 박O규
URL:https://xn--sk4b78fdsau01b.kr/event/%eb%b3%84%eb%b9%9b01-2%eb%aa%85-%eb%b0%94%eb%b2%a0%ed%81%90-o-%eb%b0%95o%ea%b7%9c/
END:VEVENT
END:VCALENDAR