BEGIN:VCALENDAR
VERSION:2.0
PRODID:-//별빛좋은펜션 - ECPv6.10.1.1//NONSGML v1.0//EN
CALSCALE:GREGORIAN
METHOD:PUBLISH
X-WR-CALNAME:별빛좋은펜션
X-ORIGINAL-URL:https://xn--sk4b78fdsau01b.kr
X-WR-CALDESC:별빛좋은펜션 이벤트
REFRESH-INTERVAL;VALUE=DURATION:PT1H
X-Robots-Tag:noindex
X-PUBLISHED-TTL:PT1H
BEGIN:VTIMEZONE
TZID:Asia/Seoul
BEGIN:STANDARD
TZOFFSETFROM:+0900
TZOFFSETTO:+0900
TZNAME:KST
DTSTART:20250101T000000
END:STANDARD
END:VTIMEZONE
BEGIN:VEVENT
DTSTART;VALUE=DATE:20250904
DTEND;VALUE=DATE:20250905
DTSTAMP:20260422T105939
CREATED:20250901T063930Z
LAST-MODIFIED:20250901T063930Z
UID:1860-1756944000-1757030399@xn--sk4b78fdsau01b.kr
SUMMARY:별빛01 - 2명\, 바베큐 X // 무O장
DESCRIPTION:방: 별빛01\n인원: 2명\n바베큐: X\n예약자: 무O장
URL:https://xn--sk4b78fdsau01b.kr/event/%eb%b3%84%eb%b9%9b01-2%eb%aa%85-%eb%b0%94%eb%b2%a0%ed%81%90-x-%eb%ac%b4o%ec%9e%a5/
END:VEVENT
BEGIN:VEVENT
DTSTART;VALUE=DATE:20250904
DTEND;VALUE=DATE:20250905
DTSTAMP:20260422T105939
CREATED:20250901T063957Z
LAST-MODIFIED:20250901T063957Z
UID:1862-1756944000-1757030399@xn--sk4b78fdsau01b.kr
SUMMARY:패밀리 - 3명\, 바베큐 X // 무O장
DESCRIPTION:방: 패밀리\n인원: 3명\n바베큐: X\n예약자: 무O장
URL:https://xn--sk4b78fdsau01b.kr/event/%ed%8c%a8%eb%b0%80%eb%a6%ac-3%eb%aa%85-%eb%b0%94%eb%b2%a0%ed%81%90-x-%eb%ac%b4o%ec%9e%a5/
END:VEVENT
BEGIN:VEVENT
DTSTART;VALUE=DATE:20250905
DTEND;VALUE=DATE:20250906
DTSTAMP:20260422T105939
CREATED:20250821T042254Z
LAST-MODIFIED:20250821T042254Z
UID:1834-1757030400-1757116799@xn--sk4b78fdsau01b.kr
SUMMARY:프리미엄 - 2명\, 바베큐 O // 곽O원
DESCRIPTION:방: 프리미엄\n인원: 2명\n바베큐: O\n예약자: 곽O원
URL:https://xn--sk4b78fdsau01b.kr/event/%ed%94%84%eb%a6%ac%eb%af%b8%ec%97%84-2%eb%aa%85-%eb%b0%94%eb%b2%a0%ed%81%90-o-%ea%b3%bdo%ec%9b%90/
END:VEVENT
BEGIN:VEVENT
DTSTART;VALUE=DATE:20250906
DTEND;VALUE=DATE:20250907
DTSTAMP:20260422T105939
CREATED:20250819T232259Z
LAST-MODIFIED:20250819T232259Z
UID:1830-1757116800-1757203199@xn--sk4b78fdsau01b.kr
SUMMARY:프리미엄 - 2명\, 바베큐 O // 주O호
DESCRIPTION:방: 프리미엄\n인원: 2명\n바베큐: O\n예약자: 주O호
URL:https://xn--sk4b78fdsau01b.kr/event/%ed%94%84%eb%a6%ac%eb%af%b8%ec%97%84-2%eb%aa%85-%eb%b0%94%eb%b2%a0%ed%81%90-o-%ec%a3%bco%ed%98%b8/
END:VEVENT
BEGIN:VEVENT
DTSTART;VALUE=DATE:20250906
DTEND;VALUE=DATE:20250907
DTSTAMP:20260422T105939
CREATED:20250904T071828Z
LAST-MODIFIED:20250904T071828Z
UID:1866-1757116800-1757203199@xn--sk4b78fdsau01b.kr
SUMMARY:별빛01 - 2명\, 바베큐 O // 손O아
DESCRIPTION:방: 별빛01\n인원: 2명\n바베큐: O\n예약자: 손O아
URL:https://xn--sk4b78fdsau01b.kr/event/%eb%b3%84%eb%b9%9b01-2%eb%aa%85-%eb%b0%94%eb%b2%a0%ed%81%90-o-%ec%86%90o%ec%95%84/
END:VEVENT
BEGIN:VEVENT
DTSTART;VALUE=DATE:20250912
DTEND;VALUE=DATE:20250913
DTSTAMP:20260422T105939
CREATED:20250726T131623Z
LAST-MODIFIED:20250726T131623Z
UID:1766-1757635200-1757721599@xn--sk4b78fdsau01b.kr
SUMMARY:별빛01 - 3명\, 바베큐 X // 엄O희
DESCRIPTION:방: 별빛01\n인원: 3명\n바베큐: X\n예약자: 엄O희
URL:https://xn--sk4b78fdsau01b.kr/event/%eb%b3%84%eb%b9%9b01-3%eb%aa%85-%eb%b0%94%eb%b2%a0%ed%81%90-x-%ec%97%84o%ed%9d%ac/
END:VEVENT
BEGIN:VEVENT
DTSTART;VALUE=DATE:20250912
DTEND;VALUE=DATE:20250913
DTSTAMP:20260422T105939
CREATED:20250726T131703Z
LAST-MODIFIED:20250726T131703Z
UID:1768-1757635200-1757721599@xn--sk4b78fdsau01b.kr
SUMMARY:별빛02 - 3명\, 바베큐 X // 엄O희
DESCRIPTION:방: 별빛02\n인원: 3명\n바베큐: X\n예약자: 엄O희
URL:https://xn--sk4b78fdsau01b.kr/event/%eb%b3%84%eb%b9%9b02-3%eb%aa%85-%eb%b0%94%eb%b2%a0%ed%81%90-x-%ec%97%84o%ed%9d%ac/
END:VEVENT
BEGIN:VEVENT
DTSTART;VALUE=DATE:20250912
DTEND;VALUE=DATE:20250913
DTSTAMP:20260422T105939
CREATED:20250907T132112Z
LAST-MODIFIED:20250907T132112Z
UID:1870-1757635200-1757721599@xn--sk4b78fdsau01b.kr
SUMMARY:프리미엄 - 2명\, 바베큐 X // 장O미 (2박)
DESCRIPTION:방: 프리미엄\n인원: 2명\n바베큐: X\n예약자: 장O미 (2박)
URL:https://xn--sk4b78fdsau01b.kr/event/%ed%94%84%eb%a6%ac%eb%af%b8%ec%97%84-2%eb%aa%85-%eb%b0%94%eb%b2%a0%ed%81%90-x-%ec%9e%a5o%eb%af%b8-2%eb%b0%95/
END:VEVENT
BEGIN:VEVENT
DTSTART;VALUE=DATE:20250913
DTEND;VALUE=DATE:20250914
DTSTAMP:20260422T105939
CREATED:20250803T055302Z
LAST-MODIFIED:20250803T055302Z
UID:1788-1757721600-1757807999@xn--sk4b78fdsau01b.kr
SUMMARY:패밀리 - 4명\, 바베큐 X // 장O화
DESCRIPTION:방: 패밀리\n인원: 4명\n바베큐: X\n예약자: 장O화
URL:https://xn--sk4b78fdsau01b.kr/event/%ed%8c%a8%eb%b0%80%eb%a6%ac-4%eb%aa%85-%eb%b0%94%eb%b2%a0%ed%81%90-x-%ec%9e%a5o%ed%99%94/
END:VEVENT
BEGIN:VEVENT
DTSTART;VALUE=DATE:20250913
DTEND;VALUE=DATE:20250914
DTSTAMP:20260422T105939
CREATED:20250902T154823Z
LAST-MODIFIED:20250902T154824Z
UID:1864-1757721600-1757807999@xn--sk4b78fdsau01b.kr
SUMMARY:별빛01 - 1명\, 바베큐 O // 장O락
DESCRIPTION:방: 별빛01\n인원: 1명\n바베큐: O\n예약자: 장O락
URL:https://xn--sk4b78fdsau01b.kr/event/%eb%b3%84%eb%b9%9b01-1%eb%aa%85-%eb%b0%94%eb%b2%a0%ed%81%90-o-%ec%9e%a5o%eb%9d%bd/
END:VEVENT
BEGIN:VEVENT
DTSTART;VALUE=DATE:20250913
DTEND;VALUE=DATE:20250914
DTSTAMP:20260422T105939
CREATED:20250907T132137Z
LAST-MODIFIED:20250907T132137Z
UID:1872-1757721600-1757807999@xn--sk4b78fdsau01b.kr
SUMMARY:프리미엄 - 2명\, 바베큐 X // 장O미 (2박)
DESCRIPTION:방: 프리미엄\n인원: 2명\n바베큐: X\n예약자: 장O미 (2박)
URL:https://xn--sk4b78fdsau01b.kr/event/%ed%94%84%eb%a6%ac%eb%af%b8%ec%97%84-2%eb%aa%85-%eb%b0%94%eb%b2%a0%ed%81%90-x-%ec%9e%a5o%eb%af%b8-2%eb%b0%95-2/
END:VEVENT
BEGIN:VEVENT
DTSTART;VALUE=DATE:20250913
DTEND;VALUE=DATE:20250914
DTSTAMP:20260422T105939
CREATED:20250912T021405Z
LAST-MODIFIED:20250912T021405Z
UID:1882-1757721600-1757807999@xn--sk4b78fdsau01b.kr
SUMMARY:별빛02 - 3명\, 바베큐 O // 박O욱
DESCRIPTION:방: 별빛02\n인원: 3명\n바베큐: O\n예약자: 박O욱
URL:https://xn--sk4b78fdsau01b.kr/event/%eb%b3%84%eb%b9%9b02-3%eb%aa%85-%eb%b0%94%eb%b2%a0%ed%81%90-o-%eb%b0%95o%ec%9a%b1/
END:VEVENT
BEGIN:VEVENT
DTSTART;VALUE=DATE:20250919
DTEND;VALUE=DATE:20250920
DTSTAMP:20260422T105939
CREATED:20250911T140902Z
LAST-MODIFIED:20250911T140902Z
UID:1880-1758240000-1758326399@xn--sk4b78fdsau01b.kr
SUMMARY:별빛01 - 2명\, 바베큐 X // 이O실
DESCRIPTION:방: 별빛01\n인원: 2명\n바베큐: X\n예약자: 이O실
URL:https://xn--sk4b78fdsau01b.kr/event/%eb%b3%84%eb%b9%9b01-2%eb%aa%85-%eb%b0%94%eb%b2%a0%ed%81%90-x-%ec%9d%b4o%ec%8b%a4/
END:VEVENT
BEGIN:VEVENT
DTSTART;VALUE=DATE:20250919
DTEND;VALUE=DATE:20250920
DTSTAMP:20260422T105939
CREATED:20250918T000158Z
LAST-MODIFIED:20250918T000158Z
UID:1892-1758240000-1758326399@xn--sk4b78fdsau01b.kr
SUMMARY:프리미엄 - 2명\, 바베큐 X // 무O장 (2박)
DESCRIPTION:방: 프리미엄\n인원: 2명\n바베큐: X\n예약자: 무O장 (2박)
URL:https://xn--sk4b78fdsau01b.kr/event/%ed%94%84%eb%a6%ac%eb%af%b8%ec%97%84-2%eb%aa%85-%eb%b0%94%eb%b2%a0%ed%81%90-x-%eb%ac%b4o%ec%9e%a5-2%eb%b0%95/
END:VEVENT
BEGIN:VEVENT
DTSTART;VALUE=DATE:20250920
DTEND;VALUE=DATE:20250921
DTSTAMP:20260422T105939
CREATED:20250808T135436Z
LAST-MODIFIED:20250808T135437Z
UID:1800-1758326400-1758412799@xn--sk4b78fdsau01b.kr
SUMMARY:별빛02 - 2명\, 바베큐 X // 최O호
DESCRIPTION:방: 별빛02\n인원: 2명\n바베큐: X\n예약자: 최O호
URL:https://xn--sk4b78fdsau01b.kr/event/%eb%b3%84%eb%b9%9b02-2%eb%aa%85-%eb%b0%94%eb%b2%a0%ed%81%90-x-%ec%b5%9co%ed%98%b8/
END:VEVENT
BEGIN:VEVENT
DTSTART;VALUE=DATE:20250920
DTEND;VALUE=DATE:20250921
DTSTAMP:20260422T105939
CREATED:20250808T140006Z
LAST-MODIFIED:20250808T140006Z
UID:1802-1758326400-1758412799@xn--sk4b78fdsau01b.kr
SUMMARY:패밀리 - 4명\, 바베큐 X // 최O호
DESCRIPTION:방: 패밀리\n인원: 4명\n바베큐: X\n예약자: 최O호
URL:https://xn--sk4b78fdsau01b.kr/event/%ed%8c%a8%eb%b0%80%eb%a6%ac-4%eb%aa%85-%eb%b0%94%eb%b2%a0%ed%81%90-x-%ec%b5%9co%ed%98%b8/
END:VEVENT
BEGIN:VEVENT
DTSTART;VALUE=DATE:20250920
DTEND;VALUE=DATE:20250921
DTSTAMP:20260422T105939
CREATED:20250918T000228Z
LAST-MODIFIED:20250918T000228Z
UID:1894-1758326400-1758412799@xn--sk4b78fdsau01b.kr
SUMMARY:프리미엄 - 2명\, 바베큐 X // 무O장 (2박)
DESCRIPTION:방: 프리미엄\n인원: 2명\n바베큐: X\n예약자: 무O장 (2박)
URL:https://xn--sk4b78fdsau01b.kr/event/%ed%94%84%eb%a6%ac%eb%af%b8%ec%97%84-2%eb%aa%85-%eb%b0%94%eb%b2%a0%ed%81%90-x-%eb%ac%b4o%ec%9e%a5-2%eb%b0%95-2/
END:VEVENT
BEGIN:VEVENT
DTSTART;VALUE=DATE:20250927
DTEND;VALUE=DATE:20250928
DTSTAMP:20260422T105939
CREATED:20250914T103510Z
LAST-MODIFIED:20250914T103510Z
UID:1886-1758931200-1759017599@xn--sk4b78fdsau01b.kr
SUMMARY:프리미엄 - 2명\, 바베큐 O // 김O수
DESCRIPTION:방: 프리미엄\n인원: 2명\n바베큐: O\n예약자: 김O수
URL:https://xn--sk4b78fdsau01b.kr/event/%ed%94%84%eb%a6%ac%eb%af%b8%ec%97%84-2%eb%aa%85-%eb%b0%94%eb%b2%a0%ed%81%90-o-%ea%b9%80o%ec%88%98/
END:VEVENT
BEGIN:VEVENT
DTSTART;VALUE=DATE:20250927
DTEND;VALUE=DATE:20250928
DTSTAMP:20260422T105939
CREATED:20250917T151018Z
LAST-MODIFIED:20250917T151018Z
UID:1890-1758931200-1759017599@xn--sk4b78fdsau01b.kr
SUMMARY:패밀리 - 4명\, 바베큐 O // 임O혁
DESCRIPTION:방: 패밀리\n인원: 4명\n바베큐: O\n예약자: 임O혁
URL:https://xn--sk4b78fdsau01b.kr/event/%ed%8c%a8%eb%b0%80%eb%a6%ac-4%eb%aa%85-%eb%b0%94%eb%b2%a0%ed%81%90-o-%ec%9e%84o%ed%98%81/
END:VEVENT
BEGIN:VEVENT
DTSTART;VALUE=DATE:20250927
DTEND;VALUE=DATE:20250928
DTSTAMP:20260422T105939
CREATED:20250921T053021Z
LAST-MODIFIED:20250921T053021Z
UID:1896-1758931200-1759017599@xn--sk4b78fdsau01b.kr
SUMMARY:별빛02 - 2명\, 바베큐 X // 홍O숙 (무통장)
DESCRIPTION:방: 별빛02\n인원: 2명\n바베큐: X\n예약자: 홍O숙 (무통장)
URL:https://xn--sk4b78fdsau01b.kr/event/%eb%b3%84%eb%b9%9b02-2%eb%aa%85-%eb%b0%94%eb%b2%a0%ed%81%90-x-%ed%99%8do%ec%88%99-%eb%ac%b4%ed%86%b5%ec%9e%a5/
END:VEVENT
BEGIN:VEVENT
DTSTART;VALUE=DATE:20250927
DTEND;VALUE=DATE:20250928
DTSTAMP:20260422T105939
CREATED:20250922T013730Z
LAST-MODIFIED:20250922T013730Z
UID:1900-1758931200-1759017599@xn--sk4b78fdsau01b.kr
SUMMARY:별빛01 - 3명\, 바베큐 O // 장O호
DESCRIPTION:방: 별빛01\n인원: 3명\n바베큐: O\n예약자: 장O호
URL:https://xn--sk4b78fdsau01b.kr/event/%eb%b3%84%eb%b9%9b01-3%eb%aa%85-%eb%b0%94%eb%b2%a0%ed%81%90-o-%ec%9e%a5o%ed%98%b8/
END:VEVENT
END:VCALENDAR