BEGIN:VCALENDAR
VERSION:2.0
PRODID:-//별빛좋은펜션 - ECPv6.10.1.1//NONSGML v1.0//EN
CALSCALE:GREGORIAN
METHOD:PUBLISH
X-WR-CALNAME:별빛좋은펜션
X-ORIGINAL-URL:https://xn--sk4b78fdsau01b.kr
X-WR-CALDESC:별빛좋은펜션 이벤트
REFRESH-INTERVAL;VALUE=DURATION:PT1H
X-Robots-Tag:noindex
X-PUBLISHED-TTL:PT1H
BEGIN:VTIMEZONE
TZID:Asia/Seoul
BEGIN:STANDARD
TZOFFSETFROM:+0900
TZOFFSETTO:+0900
TZNAME:KST
DTSTART:20250101T000000
END:STANDARD
END:VTIMEZONE
BEGIN:VEVENT
DTSTART;VALUE=DATE:20250816
DTEND;VALUE=DATE:20250817
DTSTAMP:20260423T071635
CREATED:20250720T141636Z
LAST-MODIFIED:20250720T141636Z
UID:1751-1755302400-1755388799@xn--sk4b78fdsau01b.kr
SUMMARY:프리미엄 - 2명\, 바베큐 O // 장O필
DESCRIPTION:방: 프리미엄\n인원: 2명\n바베큐: O\n예약자: 장O필
URL:https://xn--sk4b78fdsau01b.kr/event/%ed%94%84%eb%a6%ac%eb%af%b8%ec%97%84-2%eb%aa%85-%eb%b0%94%eb%b2%a0%ed%81%90-o-%ec%9e%a5o%ed%95%84/
END:VEVENT
BEGIN:VEVENT
DTSTART;VALUE=DATE:20250816
DTEND;VALUE=DATE:20250817
DTSTAMP:20260423T071635
CREATED:20250714T104656Z
LAST-MODIFIED:20250714T104656Z
UID:1727-1755302400-1755388799@xn--sk4b78fdsau01b.kr
SUMMARY:별빛02 - 2명\, 바베큐 X // 배O영 (2박)
DESCRIPTION:방: 별빛02\n인원: 2명\n바베큐: X\n예약자: 배O영 (2박)
URL:https://xn--sk4b78fdsau01b.kr/event/%eb%b3%84%eb%b9%9b02-2%eb%aa%85-%eb%b0%94%eb%b2%a0%ed%81%90-x-%eb%b0%b0o%ec%98%81-2%eb%b0%95-2/
END:VEVENT
BEGIN:VEVENT
DTSTART;VALUE=DATE:20250816
DTEND;VALUE=DATE:20250817
DTSTAMP:20260423T071635
CREATED:20250618T083757Z
LAST-MODIFIED:20250618T083757Z
UID:1583-1755302400-1755388799@xn--sk4b78fdsau01b.kr
SUMMARY:패밀리 - 4명\, 바베큐 X // 신O비 2박
DESCRIPTION:방: 패밀리\n인원: 4명\n바베큐: X\n예약자: 신O비 2박
URL:https://xn--sk4b78fdsau01b.kr/event/%ed%8c%a8%eb%b0%80%eb%a6%ac-4%eb%aa%85-%eb%b0%94%eb%b2%a0%ed%81%90-x-%ec%8b%a0o%eb%b9%84-2%eb%b0%95/
END:VEVENT
BEGIN:VEVENT
DTSTART;VALUE=DATE:20250815
DTEND;VALUE=DATE:20250816
DTSTAMP:20260423T071635
CREATED:20250714T104624Z
LAST-MODIFIED:20250714T104624Z
UID:1725-1755216000-1755302399@xn--sk4b78fdsau01b.kr
SUMMARY:별빛02 - 2명\, 바베큐 X // 배O영 (2박)
DESCRIPTION:방: 별빛02\n인원: 2명\n바베큐: X\n예약자: 배O영 (2박)
URL:https://xn--sk4b78fdsau01b.kr/event/%eb%b3%84%eb%b9%9b02-2%eb%aa%85-%eb%b0%94%eb%b2%a0%ed%81%90-x-%eb%b0%b0o%ec%98%81-2%eb%b0%95/
END:VEVENT
BEGIN:VEVENT
DTSTART;VALUE=DATE:20250815
DTEND;VALUE=DATE:20250816
DTSTAMP:20260423T071635
CREATED:20250630T025026Z
LAST-MODIFIED:20250630T025026Z
UID:1635-1755216000-1755302399@xn--sk4b78fdsau01b.kr
SUMMARY:프리미엄 - 2명\, 바베큐 X // 손O영 (2박)
DESCRIPTION:방: 프리미엄\n인원: 2명\n바베큐: X\n예약자: 손O영 (2박)
URL:https://xn--sk4b78fdsau01b.kr/event/%ed%94%84%eb%a6%ac%eb%af%b8%ec%97%84-2%eb%aa%85-%eb%b0%94%eb%b2%a0%ed%81%90-x-%ec%86%90o%ec%98%81-2%eb%b0%95/
END:VEVENT
BEGIN:VEVENT
DTSTART;VALUE=DATE:20250815
DTEND;VALUE=DATE:20250816
DTSTAMP:20260423T071635
CREATED:20250625T043308Z
LAST-MODIFIED:20250625T043308Z
UID:1597-1755216000-1755302399@xn--sk4b78fdsau01b.kr
SUMMARY:별빛01 - 2명\, 바베큐 X // 안O빈 (2박)
DESCRIPTION:방: 별빛01\n인원: 2명\n바베큐: X\n예약자: 안O빈 (2박)
URL:https://xn--sk4b78fdsau01b.kr/event/%eb%b3%84%eb%b9%9b01-2%eb%aa%85-%eb%b0%94%eb%b2%a0%ed%81%90-x-%ec%95%88o%eb%b9%88-2%eb%b0%95/
END:VEVENT
BEGIN:VEVENT
DTSTART;VALUE=DATE:20250815
DTEND;VALUE=DATE:20250816
DTSTAMP:20260423T071635
CREATED:20250618T083734Z
LAST-MODIFIED:20250618T083734Z
UID:1581-1755216000-1755302399@xn--sk4b78fdsau01b.kr
SUMMARY:패밀리 - 4명\, 바베큐 O // 신O비 2박
DESCRIPTION:방: 패밀리\n인원: 4명\n바베큐: O\n예약자: 신O비 2박
URL:https://xn--sk4b78fdsau01b.kr/event/%ed%8c%a8%eb%b0%80%eb%a6%ac-4%eb%aa%85-%eb%b0%94%eb%b2%a0%ed%81%90-o-%ec%8b%a0o%eb%b9%84-2%eb%b0%95/
END:VEVENT
BEGIN:VEVENT
DTSTART;VALUE=DATE:20250814
DTEND;VALUE=DATE:20250815
DTSTAMP:20260423T071635
CREATED:20250812T105603Z
LAST-MODIFIED:20250812T105603Z
UID:1814-1755129600-1755215999@xn--sk4b78fdsau01b.kr
SUMMARY:별빛02 - 2명\, 바베큐 O // 조O찬
DESCRIPTION:방: 별빛02\n인원: 2명\n바베큐: O\n예약자: 조O찬
URL:https://xn--sk4b78fdsau01b.kr/event/%eb%b3%84%eb%b9%9b02-2%eb%aa%85-%eb%b0%94%eb%b2%a0%ed%81%90-o-%ec%a1%b0o%ec%b0%ac/
END:VEVENT
BEGIN:VEVENT
DTSTART;VALUE=DATE:20250814
DTEND;VALUE=DATE:20250815
DTSTAMP:20260423T071635
CREATED:20250630T025004Z
LAST-MODIFIED:20250630T025004Z
UID:1633-1755129600-1755215999@xn--sk4b78fdsau01b.kr
SUMMARY:프리미엄 - 2명\, 바베큐 O // 손O영 (2박)
DESCRIPTION:방: 프리미엄\n인원: 2명\n바베큐: O\n예약자: 손O영 (2박)
URL:https://xn--sk4b78fdsau01b.kr/event/%ed%94%84%eb%a6%ac%eb%af%b8%ec%97%84-2%eb%aa%85-%eb%b0%94%eb%b2%a0%ed%81%90-o-%ec%86%90o%ec%98%81-2%eb%b0%95/
END:VEVENT
BEGIN:VEVENT
DTSTART;VALUE=DATE:20250814
DTEND;VALUE=DATE:20250815
DTSTAMP:20260423T071635
CREATED:20250625T043244Z
LAST-MODIFIED:20250625T043244Z
UID:1595-1755129600-1755215999@xn--sk4b78fdsau01b.kr
SUMMARY:별빛01 - 2명\, 바베큐 O // 안O빈 (2박)
DESCRIPTION:방: 별빛01\n인원: 2명\n바베큐: O\n예약자: 안O빈 (2박)
URL:https://xn--sk4b78fdsau01b.kr/event/%eb%b3%84%eb%b9%9b01-2%eb%aa%85-%eb%b0%94%eb%b2%a0%ed%81%90-o-%ec%95%88o%eb%b9%88-2%eb%b0%95/
END:VEVENT
BEGIN:VEVENT
DTSTART;VALUE=DATE:20250813
DTEND;VALUE=DATE:20250814
DTSTAMP:20260423T071635
CREATED:20250807T114855Z
LAST-MODIFIED:20250807T114855Z
UID:1798-1755043200-1755129599@xn--sk4b78fdsau01b.kr
SUMMARY:별빛01 - 2명\, 바베큐 X // 김O성
DESCRIPTION:방: 별빛01\n인원: 2명\n바베큐: X\n예약자: 김O성
URL:https://xn--sk4b78fdsau01b.kr/event/%eb%b3%84%eb%b9%9b01-2%eb%aa%85-%eb%b0%94%eb%b2%a0%ed%81%90-x-%ea%b9%80o%ec%84%b1/
END:VEVENT
BEGIN:VEVENT
DTSTART;VALUE=DATE:20250812
DTEND;VALUE=DATE:20250813
DTSTAMP:20260423T071635
CREATED:20250626T134001Z
LAST-MODIFIED:20250626T134001Z
UID:1617-1754956800-1755043199@xn--sk4b78fdsau01b.kr
SUMMARY:별빛01 - 2명\, 바베큐 X // 이O민
DESCRIPTION:방: 별빛01\n인원: 2명\n바베큐: X\n예약자: 이O민
URL:https://xn--sk4b78fdsau01b.kr/event/%eb%b3%84%eb%b9%9b01-2%eb%aa%85-%eb%b0%94%eb%b2%a0%ed%81%90-x-%ec%9d%b4o%eb%af%bc/
END:VEVENT
BEGIN:VEVENT
DTSTART;VALUE=DATE:20250811
DTEND;VALUE=DATE:20250812
DTSTAMP:20260423T071635
CREATED:20250801T012240Z
LAST-MODIFIED:20250801T012241Z
UID:1784-1754870400-1754956799@xn--sk4b78fdsau01b.kr
SUMMARY:프리미엄 - 2명\, 바베큐 O // 황O형
DESCRIPTION:방: 프리미엄\n인원: 2명\n바베큐: O\n예약자: 황O형
URL:https://xn--sk4b78fdsau01b.kr/event/%ed%94%84%eb%a6%ac%eb%af%b8%ec%97%84-2%eb%aa%85-%eb%b0%94%eb%b2%a0%ed%81%90-o-%ed%99%a9o%ed%98%95/
END:VEVENT
BEGIN:VEVENT
DTSTART;VALUE=DATE:20250810
DTEND;VALUE=DATE:20250811
DTSTAMP:20260423T071635
CREATED:20250809T074011Z
LAST-MODIFIED:20250809T074011Z
UID:1806-1754784000-1754870399@xn--sk4b78fdsau01b.kr
SUMMARY:패밀리 - 4명\, 바베큐 X // 김O영 AB
DESCRIPTION:방: 패밀리\n인원: 4명\n바베큐: X\n예약자: 김O영 AB
URL:https://xn--sk4b78fdsau01b.kr/event/%ed%8c%a8%eb%b0%80%eb%a6%ac-4%eb%aa%85-%eb%b0%94%eb%b2%a0%ed%81%90-x-%ea%b9%80o%ec%98%81-ab/
END:VEVENT
BEGIN:VEVENT
DTSTART;VALUE=DATE:20250810
DTEND;VALUE=DATE:20250811
DTSTAMP:20260423T071635
CREATED:20250706T062640Z
LAST-MODIFIED:20250706T062640Z
UID:1667-1754784000-1754870399@xn--sk4b78fdsau01b.kr
SUMMARY:별빛02 - 2명\, 바베큐 X // 김O현
DESCRIPTION:방: 별빛02\n인원: 2명\n바베큐: X\n예약자: 김O현
URL:https://xn--sk4b78fdsau01b.kr/event/%eb%b3%84%eb%b9%9b02-2%eb%aa%85-%eb%b0%94%eb%b2%a0%ed%81%90-x-%ea%b9%80o%ed%98%84/
END:VEVENT
BEGIN:VEVENT
DTSTART;VALUE=DATE:20250809
DTEND;VALUE=DATE:20250810
DTSTAMP:20260423T071635
CREATED:20250711T032319Z
LAST-MODIFIED:20250711T032319Z
UID:1703-1754697600-1754783999@xn--sk4b78fdsau01b.kr
SUMMARY:별빛01 - 2명\, 바베큐 O // 김O훈
DESCRIPTION:방: 별빛01\n인원: 2명\n바베큐: O\n예약자: 김O훈
URL:https://xn--sk4b78fdsau01b.kr/event/%eb%b3%84%eb%b9%9b01-2%eb%aa%85-%eb%b0%94%eb%b2%a0%ed%81%90-o-%ea%b9%80o%ed%9b%88/
END:VEVENT
BEGIN:VEVENT
DTSTART;VALUE=DATE:20250809
DTEND;VALUE=DATE:20250810
DTSTAMP:20260423T071635
CREATED:20250708T014408Z
LAST-MODIFIED:20250708T014408Z
UID:1687-1754697600-1754783999@xn--sk4b78fdsau01b.kr
SUMMARY:패밀리 - 4명\, 바베큐 O // 박O희 AB
DESCRIPTION:방: 패밀리\n인원: 4명\n바베큐: O\n예약자: 박O희 AB
URL:https://xn--sk4b78fdsau01b.kr/event/%ed%8c%a8%eb%b0%80%eb%a6%ac-4%eb%aa%85-%eb%b0%94%eb%b2%a0%ed%81%90-o-%eb%b0%95o%ed%9d%ac-ab/
END:VEVENT
BEGIN:VEVENT
DTSTART;VALUE=DATE:20250809
DTEND;VALUE=DATE:20250810
DTSTAMP:20260423T071635
CREATED:20250708T014257Z
LAST-MODIFIED:20250708T014257Z
UID:1685-1754697600-1754783999@xn--sk4b78fdsau01b.kr
SUMMARY:프리미엄 - 2명\, 바베큐 X // 이O은
DESCRIPTION:방: 프리미엄\n인원: 2명\n바베큐: X\n예약자: 이O은
URL:https://xn--sk4b78fdsau01b.kr/event/%ed%94%84%eb%a6%ac%eb%af%b8%ec%97%84-2%eb%aa%85-%eb%b0%94%eb%b2%a0%ed%81%90-x-%ec%9d%b4o%ec%9d%80/
END:VEVENT
BEGIN:VEVENT
DTSTART;VALUE=DATE:20250809
DTEND;VALUE=DATE:20250810
DTSTAMP:20260423T071635
CREATED:20250628T051940Z
LAST-MODIFIED:20250628T051940Z
UID:1631-1754697600-1754783999@xn--sk4b78fdsau01b.kr
SUMMARY:별빛02 - 3명\, 바베큐 X // 박O형
DESCRIPTION:방: 별빛02\n인원: 3명\n바베큐: X\n예약자: 박O형
URL:https://xn--sk4b78fdsau01b.kr/event/%eb%b3%84%eb%b9%9b02-3%eb%aa%85-%eb%b0%94%eb%b2%a0%ed%81%90-x-%eb%b0%95o%ed%98%95/
END:VEVENT
BEGIN:VEVENT
DTSTART;VALUE=DATE:20250808
DTEND;VALUE=DATE:20250809
DTSTAMP:20260423T071635
CREATED:20250804T153914Z
LAST-MODIFIED:20250804T153914Z
UID:1790-1754611200-1754697599@xn--sk4b78fdsau01b.kr
SUMMARY:프리미엄 - 2명\, 바베큐 X // 김O희
DESCRIPTION:방: 프리미엄\n인원: 2명\n바베큐: X\n예약자: 김O희
URL:https://xn--sk4b78fdsau01b.kr/event/%ed%94%84%eb%a6%ac%eb%af%b8%ec%97%84-2%eb%aa%85-%eb%b0%94%eb%b2%a0%ed%81%90-x-%ea%b9%80o%ed%9d%ac/
END:VEVENT
BEGIN:VEVENT
DTSTART;VALUE=DATE:20250808
DTEND;VALUE=DATE:20250809
DTSTAMP:20260423T071635
CREATED:20250726T065942Z
LAST-MODIFIED:20250726T065942Z
UID:1764-1754611200-1754697599@xn--sk4b78fdsau01b.kr
SUMMARY:별빛01 - 2명\, 바베큐 X // 김O웅
DESCRIPTION:방: 별빛01\n인원: 2명\n바베큐: X\n예약자: 김O웅
URL:https://xn--sk4b78fdsau01b.kr/event/%eb%b3%84%eb%b9%9b01-2%eb%aa%85-%eb%b0%94%eb%b2%a0%ed%81%90-x-%ea%b9%80o%ec%9b%85/
END:VEVENT
BEGIN:VEVENT
DTSTART;VALUE=DATE:20250808
DTEND;VALUE=DATE:20250809
DTSTAMP:20260423T071635
CREATED:20250724T125812Z
LAST-MODIFIED:20250724T125812Z
UID:1760-1754611200-1754697599@xn--sk4b78fdsau01b.kr
SUMMARY:패밀리 - 3명\, 바베큐 O // 안O현
DESCRIPTION:방: 패밀리\n인원: 3명\n바베큐: O\n예약자: 안O현
URL:https://xn--sk4b78fdsau01b.kr/event/%ed%8c%a8%eb%b0%80%eb%a6%ac-3%eb%aa%85-%eb%b0%94%eb%b2%a0%ed%81%90-o-%ec%95%88o%ed%98%84/
END:VEVENT
BEGIN:VEVENT
DTSTART;VALUE=DATE:20250806
DTEND;VALUE=DATE:20250807
DTSTAMP:20260423T071635
CREATED:20250704T083655Z
LAST-MODIFIED:20250704T083655Z
UID:1657-1754438400-1754524799@xn--sk4b78fdsau01b.kr
SUMMARY:별빛02 - 2명\, 바베큐 O // 이O화
DESCRIPTION:방: 별빛02\n인원: 2명\n바베큐: O\n예약자: 이O화
URL:https://xn--sk4b78fdsau01b.kr/event/%eb%b3%84%eb%b9%9b02-2%eb%aa%85-%eb%b0%94%eb%b2%a0%ed%81%90-o-%ec%9d%b4o%ed%99%94/
END:VEVENT
BEGIN:VEVENT
DTSTART;VALUE=DATE:20250804
DTEND;VALUE=DATE:20250805
DTSTAMP:20260423T071635
CREATED:20250728T144627Z
LAST-MODIFIED:20250728T144627Z
UID:1774-1754265600-1754351999@xn--sk4b78fdsau01b.kr
SUMMARY:별빛01 - 2명\, 바베큐 O // 김O현
DESCRIPTION:방: 별빛01\n인원: 2명\n바베큐: O\n예약자: 김O현
URL:https://xn--sk4b78fdsau01b.kr/event/%eb%b3%84%eb%b9%9b01-2%eb%aa%85-%eb%b0%94%eb%b2%a0%ed%81%90-o-%ea%b9%80o%ed%98%84/
END:VEVENT
BEGIN:VEVENT
DTSTART;VALUE=DATE:20250804
DTEND;VALUE=DATE:20250805
DTSTAMP:20260423T071635
CREATED:20250615T223231Z
LAST-MODIFIED:20250615T223231Z
UID:1578-1754265600-1754351999@xn--sk4b78fdsau01b.kr
SUMMARY:프리미엄 - 2명\, 바베큐 X // 구O원 AB(2박)
DESCRIPTION:방: 프리미엄\n인원: 2명\n바베큐: X\n예약자: 구O원 AB(2박)
URL:https://xn--sk4b78fdsau01b.kr/event/%ed%94%84%eb%a6%ac%eb%af%b8%ec%97%84-2%eb%aa%85-%eb%b0%94%eb%b2%a0%ed%81%90-x-%ea%b5%aco%ec%9b%90-ab2%eb%b0%95-2/
END:VEVENT
BEGIN:VEVENT
DTSTART;VALUE=DATE:20250803
DTEND;VALUE=DATE:20250804
DTSTAMP:20260423T071635
CREATED:20250727T072651Z
LAST-MODIFIED:20250727T072651Z
UID:1770-1754179200-1754265599@xn--sk4b78fdsau01b.kr
SUMMARY:패밀리 - 3명\, 바베큐 O // 심O아
DESCRIPTION:방: 패밀리\n인원: 3명\n바베큐: O\n예약자: 심O아
URL:https://xn--sk4b78fdsau01b.kr/event/%ed%8c%a8%eb%b0%80%eb%a6%ac-3%eb%aa%85-%eb%b0%94%eb%b2%a0%ed%81%90-o-%ec%8b%aco%ec%95%84/
END:VEVENT
BEGIN:VEVENT
DTSTART;VALUE=DATE:20250803
DTEND;VALUE=DATE:20250804
DTSTAMP:20260423T071635
CREATED:20250726T021349Z
LAST-MODIFIED:20250726T021349Z
UID:1762-1754179200-1754265599@xn--sk4b78fdsau01b.kr
SUMMARY:별빛01 - 2명\, 바베큐 O // 이O재
DESCRIPTION:방: 별빛01\n인원: 2명\n바베큐: O\n예약자: 이O재
URL:https://xn--sk4b78fdsau01b.kr/event/%eb%b3%84%eb%b9%9b01-2%eb%aa%85-%eb%b0%94%eb%b2%a0%ed%81%90-o-%ec%9d%b4o%ec%9e%ac/
END:VEVENT
BEGIN:VEVENT
DTSTART;VALUE=DATE:20250803
DTEND;VALUE=DATE:20250804
DTSTAMP:20260423T071635
CREATED:20250716T024338Z
LAST-MODIFIED:20250716T024338Z
UID:1735-1754179200-1754265599@xn--sk4b78fdsau01b.kr
SUMMARY:별빛02 - 2명\, 바베큐 O // 왕O름
DESCRIPTION:방: 별빛02\n인원: 2명\n바베큐: O\n예약자: 왕O름
URL:https://xn--sk4b78fdsau01b.kr/event/%eb%b3%84%eb%b9%9b02-2%eb%aa%85-%eb%b0%94%eb%b2%a0%ed%81%90-o-%ec%99%95o%eb%a6%84/
END:VEVENT
BEGIN:VEVENT
DTSTART;VALUE=DATE:20250803
DTEND;VALUE=DATE:20250804
DTSTAMP:20260423T071635
CREATED:20250615T223202Z
LAST-MODIFIED:20250615T223202Z
UID:1576-1754179200-1754265599@xn--sk4b78fdsau01b.kr
SUMMARY:프리미엄 - 2명\, 바베큐 X // 구O원 AB(2박)
DESCRIPTION:방: 프리미엄\n인원: 2명\n바베큐: X\n예약자: 구O원 AB(2박)
URL:https://xn--sk4b78fdsau01b.kr/event/%ed%94%84%eb%a6%ac%eb%af%b8%ec%97%84-2%eb%aa%85-%eb%b0%94%eb%b2%a0%ed%81%90-x-%ea%b5%aco%ec%9b%90-ab2%eb%b0%95/
END:VEVENT
BEGIN:VEVENT
DTSTART;VALUE=DATE:20250802
DTEND;VALUE=DATE:20250803
DTSTAMP:20260423T071635
CREATED:20250613T070758Z
LAST-MODIFIED:20250613T070758Z
UID:1570-1754092800-1754179199@xn--sk4b78fdsau01b.kr
SUMMARY:별빛02 - 3명\, 바베큐 X // 김O린 2박
DESCRIPTION:방: 별빛02\n인원: 3명\n바베큐: X\n예약자: 김O린 2박
URL:https://xn--sk4b78fdsau01b.kr/event/%eb%b3%84%eb%b9%9b02-3%eb%aa%85-%eb%b0%94%eb%b2%a0%ed%81%90-x-%ea%b9%80o%eb%a6%b0-2%eb%b0%95/
END:VEVENT
END:VCALENDAR