BEGIN:VCALENDAR
VERSION:2.0
PRODID:-//별빛좋은펜션 - ECPv6.10.1.1//NONSGML v1.0//EN
CALSCALE:GREGORIAN
METHOD:PUBLISH
X-WR-CALNAME:별빛좋은펜션
X-ORIGINAL-URL:https://xn--sk4b78fdsau01b.kr
X-WR-CALDESC:별빛좋은펜션 이벤트
REFRESH-INTERVAL;VALUE=DURATION:PT1H
X-Robots-Tag:noindex
X-PUBLISHED-TTL:PT1H
BEGIN:VTIMEZONE
TZID:Asia/Seoul
BEGIN:STANDARD
TZOFFSETFROM:+0900
TZOFFSETTO:+0900
TZNAME:KST
DTSTART:20260101T000000
END:STANDARD
END:VTIMEZONE
BEGIN:VEVENT
DTSTART;VALUE=DATE:20260523
DTEND;VALUE=DATE:20260524
DTSTAMP:20260422T032503
CREATED:20260419T123757Z
LAST-MODIFIED:20260419T123757Z
UID:2172-1779494400-1779580799@xn--sk4b78fdsau01b.kr
SUMMARY:별빛01 - 2명\, 바베큐 X // 유O소 무통장
DESCRIPTION:방: 별빛01\n인원: 2명\n바베큐: X\n예약자: 유O소 무통장
URL:https://xn--sk4b78fdsau01b.kr/event/%eb%b3%84%eb%b9%9b01-2%eb%aa%85-%eb%b0%94%eb%b2%a0%ed%81%90-x-%ec%9c%a0o%ec%86%8c-%eb%ac%b4%ed%86%b5%ec%9e%a5/
END:VEVENT
BEGIN:VEVENT
DTSTART;VALUE=DATE:20260530
DTEND;VALUE=DATE:20260531
DTSTAMP:20260422T032503
CREATED:20260411T102435Z
LAST-MODIFIED:20260411T102435Z
UID:2134-1780099200-1780185599@xn--sk4b78fdsau01b.kr
SUMMARY:별빛02 - 3명\, 바베큐 X // 유O우
DESCRIPTION:방: 별빛02\n인원: 3명\n바베큐: X\n예약자: 유O우
URL:https://xn--sk4b78fdsau01b.kr/event/%eb%b3%84%eb%b9%9b02-3%eb%aa%85-%eb%b0%94%eb%b2%a0%ed%81%90-x-%ec%9c%a0o%ec%9a%b0/
END:VEVENT
BEGIN:VEVENT
DTSTART;VALUE=DATE:20260530
DTEND;VALUE=DATE:20260531
DTSTAMP:20260422T032503
CREATED:20260415T224349Z
LAST-MODIFIED:20260415T224349Z
UID:2154-1780099200-1780185599@xn--sk4b78fdsau01b.kr
SUMMARY:프리미엄 - 2명\, 바베큐 X // 최O라
DESCRIPTION:방: 프리미엄\n인원: 2명\n바베큐: X\n예약자: 최O라
URL:https://xn--sk4b78fdsau01b.kr/event/%ed%94%84%eb%a6%ac%eb%af%b8%ec%97%84-2%eb%aa%85-%eb%b0%94%eb%b2%a0%ed%81%90-x-%ec%b5%9co%eb%9d%bc/
END:VEVENT
BEGIN:VEVENT
DTSTART;VALUE=DATE:20260620
DTEND;VALUE=DATE:20260621
DTSTAMP:20260422T032503
CREATED:20260302T103922Z
LAST-MODIFIED:20260302T103922Z
UID:2066-1781913600-1781999999@xn--sk4b78fdsau01b.kr
SUMMARY:프리미엄 - 2명\, 바베큐 X // 이O미 (AB)
DESCRIPTION:방: 프리미엄\n인원: 2명\n바베큐: X\n예약자: 이O미 (AB)
URL:https://xn--sk4b78fdsau01b.kr/event/%ed%94%84%eb%a6%ac%eb%af%b8%ec%97%84-2%eb%aa%85-%eb%b0%94%eb%b2%a0%ed%81%90-x-%ec%9d%b4o%eb%af%b8-ab/
END:VEVENT
END:VCALENDAR