BEGIN:VCALENDAR
VERSION:2.0
PRODID:-//별빛좋은펜션 - ECPv6.10.1.1//NONSGML v1.0//EN
CALSCALE:GREGORIAN
METHOD:PUBLISH
X-WR-CALNAME:별빛좋은펜션
X-ORIGINAL-URL:https://xn--sk4b78fdsau01b.kr
X-WR-CALDESC:별빛좋은펜션 이벤트
REFRESH-INTERVAL;VALUE=DURATION:PT1H
X-Robots-Tag:noindex
X-PUBLISHED-TTL:PT1H
BEGIN:VTIMEZONE
TZID:Asia/Seoul
BEGIN:STANDARD
TZOFFSETFROM:+0900
TZOFFSETTO:+0900
TZNAME:KST
DTSTART:20250101T000000
END:STANDARD
END:VTIMEZONE
BEGIN:VEVENT
DTSTART;VALUE=DATE:20251225
DTEND;VALUE=DATE:20251226
DTSTAMP:20260422T073149
CREATED:20251213T030109Z
LAST-MODIFIED:20251213T030109Z
UID:2014-1766620800-1766707199@xn--sk4b78fdsau01b.kr
SUMMARY:별빛02 - 2명\, 바베큐 X // 김O학 (2박)
DESCRIPTION:방: 별빛02\n인원: 2명\n바베큐: X\n예약자: 김O학 (2박)
URL:https://xn--sk4b78fdsau01b.kr/event/%eb%b3%84%eb%b9%9b02-2%eb%aa%85-%eb%b0%94%eb%b2%a0%ed%81%90-x-%ea%b9%80o%ed%95%99-2%eb%b0%95/
END:VEVENT
BEGIN:VEVENT
DTSTART;VALUE=DATE:20251225
DTEND;VALUE=DATE:20251226
DTSTAMP:20260422T073149
CREATED:20251213T030025Z
LAST-MODIFIED:20251213T030025Z
UID:2012-1766620800-1766707199@xn--sk4b78fdsau01b.kr
SUMMARY:별빛01 - 2명\, 바베큐 O // 이O석
DESCRIPTION:방: 별빛01\n인원: 2명\n바베큐: O\n예약자: 이O석
URL:https://xn--sk4b78fdsau01b.kr/event/%eb%b3%84%eb%b9%9b01-2%eb%aa%85-%eb%b0%94%eb%b2%a0%ed%81%90-o-%ec%9d%b4o%ec%84%9d/
END:VEVENT
BEGIN:VEVENT
DTSTART;VALUE=DATE:20251225
DTEND;VALUE=DATE:20251226
DTSTAMP:20260422T073149
CREATED:20251210T153945Z
LAST-MODIFIED:20251210T153945Z
UID:2008-1766620800-1766707199@xn--sk4b78fdsau01b.kr
SUMMARY:프리미엄 - 2명\, 바베큐 O // 김O서 (2박)
DESCRIPTION:방: 프리미엄\n인원: 2명\n바베큐: O\n예약자: 김O서 (2박)
URL:https://xn--sk4b78fdsau01b.kr/event/%ed%94%84%eb%a6%ac%eb%af%b8%ec%97%84-2%eb%aa%85-%eb%b0%94%eb%b2%a0%ed%81%90-o-%ea%b9%80o%ec%84%9c-2%eb%b0%95/
END:VEVENT
BEGIN:VEVENT
DTSTART;VALUE=DATE:20251224
DTEND;VALUE=DATE:20251225
DTSTAMP:20260422T073149
CREATED:20251221T095529Z
LAST-MODIFIED:20251221T095529Z
UID:2026-1766534400-1766620799@xn--sk4b78fdsau01b.kr
SUMMARY:별빛01 - 2명\, 바베큐 O // 서O준
DESCRIPTION:방: 별빛01\n인원: 2명\n바베큐: O\n예약자: 서O준
URL:https://xn--sk4b78fdsau01b.kr/event/%eb%b3%84%eb%b9%9b01-2%eb%aa%85-%eb%b0%94%eb%b2%a0%ed%81%90-o-%ec%84%9co%ec%a4%80/
END:VEVENT
BEGIN:VEVENT
DTSTART;VALUE=DATE:20251219
DTEND;VALUE=DATE:20251220
DTSTAMP:20260422T073149
CREATED:20251215T133735Z
LAST-MODIFIED:20251215T133735Z
UID:2024-1766102400-1766188799@xn--sk4b78fdsau01b.kr
SUMMARY:프리미엄 - 2명\, 바베큐 X // 이O헌 (2박)
DESCRIPTION:방: 프리미엄\n인원: 2명\n바베큐: X\n예약자: 이O헌 (2박)
URL:https://xn--sk4b78fdsau01b.kr/event/%ed%94%84%eb%a6%ac%eb%af%b8%ec%97%84-2%eb%aa%85-%eb%b0%94%eb%b2%a0%ed%81%90-x-%ec%9d%b4o%ed%97%8c-2%eb%b0%95-2/
END:VEVENT
BEGIN:VEVENT
DTSTART;VALUE=DATE:20251218
DTEND;VALUE=DATE:20251219
DTSTAMP:20260422T073149
CREATED:20251215T133712Z
LAST-MODIFIED:20251215T133712Z
UID:2022-1766016000-1766102399@xn--sk4b78fdsau01b.kr
SUMMARY:프리미엄 - 2명\, 바베큐 X // 이O헌 (2박)
DESCRIPTION:방: 프리미엄\n인원: 2명\n바베큐: X\n예약자: 이O헌 (2박)
URL:https://xn--sk4b78fdsau01b.kr/event/%ed%94%84%eb%a6%ac%eb%af%b8%ec%97%84-2%eb%aa%85-%eb%b0%94%eb%b2%a0%ed%81%90-x-%ec%9d%b4o%ed%97%8c-2%eb%b0%95/
END:VEVENT
BEGIN:VEVENT
DTSTART;VALUE=DATE:20251213
DTEND;VALUE=DATE:20251214
DTSTAMP:20260422T073149
CREATED:20251202T095714Z
LAST-MODIFIED:20251202T095714Z
UID:2002-1765584000-1765670399@xn--sk4b78fdsau01b.kr
SUMMARY:별빛02 - 2명\, 바베큐 X // 유O은
DESCRIPTION:방: 별빛02\n인원: 2명\n바베큐: X\n예약자: 유O은
URL:https://xn--sk4b78fdsau01b.kr/event/%eb%b3%84%eb%b9%9b02-2%eb%aa%85-%eb%b0%94%eb%b2%a0%ed%81%90-x-%ec%9c%a0o%ec%9d%80/
END:VEVENT
BEGIN:VEVENT
DTSTART;VALUE=DATE:20251213
DTEND;VALUE=DATE:20251214
DTSTAMP:20260422T073149
CREATED:20251202T095640Z
LAST-MODIFIED:20251202T095640Z
UID:2000-1765584000-1765670399@xn--sk4b78fdsau01b.kr
SUMMARY:별빛01 - 3명\, 바베큐 X // 추O희
DESCRIPTION:방: 별빛01\n인원: 3명\n바베큐: X\n예약자: 추O희
URL:https://xn--sk4b78fdsau01b.kr/event/%eb%b3%84%eb%b9%9b01-3%eb%aa%85-%eb%b0%94%eb%b2%a0%ed%81%90-x-%ec%b6%94o%ed%9d%ac/
END:VEVENT
BEGIN:VEVENT
DTSTART;VALUE=DATE:20251213
DTEND;VALUE=DATE:20251214
DTSTAMP:20260422T073149
CREATED:20251124T224609Z
LAST-MODIFIED:20251124T224610Z
UID:1996-1765584000-1765670399@xn--sk4b78fdsau01b.kr
SUMMARY:프리미엄 - 2명\, 바베큐 O // 사O석
DESCRIPTION:방: 프리미엄\n인원: 2명\n바베큐: O\n예약자: 사O석
URL:https://xn--sk4b78fdsau01b.kr/event/%ed%94%84%eb%a6%ac%eb%af%b8%ec%97%84-2%eb%aa%85-%eb%b0%94%eb%b2%a0%ed%81%90-o-%ec%82%aco%ec%84%9d-2/
END:VEVENT
BEGIN:VEVENT
DTSTART;VALUE=DATE:20251212
DTEND;VALUE=DATE:20251213
DTSTAMP:20260422T073149
CREATED:20251124T224653Z
LAST-MODIFIED:20251124T224653Z
UID:1998-1765497600-1765583999@xn--sk4b78fdsau01b.kr
SUMMARY:프리미엄 - 2명\, 바베큐 X // 장O환
DESCRIPTION:방: 프리미엄\n인원: 2명\n바베큐: X\n예약자: 장O환
URL:https://xn--sk4b78fdsau01b.kr/event/%ed%94%84%eb%a6%ac%eb%af%b8%ec%97%84-2%eb%aa%85-%eb%b0%94%eb%b2%a0%ed%81%90-x-%ec%9e%a5o%ed%99%98/
END:VEVENT
BEGIN:VEVENT
DTSTART;VALUE=DATE:20251129
DTEND;VALUE=DATE:20251130
DTSTAMP:20260422T073149
CREATED:20251120T090910Z
LAST-MODIFIED:20251120T090910Z
UID:1992-1764374400-1764460799@xn--sk4b78fdsau01b.kr
SUMMARY:프리미엄 - 2명\, 바베큐 X // 김O수
DESCRIPTION:방: 프리미엄\n인원: 2명\n바베큐: X\n예약자: 김O수
URL:https://xn--sk4b78fdsau01b.kr/event/%ed%94%84%eb%a6%ac%eb%af%b8%ec%97%84-2%eb%aa%85-%eb%b0%94%eb%b2%a0%ed%81%90-x-%ea%b9%80o%ec%88%98-2/
END:VEVENT
BEGIN:VEVENT
DTSTART;VALUE=DATE:20251129
DTEND;VALUE=DATE:20251130
DTSTAMP:20260422T073149
CREATED:20251024T090346Z
LAST-MODIFIED:20251024T090347Z
UID:1966-1764374400-1764460799@xn--sk4b78fdsau01b.kr
SUMMARY:별빛01 - 2명\, 바베큐 O // 유O민
DESCRIPTION:방: 별빛01\n인원: 2명\n바베큐: O\n예약자: 유O민
URL:https://xn--sk4b78fdsau01b.kr/event/%eb%b3%84%eb%b9%9b01-2%eb%aa%85-%eb%b0%94%eb%b2%a0%ed%81%90-o-%ec%9c%a0o%eb%af%bc/
END:VEVENT
BEGIN:VEVENT
DTSTART;VALUE=DATE:20251128
DTEND;VALUE=DATE:20251129
DTSTAMP:20260422T073149
CREATED:20251024T090310Z
LAST-MODIFIED:20251024T090310Z
UID:1964-1764288000-1764374399@xn--sk4b78fdsau01b.kr
SUMMARY:프리미엄 - 2명\, 바베큐 X // 차O근 (2박)
DESCRIPTION:방: 프리미엄\n인원: 2명\n바베큐: X\n예약자: 차O근 (2박)
URL:https://xn--sk4b78fdsau01b.kr/event/%ed%94%84%eb%a6%ac%eb%af%b8%ec%97%84-2%eb%aa%85-%eb%b0%94%eb%b2%a0%ed%81%90-x-%ec%b0%a8o%ea%b7%bc-2%eb%b0%95/
END:VEVENT
BEGIN:VEVENT
DTSTART;VALUE=DATE:20251127
DTEND;VALUE=DATE:20251128
DTSTAMP:20260422T073149
CREATED:20251024T090252Z
LAST-MODIFIED:20251024T090252Z
UID:1962-1764201600-1764287999@xn--sk4b78fdsau01b.kr
SUMMARY:프리미엄 - 2명\, 바베큐 O // 차O근 (2박)
DESCRIPTION:방: 프리미엄\n인원: 2명\n바베큐: O\n예약자: 차O근 (2박)
URL:https://xn--sk4b78fdsau01b.kr/event/%ed%94%84%eb%a6%ac%eb%af%b8%ec%97%84-2%eb%aa%85-%eb%b0%94%eb%b2%a0%ed%81%90-o-%ec%b0%a8o%ea%b7%bc-2%eb%b0%95/
END:VEVENT
BEGIN:VEVENT
DTSTART;VALUE=DATE:20251122
DTEND;VALUE=DATE:20251123
DTSTAMP:20260422T073149
CREATED:20251120T022746Z
LAST-MODIFIED:20251120T022746Z
UID:1990-1763769600-1763855999@xn--sk4b78fdsau01b.kr
SUMMARY:프리미엄 - 2명\, 바베큐 X // 한O혜 (2박)
DESCRIPTION:방: 프리미엄\n인원: 2명\n바베큐: X\n예약자: 한O혜 (2박)
URL:https://xn--sk4b78fdsau01b.kr/event/%ed%94%84%eb%a6%ac%eb%af%b8%ec%97%84-2%eb%aa%85-%eb%b0%94%eb%b2%a0%ed%81%90-x-%ed%95%9co%ed%98%9c-2%eb%b0%95-2/
END:VEVENT
BEGIN:VEVENT
DTSTART;VALUE=DATE:20251122
DTEND;VALUE=DATE:20251123
DTSTAMP:20260422T073149
CREATED:20251117T223852Z
LAST-MODIFIED:20251117T223852Z
UID:1986-1763769600-1763855999@xn--sk4b78fdsau01b.kr
SUMMARY:패밀리 - 2명\, 바베큐 X // 편O옹 (2박)
DESCRIPTION:방: 패밀리\n인원: 2명\n바베큐: X\n예약자: 편O옹 (2박)
URL:https://xn--sk4b78fdsau01b.kr/event/%ed%8c%a8%eb%b0%80%eb%a6%ac-2%eb%aa%85-%eb%b0%94%eb%b2%a0%ed%81%90-x-%ed%8e%b8o%ec%98%b9-2%eb%b0%95-3/
END:VEVENT
BEGIN:VEVENT
DTSTART;VALUE=DATE:20251121
DTEND;VALUE=DATE:20251122
DTSTAMP:20260422T073149
CREATED:20251120T022714Z
LAST-MODIFIED:20251120T022714Z
UID:1988-1763683200-1763769599@xn--sk4b78fdsau01b.kr
SUMMARY:프리미엄 - 2명\, 바베큐 X // 한O혜 (2박)
DESCRIPTION:방: 프리미엄\n인원: 2명\n바베큐: X\n예약자: 한O혜 (2박)
URL:https://xn--sk4b78fdsau01b.kr/event/%ed%94%84%eb%a6%ac%eb%af%b8%ec%97%84-2%eb%aa%85-%eb%b0%94%eb%b2%a0%ed%81%90-x-%ed%95%9co%ed%98%9c-2%eb%b0%95/
END:VEVENT
BEGIN:VEVENT
DTSTART;VALUE=DATE:20251121
DTEND;VALUE=DATE:20251122
DTSTAMP:20260422T073149
CREATED:20251117T223828Z
LAST-MODIFIED:20251117T223828Z
UID:1984-1763683200-1763769599@xn--sk4b78fdsau01b.kr
SUMMARY:패밀리 - 2명\, 바베큐 O // 편O옹 (2박)
DESCRIPTION:방: 패밀리\n인원: 2명\n바베큐: O\n예약자: 편O옹 (2박)
URL:https://xn--sk4b78fdsau01b.kr/event/%ed%8c%a8%eb%b0%80%eb%a6%ac-2%eb%aa%85-%eb%b0%94%eb%b2%a0%ed%81%90-o-%ed%8e%b8o%ec%98%b9-2%eb%b0%95/
END:VEVENT
BEGIN:VEVENT
DTSTART;VALUE=DATE:20251108
DTEND;VALUE=DATE:20251109
DTSTAMP:20260422T073149
CREATED:20251101T121241Z
LAST-MODIFIED:20251101T121241Z
UID:1976-1762560000-1762646399@xn--sk4b78fdsau01b.kr
SUMMARY:프리미엄 - 2명\, 바베큐 X // 박O은 (2박)
DESCRIPTION:방: 프리미엄\n인원: 2명\n바베큐: X\n예약자: 박O은 (2박)
URL:https://xn--sk4b78fdsau01b.kr/event/%ed%94%84%eb%a6%ac%eb%af%b8%ec%97%84-2%eb%aa%85-%eb%b0%94%eb%b2%a0%ed%81%90-x-%eb%b0%95o%ec%9d%80-2%eb%b0%95/
END:VEVENT
BEGIN:VEVENT
DTSTART;VALUE=DATE:20251107
DTEND;VALUE=DATE:20251108
DTSTAMP:20260422T073149
CREATED:20251101T121220Z
LAST-MODIFIED:20251101T121220Z
UID:1974-1762473600-1762559999@xn--sk4b78fdsau01b.kr
SUMMARY:프리미엄 - 2명\, 바베큐 O // 박O은 (2박)
DESCRIPTION:방: 프리미엄\n인원: 2명\n바베큐: O\n예약자: 박O은 (2박)
URL:https://xn--sk4b78fdsau01b.kr/event/%ed%94%84%eb%a6%ac%eb%af%b8%ec%97%84-2%eb%aa%85-%eb%b0%94%eb%b2%a0%ed%81%90-o-%eb%b0%95o%ec%9d%80-2%eb%b0%95/
END:VEVENT
BEGIN:VEVENT
DTSTART;VALUE=DATE:20251102
DTEND;VALUE=DATE:20251103
DTSTAMP:20260422T073149
CREATED:20251101T121132Z
LAST-MODIFIED:20251101T121132Z
UID:1972-1762041600-1762127999@xn--sk4b78fdsau01b.kr
SUMMARY:프리미엄 - 2명\, 바베큐 O // 신O미
DESCRIPTION:방: 프리미엄\n인원: 2명\n바베큐: O\n예약자: 신O미
URL:https://xn--sk4b78fdsau01b.kr/event/%ed%94%84%eb%a6%ac%eb%af%b8%ec%97%84-2%eb%aa%85-%eb%b0%94%eb%b2%a0%ed%81%90-o-%ec%8b%a0o%eb%af%b8/
END:VEVENT
BEGIN:VEVENT
DTSTART;VALUE=DATE:20251101
DTEND;VALUE=DATE:20251102
DTSTAMP:20260422T073149
CREATED:20251029T110919Z
LAST-MODIFIED:20251029T110919Z
UID:1970-1761955200-1762041599@xn--sk4b78fdsau01b.kr
SUMMARY:프리미엄 - 2명\, 바베큐 X // 이O인
DESCRIPTION:방: 프리미엄\n인원: 2명\n바베큐: X\n예약자: 이O인
URL:https://xn--sk4b78fdsau01b.kr/event/%ed%94%84%eb%a6%ac%eb%af%b8%ec%97%84-2%eb%aa%85-%eb%b0%94%eb%b2%a0%ed%81%90-x-%ec%9d%b4o%ec%9d%b8/
END:VEVENT
BEGIN:VEVENT
DTSTART;VALUE=DATE:20251101
DTEND;VALUE=DATE:20251102
DTSTAMP:20260422T073149
CREATED:20251029T015658Z
LAST-MODIFIED:20251029T015658Z
UID:1968-1761955200-1762041599@xn--sk4b78fdsau01b.kr
SUMMARY:별빛02 - 2명\, 바베큐 X // 김O연
DESCRIPTION:방: 별빛02\n인원: 2명\n바베큐: X\n예약자: 김O연
URL:https://xn--sk4b78fdsau01b.kr/event/%eb%b3%84%eb%b9%9b02-2%eb%aa%85-%eb%b0%94%eb%b2%a0%ed%81%90-x-%ea%b9%80o%ec%97%b0/
END:VEVENT
BEGIN:VEVENT
DTSTART;VALUE=DATE:20251101
DTEND;VALUE=DATE:20251102
DTSTAMP:20260422T073149
CREATED:20251020T025112Z
LAST-MODIFIED:20251020T025112Z
UID:1960-1761955200-1762041599@xn--sk4b78fdsau01b.kr
SUMMARY:별빛01 - 2명\, 바베큐 X // 정O민
DESCRIPTION:방: 별빛01\n인원: 2명\n바베큐: X\n예약자: 정O민
URL:https://xn--sk4b78fdsau01b.kr/event/%eb%b3%84%eb%b9%9b01-2%eb%aa%85-%eb%b0%94%eb%b2%a0%ed%81%90-x-%ec%a0%95o%eb%af%bc/
END:VEVENT
BEGIN:VEVENT
DTSTART;VALUE=DATE:20251101
DTEND;VALUE=DATE:20251102
DTSTAMP:20260422T073149
CREATED:20251004T153059Z
LAST-MODIFIED:20251004T153059Z
UID:1928-1761955200-1762041599@xn--sk4b78fdsau01b.kr
SUMMARY:패밀리 - 4명\, 바베큐 O // 신O정
DESCRIPTION:방: 패밀리\n인원: 4명\n바베큐: O\n예약자: 신O정
URL:https://xn--sk4b78fdsau01b.kr/event/%ed%8c%a8%eb%b0%80%eb%a6%ac-4%eb%aa%85-%eb%b0%94%eb%b2%a0%ed%81%90-o-%ec%8b%a0o%ec%a0%95/
END:VEVENT
BEGIN:VEVENT
DTSTART;VALUE=DATE:20251031
DTEND;VALUE=DATE:20251101
DTSTAMP:20260422T073149
CREATED:20251015T011555Z
LAST-MODIFIED:20251015T011555Z
UID:1950-1761868800-1761955199@xn--sk4b78fdsau01b.kr
SUMMARY:프리미엄 - 2명\, 바베큐 X // 고O호 (단체)
DESCRIPTION:방: 프리미엄\n인원: 2명\n바베큐: X\n예약자: 고O호 (단체)
URL:https://xn--sk4b78fdsau01b.kr/event/%ed%94%84%eb%a6%ac%eb%af%b8%ec%97%84-2%eb%aa%85-%eb%b0%94%eb%b2%a0%ed%81%90-x-%ea%b3%a0o%ed%98%b8-%eb%8b%a8%ec%b2%b4/
END:VEVENT
BEGIN:VEVENT
DTSTART;VALUE=DATE:20251031
DTEND;VALUE=DATE:20251101
DTSTAMP:20260422T073149
CREATED:20251015T011537Z
LAST-MODIFIED:20251015T011537Z
UID:1948-1761868800-1761955199@xn--sk4b78fdsau01b.kr
SUMMARY:패밀리 - 2명\, 바베큐 X // 고O호 (단체)
DESCRIPTION:방: 패밀리\n인원: 2명\n바베큐: X\n예약자: 고O호 (단체)
URL:https://xn--sk4b78fdsau01b.kr/event/%ed%8c%a8%eb%b0%80%eb%a6%ac-2%eb%aa%85-%eb%b0%94%eb%b2%a0%ed%81%90-x-%ea%b3%a0o%ed%98%b8-%eb%8b%a8%ec%b2%b4/
END:VEVENT
BEGIN:VEVENT
DTSTART;VALUE=DATE:20251031
DTEND;VALUE=DATE:20251101
DTSTAMP:20260422T073149
CREATED:20251015T011519Z
LAST-MODIFIED:20251015T011519Z
UID:1946-1761868800-1761955199@xn--sk4b78fdsau01b.kr
SUMMARY:별빛02 - 2명\, 바베큐 X // 고O호 (단체)
DESCRIPTION:방: 별빛02\n인원: 2명\n바베큐: X\n예약자: 고O호 (단체)
URL:https://xn--sk4b78fdsau01b.kr/event/%eb%b3%84%eb%b9%9b02-2%eb%aa%85-%eb%b0%94%eb%b2%a0%ed%81%90-x-%ea%b3%a0o%ed%98%b8-%eb%8b%a8%ec%b2%b4/
END:VEVENT
BEGIN:VEVENT
DTSTART;VALUE=DATE:20251031
DTEND;VALUE=DATE:20251101
DTSTAMP:20260422T073149
CREATED:20251015T011501Z
LAST-MODIFIED:20251015T011501Z
UID:1944-1761868800-1761955199@xn--sk4b78fdsau01b.kr
SUMMARY:별빛01 - 2명\, 바베큐 X // 고O호 (단체)
DESCRIPTION:방: 별빛01\n인원: 2명\n바베큐: X\n예약자: 고O호 (단체)
URL:https://xn--sk4b78fdsau01b.kr/event/%eb%b3%84%eb%b9%9b01-2%eb%aa%85-%eb%b0%94%eb%b2%a0%ed%81%90-x-%ea%b3%a0o%ed%98%b8-%eb%8b%a8%ec%b2%b4/
END:VEVENT
BEGIN:VEVENT
DTSTART;VALUE=DATE:20251025
DTEND;VALUE=DATE:20251026
DTSTAMP:20260422T073149
CREATED:20251019T131831Z
LAST-MODIFIED:20251019T131831Z
UID:1958-1761350400-1761436799@xn--sk4b78fdsau01b.kr
SUMMARY:별빛02 - 2명\, 바베큐 O // 김O훈
DESCRIPTION:방: 별빛02\n인원: 2명\n바베큐: O\n예약자: 김O훈
URL:https://xn--sk4b78fdsau01b.kr/event/%eb%b3%84%eb%b9%9b02-2%eb%aa%85-%eb%b0%94%eb%b2%a0%ed%81%90-o-%ea%b9%80o%ed%9b%88/
END:VEVENT
END:VCALENDAR