BEGIN:VCALENDAR
VERSION:2.0
PRODID:-//별빛좋은펜션 - ECPv6.10.1.1//NONSGML v1.0//EN
CALSCALE:GREGORIAN
METHOD:PUBLISH
X-WR-CALNAME:별빛좋은펜션
X-ORIGINAL-URL:https://xn--sk4b78fdsau01b.kr
X-WR-CALDESC:별빛좋은펜션 이벤트
REFRESH-INTERVAL;VALUE=DURATION:PT1H
X-Robots-Tag:noindex
X-PUBLISHED-TTL:PT1H
BEGIN:VTIMEZONE
TZID:Asia/Seoul
BEGIN:STANDARD
TZOFFSETFROM:+0900
TZOFFSETTO:+0900
TZNAME:KST
DTSTART:20250101T000000
END:STANDARD
END:VTIMEZONE
BEGIN:VEVENT
DTSTART;VALUE=DATE:20250614
DTEND;VALUE=DATE:20250615
DTSTAMP:20260423T151507
CREATED:20250523T073745Z
LAST-MODIFIED:20250523T073745Z
UID:1538-1749859200-1749945599@xn--sk4b78fdsau01b.kr
SUMMARY:별빛02 - 2명\, 바베큐 O // 서O민
DESCRIPTION:방: 별빛02\n인원: 2명\n바베큐: O\n예약자: 서O민
URL:https://xn--sk4b78fdsau01b.kr/event/%eb%b3%84%eb%b9%9b02-2%eb%aa%85-%eb%b0%94%eb%b2%a0%ed%81%90-o-%ec%84%9co%eb%af%bc/
END:VEVENT
BEGIN:VEVENT
DTSTART;VALUE=DATE:20250614
DTEND;VALUE=DATE:20250615
DTSTAMP:20260423T151507
CREATED:20250522T084944Z
LAST-MODIFIED:20250522T084944Z
UID:1532-1749859200-1749945599@xn--sk4b78fdsau01b.kr
SUMMARY:별빛01 - 2명\, 바베큐 X // 엄O섭
DESCRIPTION:방: 별빛01\n인원: 2명\n바베큐: X\n예약자: 엄O섭
URL:https://xn--sk4b78fdsau01b.kr/event/%eb%b3%84%eb%b9%9b01-2%eb%aa%85-%eb%b0%94%eb%b2%a0%ed%81%90-x-%ec%97%84o%ec%84%ad/
END:VEVENT
BEGIN:VEVENT
DTSTART;VALUE=DATE:20250612
DTEND;VALUE=DATE:20250613
DTSTAMP:20260423T151507
CREATED:20250611T102624Z
LAST-MODIFIED:20250611T102624Z
UID:1562-1749686400-1749772799@xn--sk4b78fdsau01b.kr
SUMMARY:패밀리 - 4명\, 바베큐 X // 무O장
DESCRIPTION:방: 패밀리\n인원: 4명\n바베큐: X\n예약자: 무O장
URL:https://xn--sk4b78fdsau01b.kr/event/%ed%8c%a8%eb%b0%80%eb%a6%ac-4%eb%aa%85-%eb%b0%94%eb%b2%a0%ed%81%90-x-%eb%ac%b4o%ec%9e%a5/
END:VEVENT
BEGIN:VEVENT
DTSTART;VALUE=DATE:20250601
DTEND;VALUE=DATE:20250602
DTSTAMP:20260423T151507
CREATED:20250531T045248Z
LAST-MODIFIED:20250531T045248Z
UID:1550-1748736000-1748822399@xn--sk4b78fdsau01b.kr
SUMMARY:프리미엄 - 2명\, 바베큐 X // 김O경
DESCRIPTION:방: 프리미엄\n인원: 2명\n바베큐: X\n예약자: 김O경
URL:https://xn--sk4b78fdsau01b.kr/event/%ed%94%84%eb%a6%ac%eb%af%b8%ec%97%84-2%eb%aa%85-%eb%b0%94%eb%b2%a0%ed%81%90-x-%ea%b9%80o%ea%b2%bd/
END:VEVENT
BEGIN:VEVENT
DTSTART;VALUE=DATE:20250601
DTEND;VALUE=DATE:20250602
DTSTAMP:20260423T151507
CREATED:20250507T003519Z
LAST-MODIFIED:20250507T003519Z
UID:1508-1748736000-1748822399@xn--sk4b78fdsau01b.kr
SUMMARY:별빛01 - 2명\, 바베큐 O // 박O숙
DESCRIPTION:방: 별빛01\n인원: 2명\n바베큐: O\n예약자: 박O숙
URL:https://xn--sk4b78fdsau01b.kr/event/%eb%b3%84%eb%b9%9b01-2%eb%aa%85-%eb%b0%94%eb%b2%a0%ed%81%90-o-%eb%b0%95o%ec%88%99/
END:VEVENT
BEGIN:VEVENT
DTSTART;VALUE=DATE:20250601
DTEND;VALUE=DATE:20250602
DTSTAMP:20260423T151507
CREATED:20250501T064114Z
LAST-MODIFIED:20250501T064114Z
UID:1500-1748736000-1748822399@xn--sk4b78fdsau01b.kr
SUMMARY:패밀리 - 3명\, 바베큐 O // 박O숙
DESCRIPTION:방: 패밀리\n인원: 3명\n바베큐: O\n예약자: 박O숙
URL:https://xn--sk4b78fdsau01b.kr/event/%ed%8c%a8%eb%b0%80%eb%a6%ac-3%eb%aa%85-%eb%b0%94%eb%b2%a0%ed%81%90-o-%eb%b0%95o%ec%88%99/
END:VEVENT
BEGIN:VEVENT
DTSTART;VALUE=DATE:20250601
DTEND;VALUE=DATE:20250602
DTSTAMP:20260423T151507
CREATED:20250501T064052Z
LAST-MODIFIED:20250501T064052Z
UID:1498-1748736000-1748822399@xn--sk4b78fdsau01b.kr
SUMMARY:별빛02 - 2명\, 바베큐 O // 박O숙
DESCRIPTION:방: 별빛02\n인원: 2명\n바베큐: O\n예약자: 박O숙
URL:https://xn--sk4b78fdsau01b.kr/event/%eb%b3%84%eb%b9%9b02-2%eb%aa%85-%eb%b0%94%eb%b2%a0%ed%81%90-o-%eb%b0%95o%ec%88%99/
END:VEVENT
BEGIN:VEVENT
DTSTART;VALUE=DATE:20250531
DTEND;VALUE=DATE:20250601
DTSTAMP:20260423T151507
CREATED:20250523T072541Z
LAST-MODIFIED:20250523T072541Z
UID:1536-1748649600-1748735999@xn--sk4b78fdsau01b.kr
SUMMARY:프리미엄 - 2명\, 바베큐 O // 주O우
DESCRIPTION:방: 프리미엄\n인원: 2명\n바베큐: O\n예약자: 주O우
URL:https://xn--sk4b78fdsau01b.kr/event/%ed%94%84%eb%a6%ac%eb%af%b8%ec%97%84-2%eb%aa%85-%eb%b0%94%eb%b2%a0%ed%81%90-o-%ec%a3%bco%ec%9a%b0/
END:VEVENT
BEGIN:VEVENT
DTSTART;VALUE=DATE:20250531
DTEND;VALUE=DATE:20250601
DTSTAMP:20260423T151507
CREATED:20250514T144530Z
LAST-MODIFIED:20250514T144530Z
UID:1526-1748649600-1748735999@xn--sk4b78fdsau01b.kr
SUMMARY:패밀리 - 3명\, 바베큐 O // 조O솔
DESCRIPTION:방: 패밀리\n인원: 3명\n바베큐: O\n예약자: 조O솔
URL:https://xn--sk4b78fdsau01b.kr/event/%ed%8c%a8%eb%b0%80%eb%a6%ac-3%eb%aa%85-%eb%b0%94%eb%b2%a0%ed%81%90-o-%ec%a1%b0o%ec%86%94/
END:VEVENT
BEGIN:VEVENT
DTSTART;VALUE=DATE:20250524
DTEND;VALUE=DATE:20250525
DTSTAMP:20260423T151507
CREATED:20250520T120232Z
LAST-MODIFIED:20250520T120233Z
UID:1528-1748044800-1748131199@xn--sk4b78fdsau01b.kr
SUMMARY:프리미엄 - 2명\, 바베큐 O // 이O림
DESCRIPTION:방: 프리미엄\n인원: 2명\n바베큐: O\n예약자: 이O림
URL:https://xn--sk4b78fdsau01b.kr/event/%ed%94%84%eb%a6%ac%eb%af%b8%ec%97%84-2%eb%aa%85-%eb%b0%94%eb%b2%a0%ed%81%90-o-%ec%9d%b4o%eb%a6%bc/
END:VEVENT
BEGIN:VEVENT
DTSTART;VALUE=DATE:20250524
DTEND;VALUE=DATE:20250525
DTSTAMP:20260423T151507
CREATED:20250411T114538Z
LAST-MODIFIED:20250411T114538Z
UID:1456-1748044800-1748131199@xn--sk4b78fdsau01b.kr
SUMMARY:별빛02 - 2명\, 바베큐 O // 진O희
DESCRIPTION:방: 별빛02\n인원: 2명\n바베큐: O\n예약자: 진O희
URL:https://xn--sk4b78fdsau01b.kr/event/%eb%b3%84%eb%b9%9b02-2%eb%aa%85-%eb%b0%94%eb%b2%a0%ed%81%90-o-%ec%a7%84o%ed%9d%ac-2/
END:VEVENT
BEGIN:VEVENT
DTSTART;VALUE=DATE:20250517
DTEND;VALUE=DATE:20250518
DTSTAMP:20260423T151507
CREATED:20250513T151653Z
LAST-MODIFIED:20250513T151653Z
UID:1524-1747440000-1747526399@xn--sk4b78fdsau01b.kr
SUMMARY:프리미엄 - 2명\, 바베큐 X // 김O희 (2박)
DESCRIPTION:방: 프리미엄\n인원: 2명\n바베큐: X\n예약자: 김O희 (2박)
URL:https://xn--sk4b78fdsau01b.kr/event/%ed%94%84%eb%a6%ac%eb%af%b8%ec%97%84-2%eb%aa%85-%eb%b0%94%eb%b2%a0%ed%81%90-x-%ea%b9%80o%ed%9d%ac-2%eb%b0%95-2/
END:VEVENT
BEGIN:VEVENT
DTSTART;VALUE=DATE:20250516
DTEND;VALUE=DATE:20250517
DTSTAMP:20260423T151507
CREATED:20250513T151631Z
LAST-MODIFIED:20250513T151631Z
UID:1522-1747353600-1747439999@xn--sk4b78fdsau01b.kr
SUMMARY:프리미엄 - 2명\, 바베큐 X // 김O희 (2박)
DESCRIPTION:방: 프리미엄\n인원: 2명\n바베큐: X\n예약자: 김O희 (2박)
URL:https://xn--sk4b78fdsau01b.kr/event/%ed%94%84%eb%a6%ac%eb%af%b8%ec%97%84-2%eb%aa%85-%eb%b0%94%eb%b2%a0%ed%81%90-x-%ea%b9%80o%ed%9d%ac-2%eb%b0%95/
END:VEVENT
BEGIN:VEVENT
DTSTART;VALUE=DATE:20250510
DTEND;VALUE=DATE:20250511
DTSTAMP:20260423T151507
CREATED:20250509T030153Z
LAST-MODIFIED:20250509T030153Z
UID:1518-1746835200-1746921599@xn--sk4b78fdsau01b.kr
SUMMARY:프리미엄 - 2명\, 바베큐 X // 유O혜
DESCRIPTION:방: 프리미엄\n인원: 2명\n바베큐: X\n예약자: 유O혜
URL:https://xn--sk4b78fdsau01b.kr/event/%ed%94%84%eb%a6%ac%eb%af%b8%ec%97%84-2%eb%aa%85-%eb%b0%94%eb%b2%a0%ed%81%90-x-%ec%9c%a0o%ed%98%9c/
END:VEVENT
BEGIN:VEVENT
DTSTART;VALUE=DATE:20250506
DTEND;VALUE=DATE:20250507
DTSTAMP:20260423T151507
CREATED:20250507T004016Z
LAST-MODIFIED:20250507T004016Z
UID:1516-1746489600-1746575999@xn--sk4b78fdsau01b.kr
SUMMARY:별빛01 - 2명\, 바베큐 X // 김O백 (3박)
DESCRIPTION:방: 별빛01\n인원: 2명\n바베큐: X\n예약자: 김O백 (3박)
URL:https://xn--sk4b78fdsau01b.kr/event/%eb%b3%84%eb%b9%9b01-2%eb%aa%85-%eb%b0%94%eb%b2%a0%ed%81%90-x-%ea%b9%80o%eb%b0%b1-3%eb%b0%95-4/
END:VEVENT
BEGIN:VEVENT
DTSTART;VALUE=DATE:20250505
DTEND;VALUE=DATE:20250506
DTSTAMP:20260423T151507
CREATED:20250507T003951Z
LAST-MODIFIED:20250507T003951Z
UID:1514-1746403200-1746489599@xn--sk4b78fdsau01b.kr
SUMMARY:별빛01 - 2명\, 바베큐 X // 김O백 (3박)
DESCRIPTION:방: 별빛01\n인원: 2명\n바베큐: X\n예약자: 김O백 (3박)
URL:https://xn--sk4b78fdsau01b.kr/event/%eb%b3%84%eb%b9%9b01-2%eb%aa%85-%eb%b0%94%eb%b2%a0%ed%81%90-x-%ea%b9%80o%eb%b0%b1-3%eb%b0%95-3/
END:VEVENT
BEGIN:VEVENT
DTSTART;VALUE=DATE:20250505
DTEND;VALUE=DATE:20250506
DTSTAMP:20260423T151507
CREATED:20250430T054840Z
LAST-MODIFIED:20250430T054840Z
UID:1494-1746403200-1746489599@xn--sk4b78fdsau01b.kr
SUMMARY:패밀리 - 4명\, 바베큐 O // 심O은
DESCRIPTION:방: 패밀리\n인원: 4명\n바베큐: O\n예약자: 심O은
URL:https://xn--sk4b78fdsau01b.kr/event/%ed%8c%a8%eb%b0%80%eb%a6%ac-4%eb%aa%85-%eb%b0%94%eb%b2%a0%ed%81%90-o-%ec%8b%aco%ec%9d%80/
END:VEVENT
BEGIN:VEVENT
DTSTART;VALUE=DATE:20250505
DTEND;VALUE=DATE:20250506
DTSTAMP:20260423T151507
CREATED:20250411T114351Z
LAST-MODIFIED:20250411T114351Z
UID:1450-1746403200-1746489599@xn--sk4b78fdsau01b.kr
SUMMARY:별빛02 - 2명\, 바베큐 O // 최O희 (2박)
DESCRIPTION:방: 별빛02\n인원: 2명\n바베큐: O\n예약자: 최O희 (2박)
URL:https://xn--sk4b78fdsau01b.kr/event/%eb%b3%84%eb%b9%9b02-2%eb%aa%85-%eb%b0%94%eb%b2%a0%ed%81%90-o-%ec%b5%9co%ed%9d%ac-2%eb%b0%95-2/
END:VEVENT
BEGIN:VEVENT
DTSTART;VALUE=DATE:20250504
DTEND;VALUE=DATE:20250505
DTSTAMP:20260423T151507
CREATED:20250507T003825Z
LAST-MODIFIED:20250507T003825Z
UID:1512-1746316800-1746403199@xn--sk4b78fdsau01b.kr
SUMMARY:별빛01 - 2명\, 바베큐 X // 김O백 (3박)
DESCRIPTION:방: 별빛01\n인원: 2명\n바베큐: X\n예약자: 김O백 (3박)
URL:https://xn--sk4b78fdsau01b.kr/event/%eb%b3%84%eb%b9%9b01-2%eb%aa%85-%eb%b0%94%eb%b2%a0%ed%81%90-x-%ea%b9%80o%eb%b0%b1-3%eb%b0%95-2/
END:VEVENT
BEGIN:VEVENT
DTSTART;VALUE=DATE:20250504
DTEND;VALUE=DATE:20250505
DTSTAMP:20260423T151507
CREATED:20250507T003754Z
LAST-MODIFIED:20250507T003754Z
UID:1510-1746316800-1746403199@xn--sk4b78fdsau01b.kr
SUMMARY:별빛01 - 2명\, 바베큐 X // 김O백 (3박)
DESCRIPTION:방: 별빛01\n인원: 2명\n바베큐: X\n예약자: 김O백 (3박)
URL:https://xn--sk4b78fdsau01b.kr/event/%eb%b3%84%eb%b9%9b01-2%eb%aa%85-%eb%b0%94%eb%b2%a0%ed%81%90-x-%ea%b9%80o%eb%b0%b1-3%eb%b0%95/
END:VEVENT
BEGIN:VEVENT
DTSTART;VALUE=DATE:20250504
DTEND;VALUE=DATE:20250505
DTSTAMP:20260423T151507
CREATED:20250411T114444Z
LAST-MODIFIED:20250411T114444Z
UID:1452-1746316800-1746403199@xn--sk4b78fdsau01b.kr
SUMMARY:패밀리 - 4명\, 바베큐 X // 윤O라
DESCRIPTION:방: 패밀리\n인원: 4명\n바베큐: X\n예약자: 윤O라
URL:https://xn--sk4b78fdsau01b.kr/event/%ed%8c%a8%eb%b0%80%eb%a6%ac-4%eb%aa%85-%eb%b0%94%eb%b2%a0%ed%81%90-x-%ec%9c%a4o%eb%9d%bc/
END:VEVENT
BEGIN:VEVENT
DTSTART;VALUE=DATE:20250504
DTEND;VALUE=DATE:20250505
DTSTAMP:20260423T151507
CREATED:20250411T114327Z
LAST-MODIFIED:20250411T114327Z
UID:1448-1746316800-1746403199@xn--sk4b78fdsau01b.kr
SUMMARY:별빛02 - 2명\, 바베큐 O // 최O희 (2박)
DESCRIPTION:방: 별빛02\n인원: 2명\n바베큐: O\n예약자: 최O희 (2박)
URL:https://xn--sk4b78fdsau01b.kr/event/%eb%b3%84%eb%b9%9b02-2%eb%aa%85-%eb%b0%94%eb%b2%a0%ed%81%90-o-%ec%b5%9co%ed%9d%ac-2%eb%b0%95/
END:VEVENT
BEGIN:VEVENT
DTSTART;VALUE=DATE:20250504
DTEND;VALUE=DATE:20250505
DTSTAMP:20260423T151507
CREATED:20250411T113822Z
LAST-MODIFIED:20250411T113822Z
UID:1442-1746316800-1746403199@xn--sk4b78fdsau01b.kr
SUMMARY:프리미엄 - 2명\, 바베큐 X // 양O림 (2박)
DESCRIPTION:방: 프리미엄\n인원: 2명\n바베큐: X\n예약자: 양O림 (2박)
URL:https://xn--sk4b78fdsau01b.kr/event/%ed%94%84%eb%a6%ac%eb%af%b8%ec%97%84-2%eb%aa%85-%eb%b0%94%eb%b2%a0%ed%81%90-x-%ec%96%91o%eb%a6%bc-2%eb%b0%95/
END:VEVENT
BEGIN:VEVENT
DTSTART;VALUE=DATE:20250503
DTEND;VALUE=DATE:20250504
DTSTAMP:20260423T151507
CREATED:20250421T031623Z
LAST-MODIFIED:20250421T031623Z
UID:1484-1746230400-1746316799@xn--sk4b78fdsau01b.kr
SUMMARY:별빛02 - 2명\, 바베큐 O // 황O원 (2박)
DESCRIPTION:방: 별빛02\n인원: 2명\n바베큐: O\n예약자: 황O원 (2박)
URL:https://xn--sk4b78fdsau01b.kr/event/%eb%b3%84%eb%b9%9b02-2%eb%aa%85-%eb%b0%94%eb%b2%a0%ed%81%90-o-%ed%99%a9o%ec%9b%90-2%eb%b0%95/
END:VEVENT
BEGIN:VEVENT
DTSTART;VALUE=DATE:20250503
DTEND;VALUE=DATE:20250504
DTSTAMP:20260423T151507
CREATED:20250413T133006Z
LAST-MODIFIED:20250413T133006Z
UID:1458-1746230400-1746316799@xn--sk4b78fdsau01b.kr
SUMMARY:별빛01 - 2명\, 바베큐 O // 최O성
DESCRIPTION:방: 별빛01\n인원: 2명\n바베큐: O\n예약자: 최O성
URL:https://xn--sk4b78fdsau01b.kr/event/%eb%b3%84%eb%b9%9b01-2%eb%aa%85-%eb%b0%94%eb%b2%a0%ed%81%90-o-%ec%b5%9co%ec%84%b1/
END:VEVENT
BEGIN:VEVENT
DTSTART;VALUE=DATE:20250503
DTEND;VALUE=DATE:20250504
DTSTAMP:20260423T151507
CREATED:20250411T113906Z
LAST-MODIFIED:20250411T113906Z
UID:1444-1746230400-1746316799@xn--sk4b78fdsau01b.kr
SUMMARY:프리미엄 - 2명\, 바베큐 X // 양O림 (2박) AB
DESCRIPTION:방: 프리미엄\n인원: 2명\n바베큐: X\n예약자: 양O림 (2박) AB
URL:https://xn--sk4b78fdsau01b.kr/event/%ed%94%84%eb%a6%ac%eb%af%b8%ec%97%84-2%eb%aa%85-%eb%b0%94%eb%b2%a0%ed%81%90-x-%ec%96%91o%eb%a6%bc-2%eb%b0%95-ab/
END:VEVENT
BEGIN:VEVENT
DTSTART;VALUE=DATE:20250503
DTEND;VALUE=DATE:20250504
DTSTAMP:20260423T151507
CREATED:20250411T113223Z
LAST-MODIFIED:20250411T113223Z
UID:1438-1746230400-1746316799@xn--sk4b78fdsau01b.kr
SUMMARY:패밀리 - 3명\, 바베큐 X // 김O희
DESCRIPTION:방: 패밀리\n인원: 3명\n바베큐: X\n예약자: 김O희
URL:https://xn--sk4b78fdsau01b.kr/event/%ed%8c%a8%eb%b0%80%eb%a6%ac-3%eb%aa%85-%eb%b0%94%eb%b2%a0%ed%81%90-x-%ea%b9%80o%ed%9d%ac/
END:VEVENT
BEGIN:VEVENT
DTSTART;VALUE=DATE:20250502
DTEND;VALUE=DATE:20250503
DTSTAMP:20260423T151507
CREATED:20250421T031732Z
LAST-MODIFIED:20250421T031732Z
UID:1486-1746144000-1746230399@xn--sk4b78fdsau01b.kr
SUMMARY:별빛02 - 2명\, 바베큐 O // 황O원 (2박)
DESCRIPTION:방: 별빛02\n인원: 2명\n바베큐: O\n예약자: 황O원 (2박)
URL:https://xn--sk4b78fdsau01b.kr/event/%eb%b3%84%eb%b9%9b02-2%eb%aa%85-%eb%b0%94%eb%b2%a0%ed%81%90-o-%ed%99%a9o%ec%9b%90-2%eb%b0%95-2/
END:VEVENT
BEGIN:VEVENT
DTSTART;VALUE=DATE:20250502
DTEND;VALUE=DATE:20250503
DTSTAMP:20260423T151507
CREATED:20250416T135604Z
LAST-MODIFIED:20250416T135604Z
UID:1478-1746144000-1746230399@xn--sk4b78fdsau01b.kr
SUMMARY:프리미엄 - 2명\, 바베큐 X // 손O우 2박 AB
DESCRIPTION:방: 프리미엄\n인원: 2명\n바베큐: X\n예약자: 손O우 2박 AB
URL:https://xn--sk4b78fdsau01b.kr/event/%ed%94%84%eb%a6%ac%eb%af%b8%ec%97%84-2%eb%aa%85-%eb%b0%94%eb%b2%a0%ed%81%90-x-%ec%86%90o%ec%9a%b0-2%eb%b0%95-ab-2/
END:VEVENT
BEGIN:VEVENT
DTSTART;VALUE=DATE:20250502
DTEND;VALUE=DATE:20250503
DTSTAMP:20260423T151507
CREATED:20250411T113135Z
LAST-MODIFIED:20250411T113136Z
UID:1436-1746144000-1746230399@xn--sk4b78fdsau01b.kr
SUMMARY:별빛01 - 2명\, 바베큐 O // 김O태
DESCRIPTION:방: 별빛01\n인원: 2명\n바베큐: O\n예약자: 김O태
URL:https://xn--sk4b78fdsau01b.kr/event/%eb%b3%84%eb%b9%9b01-2%eb%aa%85-%eb%b0%94%eb%b2%a0%ed%81%90-o-%ea%b9%80o%ed%83%9c-2/
END:VEVENT
END:VCALENDAR