BEGIN:VCALENDAR
VERSION:2.0
PRODID:-//별빛좋은펜션 - ECPv6.10.1.1//NONSGML v1.0//EN
CALSCALE:GREGORIAN
METHOD:PUBLISH
X-WR-CALNAME:별빛좋은펜션
X-ORIGINAL-URL:https://xn--sk4b78fdsau01b.kr
X-WR-CALDESC:별빛좋은펜션 이벤트
REFRESH-INTERVAL;VALUE=DURATION:PT1H
X-Robots-Tag:noindex
X-PUBLISHED-TTL:PT1H
BEGIN:VTIMEZONE
TZID:Asia/Seoul
BEGIN:STANDARD
TZOFFSETFROM:+0900
TZOFFSETTO:+0900
TZNAME:KST
DTSTART:20250101T000000
END:STANDARD
END:VTIMEZONE
BEGIN:VEVENT
DTSTART;VALUE=DATE:20250503
DTEND;VALUE=DATE:20250504
DTSTAMP:20260423T160620
CREATED:20250411T113906Z
LAST-MODIFIED:20250411T113906Z
UID:1444-1746230400-1746316799@xn--sk4b78fdsau01b.kr
SUMMARY:프리미엄 - 2명\, 바베큐 X // 양O림 (2박) AB
DESCRIPTION:방: 프리미엄\n인원: 2명\n바베큐: X\n예약자: 양O림 (2박) AB
URL:https://xn--sk4b78fdsau01b.kr/event/%ed%94%84%eb%a6%ac%eb%af%b8%ec%97%84-2%eb%aa%85-%eb%b0%94%eb%b2%a0%ed%81%90-x-%ec%96%91o%eb%a6%bc-2%eb%b0%95-ab/
END:VEVENT
BEGIN:VEVENT
DTSTART;VALUE=DATE:20250503
DTEND;VALUE=DATE:20250504
DTSTAMP:20260423T160620
CREATED:20250411T113223Z
LAST-MODIFIED:20250411T113223Z
UID:1438-1746230400-1746316799@xn--sk4b78fdsau01b.kr
SUMMARY:패밀리 - 3명\, 바베큐 X // 김O희
DESCRIPTION:방: 패밀리\n인원: 3명\n바베큐: X\n예약자: 김O희
URL:https://xn--sk4b78fdsau01b.kr/event/%ed%8c%a8%eb%b0%80%eb%a6%ac-3%eb%aa%85-%eb%b0%94%eb%b2%a0%ed%81%90-x-%ea%b9%80o%ed%9d%ac/
END:VEVENT
BEGIN:VEVENT
DTSTART;VALUE=DATE:20250502
DTEND;VALUE=DATE:20250503
DTSTAMP:20260423T160620
CREATED:20250421T031732Z
LAST-MODIFIED:20250421T031732Z
UID:1486-1746144000-1746230399@xn--sk4b78fdsau01b.kr
SUMMARY:별빛02 - 2명\, 바베큐 O // 황O원 (2박)
DESCRIPTION:방: 별빛02\n인원: 2명\n바베큐: O\n예약자: 황O원 (2박)
URL:https://xn--sk4b78fdsau01b.kr/event/%eb%b3%84%eb%b9%9b02-2%eb%aa%85-%eb%b0%94%eb%b2%a0%ed%81%90-o-%ed%99%a9o%ec%9b%90-2%eb%b0%95-2/
END:VEVENT
BEGIN:VEVENT
DTSTART;VALUE=DATE:20250502
DTEND;VALUE=DATE:20250503
DTSTAMP:20260423T160620
CREATED:20250416T135604Z
LAST-MODIFIED:20250416T135604Z
UID:1478-1746144000-1746230399@xn--sk4b78fdsau01b.kr
SUMMARY:프리미엄 - 2명\, 바베큐 X // 손O우 2박 AB
DESCRIPTION:방: 프리미엄\n인원: 2명\n바베큐: X\n예약자: 손O우 2박 AB
URL:https://xn--sk4b78fdsau01b.kr/event/%ed%94%84%eb%a6%ac%eb%af%b8%ec%97%84-2%eb%aa%85-%eb%b0%94%eb%b2%a0%ed%81%90-x-%ec%86%90o%ec%9a%b0-2%eb%b0%95-ab-2/
END:VEVENT
BEGIN:VEVENT
DTSTART;VALUE=DATE:20250502
DTEND;VALUE=DATE:20250503
DTSTAMP:20260423T160620
CREATED:20250411T113135Z
LAST-MODIFIED:20250411T113136Z
UID:1436-1746144000-1746230399@xn--sk4b78fdsau01b.kr
SUMMARY:별빛01 - 2명\, 바베큐 O // 김O태
DESCRIPTION:방: 별빛01\n인원: 2명\n바베큐: O\n예약자: 김O태
URL:https://xn--sk4b78fdsau01b.kr/event/%eb%b3%84%eb%b9%9b01-2%eb%aa%85-%eb%b0%94%eb%b2%a0%ed%81%90-o-%ea%b9%80o%ed%83%9c-2/
END:VEVENT
BEGIN:VEVENT
DTSTART;VALUE=DATE:20250501
DTEND;VALUE=DATE:20250502
DTSTAMP:20260423T160620
CREATED:20250416T135540Z
LAST-MODIFIED:20250416T135540Z
UID:1476-1746057600-1746143999@xn--sk4b78fdsau01b.kr
SUMMARY:프리미엄 - 2명\, 바베큐 X // 손O우 2박 AB
DESCRIPTION:방: 프리미엄\n인원: 2명\n바베큐: X\n예약자: 손O우 2박 AB
URL:https://xn--sk4b78fdsau01b.kr/event/%ed%94%84%eb%a6%ac%eb%af%b8%ec%97%84-2%eb%aa%85-%eb%b0%94%eb%b2%a0%ed%81%90-x-%ec%86%90o%ec%9a%b0-2%eb%b0%95-ab/
END:VEVENT
BEGIN:VEVENT
DTSTART;VALUE=DATE:20250501
DTEND;VALUE=DATE:20250502
DTSTAMP:20260423T160620
CREATED:20250411T113040Z
LAST-MODIFIED:20250411T113040Z
UID:1432-1746057600-1746143999@xn--sk4b78fdsau01b.kr
SUMMARY:별빛01 - 2명\, 바베큐 O // 김O태
DESCRIPTION:방: 별빛01\n인원: 2명\n바베큐: O\n예약자: 김O태
URL:https://xn--sk4b78fdsau01b.kr/event/%eb%b3%84%eb%b9%9b01-2%eb%aa%85-%eb%b0%94%eb%b2%a0%ed%81%90-o-%ea%b9%80o%ed%83%9c/
END:VEVENT
BEGIN:VEVENT
DTSTART;VALUE=DATE:20250426
DTEND;VALUE=DATE:20250427
DTSTAMP:20260423T160620
CREATED:20250423T025341Z
LAST-MODIFIED:20250423T025341Z
UID:1492-1745625600-1745711999@xn--sk4b78fdsau01b.kr
SUMMARY:프리미엄 - 2명\, 바베큐 X // 김O하
DESCRIPTION:방: 프리미엄\n인원: 2명\n바베큐: X\n예약자: 김O하
URL:https://xn--sk4b78fdsau01b.kr/event/%ed%94%84%eb%a6%ac%eb%af%b8%ec%97%84-2%eb%aa%85-%eb%b0%94%eb%b2%a0%ed%81%90-x-%ea%b9%80o%ed%95%98/
END:VEVENT
BEGIN:VEVENT
DTSTART;VALUE=DATE:20250419
DTEND;VALUE=DATE:20250420
DTSTAMP:20260423T160620
CREATED:20250411T112613Z
LAST-MODIFIED:20250411T112613Z
UID:1430-1745020800-1745107199@xn--sk4b78fdsau01b.kr
SUMMARY:프리미엄 - 2명\, 바베큐 X // 주O리
DESCRIPTION:방: 프리미엄\n인원: 2명\n바베큐: X\n예약자: 주O리
URL:https://xn--sk4b78fdsau01b.kr/event/%ed%94%84%eb%a6%ac%eb%af%b8%ec%97%84-2%eb%aa%85-%eb%b0%94%eb%b2%a0%ed%81%90-x-%ec%a3%bco%eb%a6%ac/
END:VEVENT
BEGIN:VEVENT
DTSTART;VALUE=DATE:20250412
DTEND;VALUE=DATE:20250413
DTSTAMP:20260423T160620
CREATED:20250411T114034Z
LAST-MODIFIED:20250411T114035Z
UID:1446-1744416000-1744502399@xn--sk4b78fdsau01b.kr
SUMMARY:패밀리 - 2명\, 바베큐 O // 박O민
DESCRIPTION:방: 패밀리\n인원: 2명\n바베큐: O\n예약자: 박O민
URL:https://xn--sk4b78fdsau01b.kr/event/%ed%8c%a8%eb%b0%80%eb%a6%ac-2%eb%aa%85-%eb%b0%94%eb%b2%a0%ed%81%90-o-%eb%b0%95o%eb%af%bc/
END:VEVENT
BEGIN:VEVENT
DTSTART;VALUE=DATE:20250412
DTEND;VALUE=DATE:20250413
DTSTAMP:20260423T160620
CREATED:20250411T112153Z
LAST-MODIFIED:20250411T112153Z
UID:1428-1744416000-1744502399@xn--sk4b78fdsau01b.kr
SUMMARY:별빛01 - 2명\, 바베큐 O // 정O솔
DESCRIPTION:방: 별빛01\n인원: 2명\n바베큐: O\n예약자: 정O솔
URL:https://xn--sk4b78fdsau01b.kr/event/%eb%b3%84%eb%b9%9b01-2%eb%aa%85-%eb%b0%94%eb%b2%a0%ed%81%90-o-%ec%a0%95o%ec%86%94/
END:VEVENT
BEGIN:VEVENT
DTSTART;VALUE=DATE:20250411
DTEND;VALUE=DATE:20250412
DTSTAMP:20260423T160620
CREATED:20250411T111843Z
LAST-MODIFIED:20250411T111843Z
UID:1424-1744329600-1744415999@xn--sk4b78fdsau01b.kr
SUMMARY:프리미엄 - 2명\, 바베큐 O // 이O수
DESCRIPTION:방: 프리미엄\n인원: 2명\n바베큐: O\n예약자: 이O수
URL:https://xn--sk4b78fdsau01b.kr/event/%ed%94%84%eb%a6%ac%eb%af%b8%ec%97%84-2%eb%aa%85-%eb%b0%94%eb%b2%a0%ed%81%90-o-%ec%9d%b4o%ec%88%98/
END:VEVENT
END:VCALENDAR