BEGIN:VCALENDAR
VERSION:2.0
PRODID:-//별빛좋은펜션 - ECPv6.10.1.1//NONSGML v1.0//EN
CALSCALE:GREGORIAN
METHOD:PUBLISH
X-WR-CALNAME:별빛좋은펜션
X-ORIGINAL-URL:https://xn--sk4b78fdsau01b.kr
X-WR-CALDESC:별빛좋은펜션 이벤트
REFRESH-INTERVAL;VALUE=DURATION:PT1H
X-Robots-Tag:noindex
X-PUBLISHED-TTL:PT1H
BEGIN:VTIMEZONE
TZID:Asia/Seoul
BEGIN:STANDARD
TZOFFSETFROM:+0900
TZOFFSETTO:+0900
TZNAME:KST
DTSTART:20250101T000000
END:STANDARD
END:VTIMEZONE
BEGIN:VEVENT
DTSTART;VALUE=DATE:20250712
DTEND;VALUE=DATE:20250713
DTSTAMP:20260423T160815
CREATED:20250707T224822Z
LAST-MODIFIED:20250707T224822Z
UID:1677-1752278400-1752364799@xn--sk4b78fdsau01b.kr
SUMMARY:패밀리 - 3명\, 바베큐 O // 박O결
DESCRIPTION:방: 패밀리\n인원: 3명\n바베큐: O\n예약자: 박O결
URL:https://xn--sk4b78fdsau01b.kr/event/%ed%8c%a8%eb%b0%80%eb%a6%ac-3%eb%aa%85-%eb%b0%94%eb%b2%a0%ed%81%90-o-%eb%b0%95o%ea%b2%b0/
END:VEVENT
BEGIN:VEVENT
DTSTART;VALUE=DATE:20250712
DTEND;VALUE=DATE:20250713
DTSTAMP:20260423T160815
CREATED:20250701T095040Z
LAST-MODIFIED:20250701T095040Z
UID:1643-1752278400-1752364799@xn--sk4b78fdsau01b.kr
SUMMARY:프리미엄 - 2명\, 바베큐 X // 김O윤 AB
DESCRIPTION:방: 프리미엄\n인원: 2명\n바베큐: X\n예약자: 김O윤 AB
URL:https://xn--sk4b78fdsau01b.kr/event/%ed%94%84%eb%a6%ac%eb%af%b8%ec%97%84-2%eb%aa%85-%eb%b0%94%eb%b2%a0%ed%81%90-x-%ea%b9%80o%ec%9c%a4-ab/
END:VEVENT
BEGIN:VEVENT
DTSTART;VALUE=DATE:20250709
DTEND;VALUE=DATE:20250710
DTSTAMP:20260423T160815
CREATED:20250701T095212Z
LAST-MODIFIED:20250701T095212Z
UID:1645-1752019200-1752105599@xn--sk4b78fdsau01b.kr
SUMMARY:프리미엄 - 2명\, 바베큐 X // 김O리 AB
DESCRIPTION:방: 프리미엄\n인원: 2명\n바베큐: X\n예약자: 김O리 AB
URL:https://xn--sk4b78fdsau01b.kr/event/%ed%94%84%eb%a6%ac%eb%af%b8%ec%97%84-2%eb%aa%85-%eb%b0%94%eb%b2%a0%ed%81%90-x-%ea%b9%80o%eb%a6%ac-ab/
END:VEVENT
BEGIN:VEVENT
DTSTART;VALUE=DATE:20250705
DTEND;VALUE=DATE:20250706
DTSTAMP:20260423T160815
CREATED:20250702T063825Z
LAST-MODIFIED:20250702T063825Z
UID:1651-1751673600-1751759999@xn--sk4b78fdsau01b.kr
SUMMARY:별빛02 - 2명\, 바베큐 X // 박O영 방옮김
DESCRIPTION:방: 별빛02\n인원: 2명\n바베큐: X\n예약자: 박O영 방옮김
URL:https://xn--sk4b78fdsau01b.kr/event/%eb%b3%84%eb%b9%9b02-2%eb%aa%85-%eb%b0%94%eb%b2%a0%ed%81%90-x-%eb%b0%95o%ec%98%81-%eb%b0%a9%ec%98%ae%ea%b9%80/
END:VEVENT
BEGIN:VEVENT
DTSTART;VALUE=DATE:20250705
DTEND;VALUE=DATE:20250706
DTSTAMP:20260423T160815
CREATED:20250701T155705Z
LAST-MODIFIED:20250701T155705Z
UID:1647-1751673600-1751759999@xn--sk4b78fdsau01b.kr
SUMMARY:프리미엄 - 2명\, 바베큐 X // 오O민 AB
DESCRIPTION:방: 프리미엄\n인원: 2명\n바베큐: X\n예약자: 오O민 AB
URL:https://xn--sk4b78fdsau01b.kr/event/%ed%94%84%eb%a6%ac%eb%af%b8%ec%97%84-2%eb%aa%85-%eb%b0%94%eb%b2%a0%ed%81%90-x-%ec%98%a4o%eb%af%bc-ab/
END:VEVENT
BEGIN:VEVENT
DTSTART;VALUE=DATE:20250705
DTEND;VALUE=DATE:20250706
DTSTAMP:20260423T160815
CREATED:20250627T130606Z
LAST-MODIFIED:20250627T130606Z
UID:1625-1751673600-1751759999@xn--sk4b78fdsau01b.kr
SUMMARY:별빛01 - 2명\, 바베큐 X // 남O현 (2박)
DESCRIPTION:방: 별빛01\n인원: 2명\n바베큐: X\n예약자: 남O현 (2박)
URL:https://xn--sk4b78fdsau01b.kr/event/%eb%b3%84%eb%b9%9b01-2%eb%aa%85-%eb%b0%94%eb%b2%a0%ed%81%90-x-%eb%82%a8o%ed%98%84-2%eb%b0%95-2/
END:VEVENT
BEGIN:VEVENT
DTSTART;VALUE=DATE:20250705
DTEND;VALUE=DATE:20250706
DTSTAMP:20260423T160815
CREATED:20250614T065920Z
LAST-MODIFIED:20250614T065920Z
UID:1574-1751673600-1751759999@xn--sk4b78fdsau01b.kr
SUMMARY:패밀리 - 3명\, 바베큐 X // 손O은
DESCRIPTION:방: 패밀리\n인원: 3명\n바베큐: X\n예약자: 손O은
URL:https://xn--sk4b78fdsau01b.kr/event/%ed%8c%a8%eb%b0%80%eb%a6%ac-3%eb%aa%85-%eb%b0%94%eb%b2%a0%ed%81%90-x-%ec%86%90o%ec%9d%80/
END:VEVENT
BEGIN:VEVENT
DTSTART;VALUE=DATE:20250704
DTEND;VALUE=DATE:20250705
DTSTAMP:20260423T160815
CREATED:20250702T063752Z
LAST-MODIFIED:20250702T063752Z
UID:1649-1751587200-1751673599@xn--sk4b78fdsau01b.kr
SUMMARY:프리미엄 - 2명\, 바베큐 O // 박O영 방옮김
DESCRIPTION:방: 프리미엄\n인원: 2명\n바베큐: O\n예약자: 박O영 방옮김
URL:https://xn--sk4b78fdsau01b.kr/event/%ed%94%84%eb%a6%ac%eb%af%b8%ec%97%84-2%eb%aa%85-%eb%b0%94%eb%b2%a0%ed%81%90-o-%eb%b0%95o%ec%98%81-%eb%b0%a9%ec%98%ae%ea%b9%80/
END:VEVENT
BEGIN:VEVENT
DTSTART;VALUE=DATE:20250704
DTEND;VALUE=DATE:20250705
DTSTAMP:20260423T160815
CREATED:20250630T102104Z
LAST-MODIFIED:20250630T102104Z
UID:1637-1751587200-1751673599@xn--sk4b78fdsau01b.kr
SUMMARY:별빛02 - 2명\, 바베큐 O // 김O경
DESCRIPTION:방: 별빛02\n인원: 2명\n바베큐: O\n예약자: 김O경
URL:https://xn--sk4b78fdsau01b.kr/event/%eb%b3%84%eb%b9%9b02-2%eb%aa%85-%eb%b0%94%eb%b2%a0%ed%81%90-o-%ea%b9%80o%ea%b2%bd/
END:VEVENT
BEGIN:VEVENT
DTSTART;VALUE=DATE:20250704
DTEND;VALUE=DATE:20250705
DTSTAMP:20260423T160815
CREATED:20250627T130545Z
LAST-MODIFIED:20250627T130546Z
UID:1623-1751587200-1751673599@xn--sk4b78fdsau01b.kr
SUMMARY:별빛01 - 2명\, 바베큐 X // 남O현 (2박)
DESCRIPTION:방: 별빛01\n인원: 2명\n바베큐: X\n예약자: 남O현 (2박)
URL:https://xn--sk4b78fdsau01b.kr/event/%eb%b3%84%eb%b9%9b01-2%eb%aa%85-%eb%b0%94%eb%b2%a0%ed%81%90-x-%eb%82%a8o%ed%98%84-2%eb%b0%95/
END:VEVENT
BEGIN:VEVENT
DTSTART;VALUE=DATE:20250628
DTEND;VALUE=DATE:20250629
DTSTAMP:20260423T160815
CREATED:20251117T223752Z
LAST-MODIFIED:20251117T223752Z
UID:1982-1751068800-1751155199@xn--sk4b78fdsau01b.kr
SUMMARY:패밀리 - 2명\, 바베큐 X // 편O옹 (2박)
DESCRIPTION:방: 패밀리\n인원: 2명\n바베큐: X\n예약자: 편O옹 (2박)
URL:https://xn--sk4b78fdsau01b.kr/event/%ed%8c%a8%eb%b0%80%eb%a6%ac-2%eb%aa%85-%eb%b0%94%eb%b2%a0%ed%81%90-x-%ed%8e%b8o%ec%98%b9-2%eb%b0%95-2/
END:VEVENT
BEGIN:VEVENT
DTSTART;VALUE=DATE:20250628
DTEND;VALUE=DATE:20250629
DTSTAMP:20260423T160815
CREATED:20251117T223729Z
LAST-MODIFIED:20251117T223729Z
UID:1980-1751068800-1751155199@xn--sk4b78fdsau01b.kr
SUMMARY:패밀리 - 2명\, 바베큐 X // 편O옹 (2박)
DESCRIPTION:방: 패밀리\n인원: 2명\n바베큐: X\n예약자: 편O옹 (2박)
URL:https://xn--sk4b78fdsau01b.kr/event/%ed%8c%a8%eb%b0%80%eb%a6%ac-2%eb%aa%85-%eb%b0%94%eb%b2%a0%ed%81%90-x-%ed%8e%b8o%ec%98%b9-2%eb%b0%95/
END:VEVENT
BEGIN:VEVENT
DTSTART;VALUE=DATE:20250628
DTEND;VALUE=DATE:20250629
DTSTAMP:20260423T160815
CREATED:20250625T133040Z
LAST-MODIFIED:20250625T133040Z
UID:1603-1751068800-1751155199@xn--sk4b78fdsau01b.kr
SUMMARY:프리미엄 - 2명\, 바베큐 O // 황O영
DESCRIPTION:방: 프리미엄\n인원: 2명\n바베큐: O\n예약자: 황O영
URL:https://xn--sk4b78fdsau01b.kr/event/%ed%94%84%eb%a6%ac%eb%af%b8%ec%97%84-2%eb%aa%85-%eb%b0%94%eb%b2%a0%ed%81%90-o-%ed%99%a9o%ec%98%81/
END:VEVENT
BEGIN:VEVENT
DTSTART;VALUE=DATE:20250628
DTEND;VALUE=DATE:20250629
DTSTAMP:20260423T160815
CREATED:20250522T224614Z
LAST-MODIFIED:20250522T224614Z
UID:1534-1751068800-1751155199@xn--sk4b78fdsau01b.kr
SUMMARY:패밀리 - 4명\, 바베큐 O // 정O윤
DESCRIPTION:방: 패밀리\n인원: 4명\n바베큐: O\n예약자: 정O윤
URL:https://xn--sk4b78fdsau01b.kr/event/%ed%8c%a8%eb%b0%80%eb%a6%ac-4%eb%aa%85-%eb%b0%94%eb%b2%a0%ed%81%90-o-%ec%a0%95o%ec%9c%a4/
END:VEVENT
BEGIN:VEVENT
DTSTART;VALUE=DATE:20250621
DTEND;VALUE=DATE:20250622
DTSTAMP:20260423T160815
CREATED:20250620T085017Z
LAST-MODIFIED:20250620T085017Z
UID:1585-1750464000-1750550399@xn--sk4b78fdsau01b.kr
SUMMARY:별빛01 - 2명\, 바베큐 O // 김O태
DESCRIPTION:방: 별빛01\n인원: 2명\n바베큐: O\n예약자: 김O태
URL:https://xn--sk4b78fdsau01b.kr/event/%eb%b3%84%eb%b9%9b01-2%eb%aa%85-%eb%b0%94%eb%b2%a0%ed%81%90-o-%ea%b9%80o%ed%83%9c-3/
END:VEVENT
BEGIN:VEVENT
DTSTART;VALUE=DATE:20250621
DTEND;VALUE=DATE:20250622
DTSTAMP:20260423T160815
CREATED:20250611T022610Z
LAST-MODIFIED:20250611T022610Z
UID:1558-1750464000-1750550399@xn--sk4b78fdsau01b.kr
SUMMARY:프리미엄 - 2명\, 바베큐 O // 소O영
DESCRIPTION:방: 프리미엄\n인원: 2명\n바베큐: O\n예약자: 소O영
URL:https://xn--sk4b78fdsau01b.kr/event/%ed%94%84%eb%a6%ac%eb%af%b8%ec%97%84-2%eb%aa%85-%eb%b0%94%eb%b2%a0%ed%81%90-o-%ec%86%8co%ec%98%81/
END:VEVENT
BEGIN:VEVENT
DTSTART;VALUE=DATE:20250614
DTEND;VALUE=DATE:20250615
DTSTAMP:20260423T160815
CREATED:20250526T020103Z
LAST-MODIFIED:20250526T020103Z
UID:1542-1749859200-1749945599@xn--sk4b78fdsau01b.kr
SUMMARY:패밀리 - 3명\, 바베큐 X // 한O영
DESCRIPTION:방: 패밀리\n인원: 3명\n바베큐: X\n예약자: 한O영
URL:https://xn--sk4b78fdsau01b.kr/event/%ed%8c%a8%eb%b0%80%eb%a6%ac-3%eb%aa%85-%eb%b0%94%eb%b2%a0%ed%81%90-x-%ed%95%9co%ec%98%81/
END:VEVENT
BEGIN:VEVENT
DTSTART;VALUE=DATE:20250614
DTEND;VALUE=DATE:20250615
DTSTAMP:20260423T160815
CREATED:20250526T015151Z
LAST-MODIFIED:20250526T015151Z
UID:1540-1749859200-1749945599@xn--sk4b78fdsau01b.kr
SUMMARY:프리미엄 - 2명\, 바베큐 X // 김O수
DESCRIPTION:방: 프리미엄\n인원: 2명\n바베큐: X\n예약자: 김O수
URL:https://xn--sk4b78fdsau01b.kr/event/%ed%94%84%eb%a6%ac%eb%af%b8%ec%97%84-2%eb%aa%85-%eb%b0%94%eb%b2%a0%ed%81%90-x-%ea%b9%80o%ec%88%98/
END:VEVENT
BEGIN:VEVENT
DTSTART;VALUE=DATE:20250614
DTEND;VALUE=DATE:20250615
DTSTAMP:20260423T160815
CREATED:20250523T073745Z
LAST-MODIFIED:20250523T073745Z
UID:1538-1749859200-1749945599@xn--sk4b78fdsau01b.kr
SUMMARY:별빛02 - 2명\, 바베큐 O // 서O민
DESCRIPTION:방: 별빛02\n인원: 2명\n바베큐: O\n예약자: 서O민
URL:https://xn--sk4b78fdsau01b.kr/event/%eb%b3%84%eb%b9%9b02-2%eb%aa%85-%eb%b0%94%eb%b2%a0%ed%81%90-o-%ec%84%9co%eb%af%bc/
END:VEVENT
BEGIN:VEVENT
DTSTART;VALUE=DATE:20250614
DTEND;VALUE=DATE:20250615
DTSTAMP:20260423T160815
CREATED:20250522T084944Z
LAST-MODIFIED:20250522T084944Z
UID:1532-1749859200-1749945599@xn--sk4b78fdsau01b.kr
SUMMARY:별빛01 - 2명\, 바베큐 X // 엄O섭
DESCRIPTION:방: 별빛01\n인원: 2명\n바베큐: X\n예약자: 엄O섭
URL:https://xn--sk4b78fdsau01b.kr/event/%eb%b3%84%eb%b9%9b01-2%eb%aa%85-%eb%b0%94%eb%b2%a0%ed%81%90-x-%ec%97%84o%ec%84%ad/
END:VEVENT
BEGIN:VEVENT
DTSTART;VALUE=DATE:20250612
DTEND;VALUE=DATE:20250613
DTSTAMP:20260423T160815
CREATED:20250611T102624Z
LAST-MODIFIED:20250611T102624Z
UID:1562-1749686400-1749772799@xn--sk4b78fdsau01b.kr
SUMMARY:패밀리 - 4명\, 바베큐 X // 무O장
DESCRIPTION:방: 패밀리\n인원: 4명\n바베큐: X\n예약자: 무O장
URL:https://xn--sk4b78fdsau01b.kr/event/%ed%8c%a8%eb%b0%80%eb%a6%ac-4%eb%aa%85-%eb%b0%94%eb%b2%a0%ed%81%90-x-%eb%ac%b4o%ec%9e%a5/
END:VEVENT
BEGIN:VEVENT
DTSTART;VALUE=DATE:20250601
DTEND;VALUE=DATE:20250602
DTSTAMP:20260423T160815
CREATED:20250531T045248Z
LAST-MODIFIED:20250531T045248Z
UID:1550-1748736000-1748822399@xn--sk4b78fdsau01b.kr
SUMMARY:프리미엄 - 2명\, 바베큐 X // 김O경
DESCRIPTION:방: 프리미엄\n인원: 2명\n바베큐: X\n예약자: 김O경
URL:https://xn--sk4b78fdsau01b.kr/event/%ed%94%84%eb%a6%ac%eb%af%b8%ec%97%84-2%eb%aa%85-%eb%b0%94%eb%b2%a0%ed%81%90-x-%ea%b9%80o%ea%b2%bd/
END:VEVENT
BEGIN:VEVENT
DTSTART;VALUE=DATE:20250601
DTEND;VALUE=DATE:20250602
DTSTAMP:20260423T160815
CREATED:20250507T003519Z
LAST-MODIFIED:20250507T003519Z
UID:1508-1748736000-1748822399@xn--sk4b78fdsau01b.kr
SUMMARY:별빛01 - 2명\, 바베큐 O // 박O숙
DESCRIPTION:방: 별빛01\n인원: 2명\n바베큐: O\n예약자: 박O숙
URL:https://xn--sk4b78fdsau01b.kr/event/%eb%b3%84%eb%b9%9b01-2%eb%aa%85-%eb%b0%94%eb%b2%a0%ed%81%90-o-%eb%b0%95o%ec%88%99/
END:VEVENT
BEGIN:VEVENT
DTSTART;VALUE=DATE:20250601
DTEND;VALUE=DATE:20250602
DTSTAMP:20260423T160815
CREATED:20250501T064114Z
LAST-MODIFIED:20250501T064114Z
UID:1500-1748736000-1748822399@xn--sk4b78fdsau01b.kr
SUMMARY:패밀리 - 3명\, 바베큐 O // 박O숙
DESCRIPTION:방: 패밀리\n인원: 3명\n바베큐: O\n예약자: 박O숙
URL:https://xn--sk4b78fdsau01b.kr/event/%ed%8c%a8%eb%b0%80%eb%a6%ac-3%eb%aa%85-%eb%b0%94%eb%b2%a0%ed%81%90-o-%eb%b0%95o%ec%88%99/
END:VEVENT
BEGIN:VEVENT
DTSTART;VALUE=DATE:20250601
DTEND;VALUE=DATE:20250602
DTSTAMP:20260423T160815
CREATED:20250501T064052Z
LAST-MODIFIED:20250501T064052Z
UID:1498-1748736000-1748822399@xn--sk4b78fdsau01b.kr
SUMMARY:별빛02 - 2명\, 바베큐 O // 박O숙
DESCRIPTION:방: 별빛02\n인원: 2명\n바베큐: O\n예약자: 박O숙
URL:https://xn--sk4b78fdsau01b.kr/event/%eb%b3%84%eb%b9%9b02-2%eb%aa%85-%eb%b0%94%eb%b2%a0%ed%81%90-o-%eb%b0%95o%ec%88%99/
END:VEVENT
BEGIN:VEVENT
DTSTART;VALUE=DATE:20250531
DTEND;VALUE=DATE:20250601
DTSTAMP:20260423T160815
CREATED:20250523T072541Z
LAST-MODIFIED:20250523T072541Z
UID:1536-1748649600-1748735999@xn--sk4b78fdsau01b.kr
SUMMARY:프리미엄 - 2명\, 바베큐 O // 주O우
DESCRIPTION:방: 프리미엄\n인원: 2명\n바베큐: O\n예약자: 주O우
URL:https://xn--sk4b78fdsau01b.kr/event/%ed%94%84%eb%a6%ac%eb%af%b8%ec%97%84-2%eb%aa%85-%eb%b0%94%eb%b2%a0%ed%81%90-o-%ec%a3%bco%ec%9a%b0/
END:VEVENT
BEGIN:VEVENT
DTSTART;VALUE=DATE:20250531
DTEND;VALUE=DATE:20250601
DTSTAMP:20260423T160815
CREATED:20250514T144530Z
LAST-MODIFIED:20250514T144530Z
UID:1526-1748649600-1748735999@xn--sk4b78fdsau01b.kr
SUMMARY:패밀리 - 3명\, 바베큐 O // 조O솔
DESCRIPTION:방: 패밀리\n인원: 3명\n바베큐: O\n예약자: 조O솔
URL:https://xn--sk4b78fdsau01b.kr/event/%ed%8c%a8%eb%b0%80%eb%a6%ac-3%eb%aa%85-%eb%b0%94%eb%b2%a0%ed%81%90-o-%ec%a1%b0o%ec%86%94/
END:VEVENT
BEGIN:VEVENT
DTSTART;VALUE=DATE:20250524
DTEND;VALUE=DATE:20250525
DTSTAMP:20260423T160815
CREATED:20250520T120232Z
LAST-MODIFIED:20250520T120233Z
UID:1528-1748044800-1748131199@xn--sk4b78fdsau01b.kr
SUMMARY:프리미엄 - 2명\, 바베큐 O // 이O림
DESCRIPTION:방: 프리미엄\n인원: 2명\n바베큐: O\n예약자: 이O림
URL:https://xn--sk4b78fdsau01b.kr/event/%ed%94%84%eb%a6%ac%eb%af%b8%ec%97%84-2%eb%aa%85-%eb%b0%94%eb%b2%a0%ed%81%90-o-%ec%9d%b4o%eb%a6%bc/
END:VEVENT
BEGIN:VEVENT
DTSTART;VALUE=DATE:20250524
DTEND;VALUE=DATE:20250525
DTSTAMP:20260423T160815
CREATED:20250411T114538Z
LAST-MODIFIED:20250411T114538Z
UID:1456-1748044800-1748131199@xn--sk4b78fdsau01b.kr
SUMMARY:별빛02 - 2명\, 바베큐 O // 진O희
DESCRIPTION:방: 별빛02\n인원: 2명\n바베큐: O\n예약자: 진O희
URL:https://xn--sk4b78fdsau01b.kr/event/%eb%b3%84%eb%b9%9b02-2%eb%aa%85-%eb%b0%94%eb%b2%a0%ed%81%90-o-%ec%a7%84o%ed%9d%ac-2/
END:VEVENT
BEGIN:VEVENT
DTSTART;VALUE=DATE:20250517
DTEND;VALUE=DATE:20250518
DTSTAMP:20260423T160815
CREATED:20250513T151653Z
LAST-MODIFIED:20250513T151653Z
UID:1524-1747440000-1747526399@xn--sk4b78fdsau01b.kr
SUMMARY:프리미엄 - 2명\, 바베큐 X // 김O희 (2박)
DESCRIPTION:방: 프리미엄\n인원: 2명\n바베큐: X\n예약자: 김O희 (2박)
URL:https://xn--sk4b78fdsau01b.kr/event/%ed%94%84%eb%a6%ac%eb%af%b8%ec%97%84-2%eb%aa%85-%eb%b0%94%eb%b2%a0%ed%81%90-x-%ea%b9%80o%ed%9d%ac-2%eb%b0%95-2/
END:VEVENT
END:VCALENDAR