BEGIN:VCALENDAR
VERSION:2.0
PRODID:-//별빛좋은펜션 - ECPv6.10.1.1//NONSGML v1.0//EN
CALSCALE:GREGORIAN
METHOD:PUBLISH
X-ORIGINAL-URL:https://xn--sk4b78fdsau01b.kr
X-WR-CALDESC:별빛좋은펜션 이벤트
REFRESH-INTERVAL;VALUE=DURATION:PT1H
X-Robots-Tag:noindex
X-PUBLISHED-TTL:PT1H
BEGIN:VTIMEZONE
TZID:Asia/Seoul
BEGIN:STANDARD
TZOFFSETFROM:+0900
TZOFFSETTO:+0900
TZNAME:KST
DTSTART:20250101T000000
END:STANDARD
END:VTIMEZONE
BEGIN:VEVENT
DTSTART;VALUE=DATE:20251212
DTEND;VALUE=DATE:20251213
DTSTAMP:20260422T063754
CREATED:20251124T224653Z
LAST-MODIFIED:20251124T224653Z
UID:1998-1765497600-1765583999@xn--sk4b78fdsau01b.kr
SUMMARY:프리미엄 - 2명\, 바베큐 X // 장O환
DESCRIPTION:방: 프리미엄\n인원: 2명\n바베큐: X\n예약자: 장O환
URL:https://xn--sk4b78fdsau01b.kr/event/%ed%94%84%eb%a6%ac%eb%af%b8%ec%97%84-2%eb%aa%85-%eb%b0%94%eb%b2%a0%ed%81%90-x-%ec%9e%a5o%ed%99%98/
END:VEVENT
BEGIN:VEVENT
DTSTART;VALUE=DATE:20251213
DTEND;VALUE=DATE:20251214
DTSTAMP:20260422T063754
CREATED:20251124T224609Z
LAST-MODIFIED:20251124T224610Z
UID:1996-1765584000-1765670399@xn--sk4b78fdsau01b.kr
SUMMARY:프리미엄 - 2명\, 바베큐 O // 사O석
DESCRIPTION:방: 프리미엄\n인원: 2명\n바베큐: O\n예약자: 사O석
URL:https://xn--sk4b78fdsau01b.kr/event/%ed%94%84%eb%a6%ac%eb%af%b8%ec%97%84-2%eb%aa%85-%eb%b0%94%eb%b2%a0%ed%81%90-o-%ec%82%aco%ec%84%9d-2/
END:VEVENT
BEGIN:VEVENT
DTSTART;VALUE=DATE:20251213
DTEND;VALUE=DATE:20251214
DTSTAMP:20260422T063754
CREATED:20251202T095640Z
LAST-MODIFIED:20251202T095640Z
UID:2000-1765584000-1765670399@xn--sk4b78fdsau01b.kr
SUMMARY:별빛01 - 3명\, 바베큐 X // 추O희
DESCRIPTION:방: 별빛01\n인원: 3명\n바베큐: X\n예약자: 추O희
URL:https://xn--sk4b78fdsau01b.kr/event/%eb%b3%84%eb%b9%9b01-3%eb%aa%85-%eb%b0%94%eb%b2%a0%ed%81%90-x-%ec%b6%94o%ed%9d%ac/
END:VEVENT
BEGIN:VEVENT
DTSTART;VALUE=DATE:20251213
DTEND;VALUE=DATE:20251214
DTSTAMP:20260422T063754
CREATED:20251202T095714Z
LAST-MODIFIED:20251202T095714Z
UID:2002-1765584000-1765670399@xn--sk4b78fdsau01b.kr
SUMMARY:별빛02 - 2명\, 바베큐 X // 유O은
DESCRIPTION:방: 별빛02\n인원: 2명\n바베큐: X\n예약자: 유O은
URL:https://xn--sk4b78fdsau01b.kr/event/%eb%b3%84%eb%b9%9b02-2%eb%aa%85-%eb%b0%94%eb%b2%a0%ed%81%90-x-%ec%9c%a0o%ec%9d%80/
END:VEVENT
BEGIN:VEVENT
DTSTART;VALUE=DATE:20251218
DTEND;VALUE=DATE:20251219
DTSTAMP:20260422T063754
CREATED:20251215T133712Z
LAST-MODIFIED:20251215T133712Z
UID:2022-1766016000-1766102399@xn--sk4b78fdsau01b.kr
SUMMARY:프리미엄 - 2명\, 바베큐 X // 이O헌 (2박)
DESCRIPTION:방: 프리미엄\n인원: 2명\n바베큐: X\n예약자: 이O헌 (2박)
URL:https://xn--sk4b78fdsau01b.kr/event/%ed%94%84%eb%a6%ac%eb%af%b8%ec%97%84-2%eb%aa%85-%eb%b0%94%eb%b2%a0%ed%81%90-x-%ec%9d%b4o%ed%97%8c-2%eb%b0%95/
END:VEVENT
BEGIN:VEVENT
DTSTART;VALUE=DATE:20251219
DTEND;VALUE=DATE:20251220
DTSTAMP:20260422T063754
CREATED:20251215T133735Z
LAST-MODIFIED:20251215T133735Z
UID:2024-1766102400-1766188799@xn--sk4b78fdsau01b.kr
SUMMARY:프리미엄 - 2명\, 바베큐 X // 이O헌 (2박)
DESCRIPTION:방: 프리미엄\n인원: 2명\n바베큐: X\n예약자: 이O헌 (2박)
URL:https://xn--sk4b78fdsau01b.kr/event/%ed%94%84%eb%a6%ac%eb%af%b8%ec%97%84-2%eb%aa%85-%eb%b0%94%eb%b2%a0%ed%81%90-x-%ec%9d%b4o%ed%97%8c-2%eb%b0%95-2/
END:VEVENT
BEGIN:VEVENT
DTSTART;VALUE=DATE:20251224
DTEND;VALUE=DATE:20251225
DTSTAMP:20260422T063754
CREATED:20251221T095529Z
LAST-MODIFIED:20251221T095529Z
UID:2026-1766534400-1766620799@xn--sk4b78fdsau01b.kr
SUMMARY:별빛01 - 2명\, 바베큐 O // 서O준
DESCRIPTION:방: 별빛01\n인원: 2명\n바베큐: O\n예약자: 서O준
URL:https://xn--sk4b78fdsau01b.kr/event/%eb%b3%84%eb%b9%9b01-2%eb%aa%85-%eb%b0%94%eb%b2%a0%ed%81%90-o-%ec%84%9co%ec%a4%80/
END:VEVENT
BEGIN:VEVENT
DTSTART;VALUE=DATE:20251225
DTEND;VALUE=DATE:20251226
DTSTAMP:20260422T063754
CREATED:20251210T153945Z
LAST-MODIFIED:20251210T153945Z
UID:2008-1766620800-1766707199@xn--sk4b78fdsau01b.kr
SUMMARY:프리미엄 - 2명\, 바베큐 O // 김O서 (2박)
DESCRIPTION:방: 프리미엄\n인원: 2명\n바베큐: O\n예약자: 김O서 (2박)
URL:https://xn--sk4b78fdsau01b.kr/event/%ed%94%84%eb%a6%ac%eb%af%b8%ec%97%84-2%eb%aa%85-%eb%b0%94%eb%b2%a0%ed%81%90-o-%ea%b9%80o%ec%84%9c-2%eb%b0%95/
END:VEVENT
BEGIN:VEVENT
DTSTART;VALUE=DATE:20251225
DTEND;VALUE=DATE:20251226
DTSTAMP:20260422T063754
CREATED:20251213T030025Z
LAST-MODIFIED:20251213T030025Z
UID:2012-1766620800-1766707199@xn--sk4b78fdsau01b.kr
SUMMARY:별빛01 - 2명\, 바베큐 O // 이O석
DESCRIPTION:방: 별빛01\n인원: 2명\n바베큐: O\n예약자: 이O석
URL:https://xn--sk4b78fdsau01b.kr/event/%eb%b3%84%eb%b9%9b01-2%eb%aa%85-%eb%b0%94%eb%b2%a0%ed%81%90-o-%ec%9d%b4o%ec%84%9d/
END:VEVENT
BEGIN:VEVENT
DTSTART;VALUE=DATE:20251225
DTEND;VALUE=DATE:20251226
DTSTAMP:20260422T063754
CREATED:20251213T030109Z
LAST-MODIFIED:20251213T030109Z
UID:2014-1766620800-1766707199@xn--sk4b78fdsau01b.kr
SUMMARY:별빛02 - 2명\, 바베큐 X // 김O학 (2박)
DESCRIPTION:방: 별빛02\n인원: 2명\n바베큐: X\n예약자: 김O학 (2박)
URL:https://xn--sk4b78fdsau01b.kr/event/%eb%b3%84%eb%b9%9b02-2%eb%aa%85-%eb%b0%94%eb%b2%a0%ed%81%90-x-%ea%b9%80o%ed%95%99-2%eb%b0%95/
END:VEVENT
BEGIN:VEVENT
DTSTART;VALUE=DATE:20251225
DTEND;VALUE=DATE:20251226
DTSTAMP:20260422T063754
CREATED:20251215T105529Z
LAST-MODIFIED:20251215T105529Z
UID:2018-1766620800-1766707199@xn--sk4b78fdsau01b.kr
SUMMARY:패밀리 - 4명\, 바베큐 O // 박O화
DESCRIPTION:방: 패밀리\n인원: 4명\n바베큐: O\n예약자: 박O화
URL:https://xn--sk4b78fdsau01b.kr/event/%ed%8c%a8%eb%b0%80%eb%a6%ac-4%eb%aa%85-%eb%b0%94%eb%b2%a0%ed%81%90-o-%eb%b0%95o%ed%99%94/
END:VEVENT
BEGIN:VEVENT
DTSTART;VALUE=DATE:20251226
DTEND;VALUE=DATE:20251227
DTSTAMP:20260422T063754
CREATED:20251202T095758Z
LAST-MODIFIED:20251202T095758Z
UID:2004-1766707200-1766793599@xn--sk4b78fdsau01b.kr
SUMMARY:패밀리 - 2명\, 바베큐 X // 이O호 AB (2박)
DESCRIPTION:방: 패밀리\n인원: 2명\n바베큐: X\n예약자: 이O호 AB (2박)
URL:https://xn--sk4b78fdsau01b.kr/event/%ed%8c%a8%eb%b0%80%eb%a6%ac-2%eb%aa%85-%eb%b0%94%eb%b2%a0%ed%81%90-x-%ec%9d%b4o%ed%98%b8-ab-2%eb%b0%95/
END:VEVENT
BEGIN:VEVENT
DTSTART;VALUE=DATE:20251226
DTEND;VALUE=DATE:20251227
DTSTAMP:20260422T063754
CREATED:20251210T154007Z
LAST-MODIFIED:20251210T154007Z
UID:2010-1766707200-1766793599@xn--sk4b78fdsau01b.kr
SUMMARY:프리미엄 - 2명\, 바베큐 X // 김O서 (2박)
DESCRIPTION:방: 프리미엄\n인원: 2명\n바베큐: X\n예약자: 김O서 (2박)
URL:https://xn--sk4b78fdsau01b.kr/event/%ed%94%84%eb%a6%ac%eb%af%b8%ec%97%84-2%eb%aa%85-%eb%b0%94%eb%b2%a0%ed%81%90-x-%ea%b9%80o%ec%84%9c-2%eb%b0%95/
END:VEVENT
BEGIN:VEVENT
DTSTART;VALUE=DATE:20251226
DTEND;VALUE=DATE:20251227
DTSTAMP:20260422T063754
CREATED:20251213T030138Z
LAST-MODIFIED:20251213T030138Z
UID:2016-1766707200-1766793599@xn--sk4b78fdsau01b.kr
SUMMARY:별빛02 - 2명\, 바베큐 X // 김O학 (2박)
DESCRIPTION:방: 별빛02\n인원: 2명\n바베큐: X\n예약자: 김O학 (2박)
URL:https://xn--sk4b78fdsau01b.kr/event/%eb%b3%84%eb%b9%9b02-2%eb%aa%85-%eb%b0%94%eb%b2%a0%ed%81%90-x-%ea%b9%80o%ed%95%99-2%eb%b0%95-2/
END:VEVENT
BEGIN:VEVENT
DTSTART;VALUE=DATE:20251226
DTEND;VALUE=DATE:20251227
DTSTAMP:20260422T063754
CREATED:20251215T105607Z
LAST-MODIFIED:20251215T105607Z
UID:2020-1766707200-1766793599@xn--sk4b78fdsau01b.kr
SUMMARY:별빛01 - 2명\, 바베큐 O // 최O임
DESCRIPTION:방: 별빛01\n인원: 2명\n바베큐: O\n예약자: 최O임
URL:https://xn--sk4b78fdsau01b.kr/event/%eb%b3%84%eb%b9%9b01-2%eb%aa%85-%eb%b0%94%eb%b2%a0%ed%81%90-o-%ec%b5%9co%ec%9e%84/
END:VEVENT
BEGIN:VEVENT
DTSTART;VALUE=DATE:20251227
DTEND;VALUE=DATE:20251228
DTSTAMP:20260422T063754
CREATED:20251202T095820Z
LAST-MODIFIED:20251202T095820Z
UID:2006-1766793600-1766879999@xn--sk4b78fdsau01b.kr
SUMMARY:패밀리 - 2명\, 바베큐 X // 이O호 AB (2박)
DESCRIPTION:방: 패밀리\n인원: 2명\n바베큐: X\n예약자: 이O호 AB (2박)
URL:https://xn--sk4b78fdsau01b.kr/event/%ed%8c%a8%eb%b0%80%eb%a6%ac-2%eb%aa%85-%eb%b0%94%eb%b2%a0%ed%81%90-x-%ec%9d%b4o%ed%98%b8-ab-2%eb%b0%95-2/
END:VEVENT
BEGIN:VEVENT
DTSTART;VALUE=DATE:20251227
DTEND;VALUE=DATE:20251228
DTSTAMP:20260422T063754
CREATED:20251224T081719Z
LAST-MODIFIED:20251224T081719Z
UID:2028-1766793600-1766879999@xn--sk4b78fdsau01b.kr
SUMMARY:프리미엄 - 2명\, 바베큐 X // 김O연
DESCRIPTION:방: 프리미엄\n인원: 2명\n바베큐: X\n예약자: 김O연
URL:https://xn--sk4b78fdsau01b.kr/event/%ed%94%84%eb%a6%ac%eb%af%b8%ec%97%84-2%eb%aa%85-%eb%b0%94%eb%b2%a0%ed%81%90-x-%ea%b9%80o%ec%97%b0/
END:VEVENT
BEGIN:VEVENT
DTSTART;VALUE=DATE:20251230
DTEND;VALUE=DATE:20251231
DTSTAMP:20260422T063754
CREATED:20251224T081804Z
LAST-MODIFIED:20251224T081804Z
UID:2030-1767052800-1767139199@xn--sk4b78fdsau01b.kr
SUMMARY:패밀리 - 3명\, 바베큐 X // 최O (AB) 2박
DESCRIPTION:방: 패밀리\n인원: 3명\n바베큐: X\n예약자: 최O (AB) 2박
URL:https://xn--sk4b78fdsau01b.kr/event/%ed%8c%a8%eb%b0%80%eb%a6%ac-3%eb%aa%85-%eb%b0%94%eb%b2%a0%ed%81%90-x-%ec%b5%9co-ab-2%eb%b0%95/
END:VEVENT
BEGIN:VEVENT
DTSTART;VALUE=DATE:20251231
DTEND;VALUE=DATE:20260101
DTSTAMP:20260422T063754
CREATED:20251224T081828Z
LAST-MODIFIED:20251224T081828Z
UID:2032-1767139200-1767225599@xn--sk4b78fdsau01b.kr
SUMMARY:패밀리 - 3명\, 바베큐 X // 최O (AB) 2박
DESCRIPTION:방: 패밀리\n인원: 3명\n바베큐: X\n예약자: 최O (AB) 2박
URL:https://xn--sk4b78fdsau01b.kr/event/%ed%8c%a8%eb%b0%80%eb%a6%ac-3%eb%aa%85-%eb%b0%94%eb%b2%a0%ed%81%90-x-%ec%b5%9co-ab-2%eb%b0%95-2/
END:VEVENT
BEGIN:VEVENT
DTSTART;VALUE=DATE:20251231
DTEND;VALUE=DATE:20260101
DTSTAMP:20260422T063754
CREATED:20251226T063016Z
LAST-MODIFIED:20251226T063016Z
UID:2034-1767139200-1767225599@xn--sk4b78fdsau01b.kr
SUMMARY:프리미엄 - 2명\, 바베큐 X // 이O진
DESCRIPTION:방: 프리미엄\n인원: 2명\n바베큐: X\n예약자: 이O진
URL:https://xn--sk4b78fdsau01b.kr/event/%ed%94%84%eb%a6%ac%eb%af%b8%ec%97%84-2%eb%aa%85-%eb%b0%94%eb%b2%a0%ed%81%90-x-%ec%9d%b4o%ec%a7%84/
END:VEVENT
BEGIN:VEVENT
DTSTART;VALUE=DATE:20260221
DTEND;VALUE=DATE:20260222
DTSTAMP:20260422T063754
CREATED:20260210T030322Z
LAST-MODIFIED:20260210T030322Z
UID:2042-1771632000-1771718399@xn--sk4b78fdsau01b.kr
SUMMARY:패밀리 - 4명\, 바베큐 X // 김O진 (AB)
DESCRIPTION:방: 패밀리\n인원: 4명\n바베큐: X\n예약자: 김O진 (AB)
URL:https://xn--sk4b78fdsau01b.kr/event/%ed%8c%a8%eb%b0%80%eb%a6%ac-4%eb%aa%85-%eb%b0%94%eb%b2%a0%ed%81%90-x-%ea%b9%80o%ec%a7%84-ab/
END:VEVENT
BEGIN:VEVENT
DTSTART;VALUE=DATE:20260228
DTEND;VALUE=DATE:20260301
DTSTAMP:20260422T063754
CREATED:20260222T103443Z
LAST-MODIFIED:20260222T103444Z
UID:2048-1772236800-1772323199@xn--sk4b78fdsau01b.kr
SUMMARY:패밀리 - 4명\, 바베큐 O // 김O영
DESCRIPTION:방: 패밀리\n인원: 4명\n바베큐: O\n예약자: 김O영
URL:https://xn--sk4b78fdsau01b.kr/event/%ed%8c%a8%eb%b0%80%eb%a6%ac-4%eb%aa%85-%eb%b0%94%eb%b2%a0%ed%81%90-o-%ea%b9%80o%ec%98%81/
END:VEVENT
BEGIN:VEVENT
DTSTART;VALUE=DATE:20260228
DTEND;VALUE=DATE:20260301
DTSTAMP:20260422T063754
CREATED:20260222T124734Z
LAST-MODIFIED:20260222T124734Z
UID:2052-1772236800-1772323199@xn--sk4b78fdsau01b.kr
SUMMARY:프리미엄 - 2명\, 바베큐 X // 김O영 (AB)
DESCRIPTION:방: 프리미엄\n인원: 2명\n바베큐: X\n예약자: 김O영 (AB)
URL:https://xn--sk4b78fdsau01b.kr/event/%ed%94%84%eb%a6%ac%eb%af%b8%ec%97%84-2%eb%aa%85-%eb%b0%94%eb%b2%a0%ed%81%90-x-%ea%b9%80o%ec%98%81-ab/
END:VEVENT
BEGIN:VEVENT
DTSTART;VALUE=DATE:20260301
DTEND;VALUE=DATE:20260302
DTSTAMP:20260422T063754
CREATED:20260204T090025Z
LAST-MODIFIED:20260204T090025Z
UID:2036-1772323200-1772409599@xn--sk4b78fdsau01b.kr
SUMMARY:별빛01 - 2명\, 바베큐 X // 무O장
DESCRIPTION:방: 별빛01\n인원: 2명\n바베큐: X\n예약자: 무O장
URL:https://xn--sk4b78fdsau01b.kr/event/%eb%b3%84%eb%b9%9b01-2%eb%aa%85-%eb%b0%94%eb%b2%a0%ed%81%90-x-%eb%ac%b4o%ec%9e%a5-2/
END:VEVENT
BEGIN:VEVENT
DTSTART;VALUE=DATE:20260301
DTEND;VALUE=DATE:20260302
DTSTAMP:20260422T063754
CREATED:20260204T090049Z
LAST-MODIFIED:20260204T090049Z
UID:2038-1772323200-1772409599@xn--sk4b78fdsau01b.kr
SUMMARY:별빛02 - 2명\, 바베큐 X // 무O장
DESCRIPTION:방: 별빛02\n인원: 2명\n바베큐: X\n예약자: 무O장
URL:https://xn--sk4b78fdsau01b.kr/event/%eb%b3%84%eb%b9%9b02-2%eb%aa%85-%eb%b0%94%eb%b2%a0%ed%81%90-x-%eb%ac%b4o%ec%9e%a5/
END:VEVENT
BEGIN:VEVENT
DTSTART;VALUE=DATE:20260301
DTEND;VALUE=DATE:20260302
DTSTAMP:20260422T063754
CREATED:20260204T090110Z
LAST-MODIFIED:20260204T090110Z
UID:2040-1772323200-1772409599@xn--sk4b78fdsau01b.kr
SUMMARY:패밀리 - 2명\, 바베큐 X // 무O장
DESCRIPTION:방: 패밀리\n인원: 2명\n바베큐: X\n예약자: 무O장
URL:https://xn--sk4b78fdsau01b.kr/event/%ed%8c%a8%eb%b0%80%eb%a6%ac-2%eb%aa%85-%eb%b0%94%eb%b2%a0%ed%81%90-x-%eb%ac%b4o%ec%9e%a5/
END:VEVENT
BEGIN:VEVENT
DTSTART;VALUE=DATE:20260301
DTEND;VALUE=DATE:20260302
DTSTAMP:20260422T063754
CREATED:20260221T064652Z
LAST-MODIFIED:20260221T064652Z
UID:2046-1772323200-1772409599@xn--sk4b78fdsau01b.kr
SUMMARY:프리미엄 - 2명\, 바베큐 X // 이O준 (AB)
DESCRIPTION:방: 프리미엄\n인원: 2명\n바베큐: X\n예약자: 이O준 (AB)
URL:https://xn--sk4b78fdsau01b.kr/event/%ed%94%84%eb%a6%ac%eb%af%b8%ec%97%84-2%eb%aa%85-%eb%b0%94%eb%b2%a0%ed%81%90-x-%ec%9d%b4o%ec%a4%80-ab/
END:VEVENT
BEGIN:VEVENT
DTSTART;VALUE=DATE:20260307
DTEND;VALUE=DATE:20260308
DTSTAMP:20260422T063754
CREATED:20260302T103821Z
LAST-MODIFIED:20260302T103821Z
UID:2064-1772841600-1772927999@xn--sk4b78fdsau01b.kr
SUMMARY:프리미엄 - 2명\, 바베큐 O // 이O호
DESCRIPTION:방: 프리미엄\n인원: 2명\n바베큐: O\n예약자: 이O호
URL:https://xn--sk4b78fdsau01b.kr/event/%ed%94%84%eb%a6%ac%eb%af%b8%ec%97%84-2%eb%aa%85-%eb%b0%94%eb%b2%a0%ed%81%90-o-%ec%9d%b4o%ed%98%b8/
END:VEVENT
BEGIN:VEVENT
DTSTART;VALUE=DATE:20260315
DTEND;VALUE=DATE:20260316
DTSTAMP:20260422T063754
CREATED:20260315T030645Z
LAST-MODIFIED:20260315T030645Z
UID:2076-1773532800-1773619199@xn--sk4b78fdsau01b.kr
SUMMARY:별빛01 - 2명\, 바베큐 X // 김O경
DESCRIPTION:방: 별빛01\n인원: 2명\n바베큐: X\n예약자: 김O경
URL:https://xn--sk4b78fdsau01b.kr/event/%eb%b3%84%eb%b9%9b01-2%eb%aa%85-%eb%b0%94%eb%b2%a0%ed%81%90-x-%ea%b9%80o%ea%b2%bd/
END:VEVENT
BEGIN:VEVENT
DTSTART;VALUE=DATE:20260321
DTEND;VALUE=DATE:20260322
DTSTAMP:20260422T063754
CREATED:20260318T050723Z
LAST-MODIFIED:20260318T050723Z
UID:2080-1774051200-1774137599@xn--sk4b78fdsau01b.kr
SUMMARY:프리미엄 - 2명\, 바베큐 X // 김O솔
DESCRIPTION:방: 프리미엄\n인원: 2명\n바베큐: X\n예약자: 김O솔
URL:https://xn--sk4b78fdsau01b.kr/event/%ed%94%84%eb%a6%ac%eb%af%b8%ec%97%84-2%eb%aa%85-%eb%b0%94%eb%b2%a0%ed%81%90-x-%ea%b9%80o%ec%86%94/
END:VEVENT
END:VCALENDAR