BEGIN:VCALENDAR
VERSION:2.0
PRODID:-//별빛좋은펜션 - ECPv6.10.1.1//NONSGML v1.0//EN
CALSCALE:GREGORIAN
METHOD:PUBLISH
X-WR-CALNAME:별빛좋은펜션
X-ORIGINAL-URL:https://xn--sk4b78fdsau01b.kr
X-WR-CALDESC:별빛좋은펜션 이벤트
REFRESH-INTERVAL;VALUE=DURATION:PT1H
X-Robots-Tag:noindex
X-PUBLISHED-TTL:PT1H
BEGIN:VTIMEZONE
TZID:Asia/Seoul
BEGIN:STANDARD
TZOFFSETFROM:+0900
TZOFFSETTO:+0900
TZNAME:KST
DTSTART:20250101T000000
END:STANDARD
END:VTIMEZONE
BEGIN:VEVENT
DTSTART;VALUE=DATE:20251010
DTEND;VALUE=DATE:20251011
DTSTAMP:20260422T110350
CREATED:20251010T030606Z
LAST-MODIFIED:20251010T030606Z
UID:1940-1760054400-1760140799@xn--sk4b78fdsau01b.kr
SUMMARY:별빛01 - 2명\, 바베큐 O // 이O식 (2박)
DESCRIPTION:방: 별빛01\n인원: 2명\n바베큐: O\n예약자: 이O식 (2박)
URL:https://xn--sk4b78fdsau01b.kr/event/%eb%b3%84%eb%b9%9b01-2%eb%aa%85-%eb%b0%94%eb%b2%a0%ed%81%90-o-%ec%9d%b4o%ec%8b%9d-2%eb%b0%95/
END:VEVENT
BEGIN:VEVENT
DTSTART;VALUE=DATE:20251010
DTEND;VALUE=DATE:20251011
DTSTAMP:20260422T110350
CREATED:20251010T030459Z
LAST-MODIFIED:20251010T030459Z
UID:1938-1760054400-1760140799@xn--sk4b78fdsau01b.kr
SUMMARY:프리미엄 - 2명\, 바베큐 X // 김O람 (2박)
DESCRIPTION:방: 프리미엄\n인원: 2명\n바베큐: X\n예약자: 김O람 (2박)
URL:https://xn--sk4b78fdsau01b.kr/event/%ed%94%84%eb%a6%ac%eb%af%b8%ec%97%84-2%eb%aa%85-%eb%b0%94%eb%b2%a0%ed%81%90-x-%ea%b9%80o%eb%9e%8c-2%eb%b0%95-2/
END:VEVENT
BEGIN:VEVENT
DTSTART;VALUE=DATE:20251010
DTEND;VALUE=DATE:20251011
DTSTAMP:20260422T110350
CREATED:20250923T042713Z
LAST-MODIFIED:20250923T042713Z
UID:1908-1760054400-1760140799@xn--sk4b78fdsau01b.kr
SUMMARY:프리미엄 - 2명\, 바베큐 X // 김O람 (2박)
DESCRIPTION:방: 프리미엄\n인원: 2명\n바베큐: X\n예약자: 김O람 (2박)
URL:https://xn--sk4b78fdsau01b.kr/event/%ed%94%84%eb%a6%ac%eb%af%b8%ec%97%84-2%eb%aa%85-%eb%b0%94%eb%b2%a0%ed%81%90-x-%ea%b9%80o%eb%9e%8c-2%eb%b0%95/
END:VEVENT
BEGIN:VEVENT
DTSTART;VALUE=DATE:20251010
DTEND;VALUE=DATE:20251011
DTSTAMP:20260422T110350
CREATED:20250906T061228Z
LAST-MODIFIED:20250906T061228Z
UID:1868-1760054400-1760140799@xn--sk4b78fdsau01b.kr
SUMMARY:패밀리 - 4명\, 바베큐 O // 조O정
DESCRIPTION:방: 패밀리\n인원: 4명\n바베큐: O\n예약자: 조O정
URL:https://xn--sk4b78fdsau01b.kr/event/%ed%8c%a8%eb%b0%80%eb%a6%ac-4%eb%aa%85-%eb%b0%94%eb%b2%a0%ed%81%90-o-%ec%a1%b0o%ec%a0%95/
END:VEVENT
BEGIN:VEVENT
DTSTART;VALUE=DATE:20251009
DTEND;VALUE=DATE:20251010
DTSTAMP:20260422T110350
CREATED:20251010T030439Z
LAST-MODIFIED:20251010T030439Z
UID:1936-1759968000-1760054399@xn--sk4b78fdsau01b.kr
SUMMARY:프리미엄 - 2명\, 바베큐 O // 김O람 (2박)
DESCRIPTION:방: 프리미엄\n인원: 2명\n바베큐: O\n예약자: 김O람 (2박)
URL:https://xn--sk4b78fdsau01b.kr/event/%ed%94%84%eb%a6%ac%eb%af%b8%ec%97%84-2%eb%aa%85-%eb%b0%94%eb%b2%a0%ed%81%90-o-%ea%b9%80o%eb%9e%8c-2%eb%b0%95-2/
END:VEVENT
BEGIN:VEVENT
DTSTART;VALUE=DATE:20251009
DTEND;VALUE=DATE:20251010
DTSTAMP:20260422T110350
CREATED:20250923T042649Z
LAST-MODIFIED:20250923T042649Z
UID:1906-1759968000-1760054399@xn--sk4b78fdsau01b.kr
SUMMARY:프리미엄 - 2명\, 바베큐 O // 김O람 (2박)
DESCRIPTION:방: 프리미엄\n인원: 2명\n바베큐: O\n예약자: 김O람 (2박)
URL:https://xn--sk4b78fdsau01b.kr/event/%ed%94%84%eb%a6%ac%eb%af%b8%ec%97%84-2%eb%aa%85-%eb%b0%94%eb%b2%a0%ed%81%90-o-%ea%b9%80o%eb%9e%8c-2%eb%b0%95/
END:VEVENT
BEGIN:VEVENT
DTSTART;VALUE=DATE:20251008
DTEND;VALUE=DATE:20251009
DTSTAMP:20260422T110350
CREATED:20250928T131641Z
LAST-MODIFIED:20250928T131641Z
UID:1922-1759881600-1759967999@xn--sk4b78fdsau01b.kr
SUMMARY:패밀리 - 4명\, 바베큐 X // 최O호
DESCRIPTION:방: 패밀리\n인원: 4명\n바베큐: X\n예약자: 최O호
URL:https://xn--sk4b78fdsau01b.kr/event/%ed%8c%a8%eb%b0%80%eb%a6%ac-4%eb%aa%85-%eb%b0%94%eb%b2%a0%ed%81%90-x-%ec%b5%9co%ed%98%b8-2/
END:VEVENT
BEGIN:VEVENT
DTSTART;VALUE=DATE:20251008
DTEND;VALUE=DATE:20251009
DTSTAMP:20260422T110350
CREATED:20250925T084653Z
LAST-MODIFIED:20250925T084653Z
UID:1916-1759881600-1759967999@xn--sk4b78fdsau01b.kr
SUMMARY:별빛01 - 2명\, 바베큐 X // 이O택
DESCRIPTION:방: 별빛01\n인원: 2명\n바베큐: X\n예약자: 이O택
URL:https://xn--sk4b78fdsau01b.kr/event/%eb%b3%84%eb%b9%9b01-2%eb%aa%85-%eb%b0%94%eb%b2%a0%ed%81%90-x-%ec%9d%b4o%ed%83%9d/
END:VEVENT
BEGIN:VEVENT
DTSTART;VALUE=DATE:20251008
DTEND;VALUE=DATE:20251009
DTSTAMP:20260422T110350
CREATED:20250924T153140Z
LAST-MODIFIED:20250924T153140Z
UID:1914-1759881600-1759967999@xn--sk4b78fdsau01b.kr
SUMMARY:별빛02 - 2명\, 바베큐 X // 황O웅 (2박)
DESCRIPTION:방: 별빛02\n인원: 2명\n바베큐: X\n예약자: 황O웅 (2박)
URL:https://xn--sk4b78fdsau01b.kr/event/%eb%b3%84%eb%b9%9b02-2%eb%aa%85-%eb%b0%94%eb%b2%a0%ed%81%90-x-%ed%99%a9o%ec%9b%85-2%eb%b0%95/
END:VEVENT
BEGIN:VEVENT
DTSTART;VALUE=DATE:20251008
DTEND;VALUE=DATE:20251009
DTSTAMP:20260422T110350
CREATED:20250817T070942Z
LAST-MODIFIED:20250817T070943Z
UID:1822-1759881600-1759967999@xn--sk4b78fdsau01b.kr
SUMMARY:프리미엄 - 2명\, 바베큐 X // 지O비 (2박)
DESCRIPTION:방: 프리미엄\n인원: 2명\n바베큐: X\n예약자: 지O비 (2박)
URL:https://xn--sk4b78fdsau01b.kr/event/%ed%94%84%eb%a6%ac%eb%af%b8%ec%97%84-2%eb%aa%85-%eb%b0%94%eb%b2%a0%ed%81%90-x-%ec%a7%80o%eb%b9%84-2%eb%b0%95/
END:VEVENT
BEGIN:VEVENT
DTSTART;VALUE=DATE:20251007
DTEND;VALUE=DATE:20251008
DTSTAMP:20260422T110350
CREATED:20250924T153113Z
LAST-MODIFIED:20250924T153113Z
UID:1912-1759795200-1759881599@xn--sk4b78fdsau01b.kr
SUMMARY:별빛02 - 2명\, 바베큐 O // 황O웅 (2박)
DESCRIPTION:방: 별빛02\n인원: 2명\n바베큐: O\n예약자: 황O웅 (2박)
URL:https://xn--sk4b78fdsau01b.kr/event/%eb%b3%84%eb%b9%9b02-2%eb%aa%85-%eb%b0%94%eb%b2%a0%ed%81%90-o-%ed%99%a9o%ec%9b%85-2%eb%b0%95/
END:VEVENT
BEGIN:VEVENT
DTSTART;VALUE=DATE:20251007
DTEND;VALUE=DATE:20251008
DTSTAMP:20260422T110350
CREATED:20250817T070917Z
LAST-MODIFIED:20250817T070918Z
UID:1820-1759795200-1759881599@xn--sk4b78fdsau01b.kr
SUMMARY:프리미엄 - 2명\, 바베큐 O // 지O비 (2박)
DESCRIPTION:방: 프리미엄\n인원: 2명\n바베큐: O\n예약자: 지O비 (2박)
URL:https://xn--sk4b78fdsau01b.kr/event/%ed%94%84%eb%a6%ac%eb%af%b8%ec%97%84-2%eb%aa%85-%eb%b0%94%eb%b2%a0%ed%81%90-o-%ec%a7%80o%eb%b9%84-2%eb%b0%95/
END:VEVENT
BEGIN:VEVENT
DTSTART;VALUE=DATE:20251007
DTEND;VALUE=DATE:20251008
DTSTAMP:20260422T110350
CREATED:20250804T154413Z
LAST-MODIFIED:20250804T154413Z
UID:1794-1759795200-1759881599@xn--sk4b78fdsau01b.kr
SUMMARY:별빛01 - 3명\, 바베큐 X // 강O희
DESCRIPTION:방: 별빛01\n인원: 3명\n바베큐: X\n예약자: 강O희
URL:https://xn--sk4b78fdsau01b.kr/event/%eb%b3%84%eb%b9%9b01-3%eb%aa%85-%eb%b0%94%eb%b2%a0%ed%81%90-x-%ea%b0%95o%ed%9d%ac/
END:VEVENT
BEGIN:VEVENT
DTSTART;VALUE=DATE:20251007
DTEND;VALUE=DATE:20251008
DTSTAMP:20260422T110350
CREATED:20250804T154308Z
LAST-MODIFIED:20250804T154308Z
UID:1792-1759795200-1759881599@xn--sk4b78fdsau01b.kr
SUMMARY:패밀리 - 4명\, 바베큐 X // 강O희
DESCRIPTION:방: 패밀리\n인원: 4명\n바베큐: X\n예약자: 강O희
URL:https://xn--sk4b78fdsau01b.kr/event/%ed%8c%a8%eb%b0%80%eb%a6%ac-4%eb%aa%85-%eb%b0%94%eb%b2%a0%ed%81%90-x-%ea%b0%95o%ed%9d%ac/
END:VEVENT
BEGIN:VEVENT
DTSTART;VALUE=DATE:20251006
DTEND;VALUE=DATE:20251007
DTSTAMP:20260422T110350
CREATED:20250921T053943Z
LAST-MODIFIED:20250921T053944Z
UID:1898-1759708800-1759795199@xn--sk4b78fdsau01b.kr
SUMMARY:별빛02 - 2명\, 바베큐 X // 이O민
DESCRIPTION:방: 별빛02\n인원: 2명\n바베큐: X\n예약자: 이O민
URL:https://xn--sk4b78fdsau01b.kr/event/%eb%b3%84%eb%b9%9b02-2%eb%aa%85-%eb%b0%94%eb%b2%a0%ed%81%90-x-%ec%9d%b4o%eb%af%bc/
END:VEVENT
BEGIN:VEVENT
DTSTART;VALUE=DATE:20251006
DTEND;VALUE=DATE:20251007
DTSTAMP:20260422T110350
CREATED:20250807T093837Z
LAST-MODIFIED:20250807T093837Z
UID:1796-1759708800-1759795199@xn--sk4b78fdsau01b.kr
SUMMARY:패밀리 - 3명\, 바베큐 O // 황O영
DESCRIPTION:방: 패밀리\n인원: 3명\n바베큐: O\n예약자: 황O영
URL:https://xn--sk4b78fdsau01b.kr/event/%ed%8c%a8%eb%b0%80%eb%a6%ac-3%eb%aa%85-%eb%b0%94%eb%b2%a0%ed%81%90-o-%ed%99%a9o%ec%98%81/
END:VEVENT
BEGIN:VEVENT
DTSTART;VALUE=DATE:20251005
DTEND;VALUE=DATE:20251006
DTSTAMP:20260422T110350
CREATED:20250926T090530Z
LAST-MODIFIED:20250926T090530Z
UID:1920-1759622400-1759708799@xn--sk4b78fdsau01b.kr
SUMMARY:별빛01 - 2명\, 바베큐 X // 이O원
DESCRIPTION:방: 별빛01\n인원: 2명\n바베큐: X\n예약자: 이O원
URL:https://xn--sk4b78fdsau01b.kr/event/%eb%b3%84%eb%b9%9b01-2%eb%aa%85-%eb%b0%94%eb%b2%a0%ed%81%90-x-%ec%9d%b4o%ec%9b%90/
END:VEVENT
BEGIN:VEVENT
DTSTART;VALUE=DATE:20251005
DTEND;VALUE=DATE:20251006
DTSTAMP:20260422T110350
CREATED:20250831T162013Z
LAST-MODIFIED:20250831T162013Z
UID:1856-1759622400-1759708799@xn--sk4b78fdsau01b.kr
SUMMARY:프리미엄 - 2명\, 바베큐 X // 박O은(2박) AB
DESCRIPTION:방: 프리미엄\n인원: 2명\n바베큐: X\n예약자: 박O은(2박) AB
URL:https://xn--sk4b78fdsau01b.kr/event/%ed%94%84%eb%a6%ac%eb%af%b8%ec%97%84-2%eb%aa%85-%eb%b0%94%eb%b2%a0%ed%81%90-x-%eb%b0%95o%ec%9d%802%eb%b0%95-ab/
END:VEVENT
BEGIN:VEVENT
DTSTART;VALUE=DATE:20251004
DTEND;VALUE=DATE:20251005
DTSTAMP:20260422T110350
CREATED:20250925T103238Z
LAST-MODIFIED:20250925T103238Z
UID:1918-1759536000-1759622399@xn--sk4b78fdsau01b.kr
SUMMARY:별빛01 - 2명\, 바베큐 O // 황O시
DESCRIPTION:방: 별빛01\n인원: 2명\n바베큐: O\n예약자: 황O시
URL:https://xn--sk4b78fdsau01b.kr/event/%eb%b3%84%eb%b9%9b01-2%eb%aa%85-%eb%b0%94%eb%b2%a0%ed%81%90-o-%ed%99%a9o%ec%8b%9c/
END:VEVENT
BEGIN:VEVENT
DTSTART;VALUE=DATE:20251004
DTEND;VALUE=DATE:20251005
DTSTAMP:20260422T110350
CREATED:20250831T162115Z
LAST-MODIFIED:20250831T162115Z
UID:1858-1759536000-1759622399@xn--sk4b78fdsau01b.kr
SUMMARY:프리미엄 - 2명\, 바베큐 X // 박O은(2박) AB
DESCRIPTION:방: 프리미엄\n인원: 2명\n바베큐: X\n예약자: 박O은(2박) AB
URL:https://xn--sk4b78fdsau01b.kr/event/%ed%94%84%eb%a6%ac%eb%af%b8%ec%97%84-2%eb%aa%85-%eb%b0%94%eb%b2%a0%ed%81%90-x-%eb%b0%95o%ec%9d%802%eb%b0%95-ab-2/
END:VEVENT
BEGIN:VEVENT
DTSTART;VALUE=DATE:20251004
DTEND;VALUE=DATE:20251005
DTSTAMP:20260422T110350
CREATED:20250810T063024Z
LAST-MODIFIED:20250810T063024Z
UID:1808-1759536000-1759622399@xn--sk4b78fdsau01b.kr
SUMMARY:패밀리 - 4명\, 바베큐 X // 신O은
DESCRIPTION:방: 패밀리\n인원: 4명\n바베큐: X\n예약자: 신O은
URL:https://xn--sk4b78fdsau01b.kr/event/%ed%8c%a8%eb%b0%80%eb%a6%ac-4%eb%aa%85-%eb%b0%94%eb%b2%a0%ed%81%90-x-%ec%8b%a0o%ec%9d%80/
END:VEVENT
BEGIN:VEVENT
DTSTART;VALUE=DATE:20251003
DTEND;VALUE=DATE:20251004
DTSTAMP:20260422T110350
CREATED:20250923T011233Z
LAST-MODIFIED:20250923T011233Z
UID:1904-1759449600-1759535999@xn--sk4b78fdsau01b.kr
SUMMARY:별빛02 - 2명\, 바베큐 O // 김O리나
DESCRIPTION:방: 별빛02\n인원: 2명\n바베큐: O\n예약자: 김O리나
URL:https://xn--sk4b78fdsau01b.kr/event/%eb%b3%84%eb%b9%9b02-2%eb%aa%85-%eb%b0%94%eb%b2%a0%ed%81%90-o-%ea%b9%80o%eb%a6%ac%eb%82%98/
END:VEVENT
BEGIN:VEVENT
DTSTART;VALUE=DATE:20251003
DTEND;VALUE=DATE:20251004
DTSTAMP:20260422T110350
CREATED:20250922T160015Z
LAST-MODIFIED:20250922T160015Z
UID:1902-1759449600-1759535999@xn--sk4b78fdsau01b.kr
SUMMARY:프리미엄 - 2명\, 바베큐 O // 이O우
DESCRIPTION:방: 프리미엄\n인원: 2명\n바베큐: O\n예약자: 이O우
URL:https://xn--sk4b78fdsau01b.kr/event/%ed%94%84%eb%a6%ac%eb%af%b8%ec%97%84-2%eb%aa%85-%eb%b0%94%eb%b2%a0%ed%81%90-o-%ec%9d%b4o%ec%9a%b0/
END:VEVENT
BEGIN:VEVENT
DTSTART;VALUE=DATE:20251003
DTEND;VALUE=DATE:20251004
DTSTAMP:20260422T110350
CREATED:20250909T020415Z
LAST-MODIFIED:20250909T020415Z
UID:1878-1759449600-1759535999@xn--sk4b78fdsau01b.kr
SUMMARY:별빛01 - 3명\, 바베큐 X // 심O보
DESCRIPTION:방: 별빛01\n인원: 3명\n바베큐: X\n예약자: 심O보
URL:https://xn--sk4b78fdsau01b.kr/event/%eb%b3%84%eb%b9%9b01-3%eb%aa%85-%eb%b0%94%eb%b2%a0%ed%81%90-x-%ec%8b%aco%eb%b3%b4/
END:VEVENT
BEGIN:VEVENT
DTSTART;VALUE=DATE:20251003
DTEND;VALUE=DATE:20251004
DTSTAMP:20260422T110350
CREATED:20250824T091517Z
LAST-MODIFIED:20250824T091517Z
UID:1842-1759449600-1759535999@xn--sk4b78fdsau01b.kr
SUMMARY:패밀리 - 3명\, 바베큐 O // 윤O영
DESCRIPTION:방: 패밀리\n인원: 3명\n바베큐: O\n예약자: 윤O영
URL:https://xn--sk4b78fdsau01b.kr/event/%ed%8c%a8%eb%b0%80%eb%a6%ac-3%eb%aa%85-%eb%b0%94%eb%b2%a0%ed%81%90-o-%ec%9c%a4o%ec%98%81/
END:VEVENT
BEGIN:VEVENT
DTSTART;VALUE=DATE:20251002
DTEND;VALUE=DATE:20251003
DTSTAMP:20260422T110350
CREATED:20250924T052205Z
LAST-MODIFIED:20250924T052205Z
UID:1910-1759363200-1759449599@xn--sk4b78fdsau01b.kr
SUMMARY:별빛02 - 1명\, 바베큐 X // 정O원
DESCRIPTION:방: 별빛02\n인원: 1명\n바베큐: X\n예약자: 정O원
URL:https://xn--sk4b78fdsau01b.kr/event/%eb%b3%84%eb%b9%9b02-1%eb%aa%85-%eb%b0%94%eb%b2%a0%ed%81%90-x-%ec%a0%95o%ec%9b%90/
END:VEVENT
BEGIN:VEVENT
DTSTART;VALUE=DATE:20250927
DTEND;VALUE=DATE:20250928
DTSTAMP:20260422T110350
CREATED:20250922T013730Z
LAST-MODIFIED:20250922T013730Z
UID:1900-1758931200-1759017599@xn--sk4b78fdsau01b.kr
SUMMARY:별빛01 - 3명\, 바베큐 O // 장O호
DESCRIPTION:방: 별빛01\n인원: 3명\n바베큐: O\n예약자: 장O호
URL:https://xn--sk4b78fdsau01b.kr/event/%eb%b3%84%eb%b9%9b01-3%eb%aa%85-%eb%b0%94%eb%b2%a0%ed%81%90-o-%ec%9e%a5o%ed%98%b8/
END:VEVENT
BEGIN:VEVENT
DTSTART;VALUE=DATE:20250927
DTEND;VALUE=DATE:20250928
DTSTAMP:20260422T110350
CREATED:20250921T053021Z
LAST-MODIFIED:20250921T053021Z
UID:1896-1758931200-1759017599@xn--sk4b78fdsau01b.kr
SUMMARY:별빛02 - 2명\, 바베큐 X // 홍O숙 (무통장)
DESCRIPTION:방: 별빛02\n인원: 2명\n바베큐: X\n예약자: 홍O숙 (무통장)
URL:https://xn--sk4b78fdsau01b.kr/event/%eb%b3%84%eb%b9%9b02-2%eb%aa%85-%eb%b0%94%eb%b2%a0%ed%81%90-x-%ed%99%8do%ec%88%99-%eb%ac%b4%ed%86%b5%ec%9e%a5/
END:VEVENT
BEGIN:VEVENT
DTSTART;VALUE=DATE:20250927
DTEND;VALUE=DATE:20250928
DTSTAMP:20260422T110350
CREATED:20250917T151018Z
LAST-MODIFIED:20250917T151018Z
UID:1890-1758931200-1759017599@xn--sk4b78fdsau01b.kr
SUMMARY:패밀리 - 4명\, 바베큐 O // 임O혁
DESCRIPTION:방: 패밀리\n인원: 4명\n바베큐: O\n예약자: 임O혁
URL:https://xn--sk4b78fdsau01b.kr/event/%ed%8c%a8%eb%b0%80%eb%a6%ac-4%eb%aa%85-%eb%b0%94%eb%b2%a0%ed%81%90-o-%ec%9e%84o%ed%98%81/
END:VEVENT
BEGIN:VEVENT
DTSTART;VALUE=DATE:20250927
DTEND;VALUE=DATE:20250928
DTSTAMP:20260422T110350
CREATED:20250914T103510Z
LAST-MODIFIED:20250914T103510Z
UID:1886-1758931200-1759017599@xn--sk4b78fdsau01b.kr
SUMMARY:프리미엄 - 2명\, 바베큐 O // 김O수
DESCRIPTION:방: 프리미엄\n인원: 2명\n바베큐: O\n예약자: 김O수
URL:https://xn--sk4b78fdsau01b.kr/event/%ed%94%84%eb%a6%ac%eb%af%b8%ec%97%84-2%eb%aa%85-%eb%b0%94%eb%b2%a0%ed%81%90-o-%ea%b9%80o%ec%88%98/
END:VEVENT
END:VCALENDAR